BEGIN:VCALENDAR
VERSION:2.0
PRODID:-//Paroisses catholiques du Montargois - ECPv6.15.20//NONSGML v1.0//EN
CALSCALE:GREGORIAN
METHOD:PUBLISH
X-WR-CALNAME:Paroisses catholiques du Montargois
X-ORIGINAL-URL:https://eglise-montargis.fr
X-WR-CALDESC:Évènements pour Paroisses catholiques du Montargois
REFRESH-INTERVAL;VALUE=DURATION:PT1H
X-Robots-Tag:noindex
X-PUBLISHED-TTL:PT1H
BEGIN:VTIMEZONE
TZID:Europe/Paris
BEGIN:DAYLIGHT
TZOFFSETFROM:+0100
TZOFFSETTO:+0200
TZNAME:CEST
DTSTART:20200329T010000
END:DAYLIGHT
BEGIN:STANDARD
TZOFFSETFROM:+0200
TZOFFSETTO:+0100
TZNAME:CET
DTSTART:20201025T010000
END:STANDARD
BEGIN:DAYLIGHT
TZOFFSETFROM:+0100
TZOFFSETTO:+0200
TZNAME:CEST
DTSTART:20210328T010000
END:DAYLIGHT
BEGIN:STANDARD
TZOFFSETFROM:+0200
TZOFFSETTO:+0100
TZNAME:CET
DTSTART:20211031T010000
END:STANDARD
BEGIN:DAYLIGHT
TZOFFSETFROM:+0100
TZOFFSETTO:+0200
TZNAME:CEST
DTSTART:20220327T010000
END:DAYLIGHT
BEGIN:STANDARD
TZOFFSETFROM:+0200
TZOFFSETTO:+0100
TZNAME:CET
DTSTART:20221030T010000
END:STANDARD
END:VTIMEZONE
BEGIN:VEVENT
DTSTART;TZID=Europe/Paris:20210912T100000
DTEND;TZID=Europe/Paris:20210912T160000
DTSTAMP:20260424T035447
CREATED:20210902T192533Z
LAST-MODIFIED:20210902T192552Z
UID:12584-1631440800-1631462400@eglise-montargis.fr
SUMMARY:Rentrée des Guides et Scouts d'Europe
DESCRIPTION:La rentrée des Guides et Scouts d’Europe du Loiret aura lieu le :  \nDimanche 12 septembre 2021 à 10h00  \nChez Monsieur et Madame Le Grelle\, La Fortinière à Ouzouer sur Loire \n(en venant d’Orléans\, c’est un chemin de terre à droite au niveau du panneau « oeufs bio »). \n  \nProgramme de la journée : \n10h00 : Arrivée et accueil des nouvelles familles. Se diriger vers la pancarte correspondant au groupe dans lequel votre enfant sera accueilli. \n10h30 : Grand Rassemblement avec appel des nouveaux. \n11h00 : Montées des louveteaux et des louvettes à la Troupe et à la Compagnie. \n12h00 : Présentation du mouvement par les commissaires de district /Début du pique-nique pour les unités (prévoir un pique-nique pour chacun de vos enfants). \n12h30 : Apéritif des parents et Pique-nique tiré du sac. \n13h00 : Jeux pour les unités \n13h30 : Inscriptions auprès des chefs de groupe \n14h30 : Messe célébrée par le père Julien DUMONT (conseiller religieux du district) \n 
URL:https://eglise-montargis.fr/evenement/rentree-des-guides-et-scouts-deurope/
ATTACH;FMTTYPE=image/jpeg:https://eglise-montargis.fr/wp-content/uploads/2021/09/logo-GSDE.jpg
END:VEVENT
END:VCALENDAR