BEGIN:VCALENDAR
VERSION:2.0
PRODID:-//Paroisses catholiques du Montargois - ECPv6.15.20//NONSGML v1.0//EN
CALSCALE:GREGORIAN
METHOD:PUBLISH
X-ORIGINAL-URL:https://eglise-montargis.fr
X-WR-CALDESC:Évènements pour Paroisses catholiques du Montargois
REFRESH-INTERVAL;VALUE=DURATION:PT1H
X-Robots-Tag:noindex
X-PUBLISHED-TTL:PT1H
BEGIN:VTIMEZONE
TZID:Europe/Paris
BEGIN:DAYLIGHT
TZOFFSETFROM:+0100
TZOFFSETTO:+0200
TZNAME:CEST
DTSTART:20200329T010000
END:DAYLIGHT
BEGIN:STANDARD
TZOFFSETFROM:+0200
TZOFFSETTO:+0100
TZNAME:CET
DTSTART:20201025T010000
END:STANDARD
BEGIN:DAYLIGHT
TZOFFSETFROM:+0100
TZOFFSETTO:+0200
TZNAME:CEST
DTSTART:20210328T010000
END:DAYLIGHT
BEGIN:STANDARD
TZOFFSETFROM:+0200
TZOFFSETTO:+0100
TZNAME:CET
DTSTART:20211031T010000
END:STANDARD
BEGIN:DAYLIGHT
TZOFFSETFROM:+0100
TZOFFSETTO:+0200
TZNAME:CEST
DTSTART:20220327T010000
END:DAYLIGHT
BEGIN:STANDARD
TZOFFSETFROM:+0200
TZOFFSETTO:+0100
TZNAME:CET
DTSTART:20221030T010000
END:STANDARD
END:VTIMEZONE
BEGIN:VEVENT
DTSTART;TZID=Europe/Paris:20211211T090000
DTEND;TZID=Europe/Paris:20211211T113000
DTSTAMP:20260424T005025
CREATED:20211107T213313Z
LAST-MODIFIED:20211116T180851Z
UID:13294-1639213200-1639222200@eglise-montargis.fr
SUMMARY:Parcours Alpha parents 3/5
DESCRIPTION:S’inscrire sur alphamontargis@gmail.com \nPossibilité de garde d’enfants \ncontact: 06 86 69 70 02
URL:https://eglise-montargis.fr/evenement/parcours-alpha-parents-3-5/
END:VEVENT
BEGIN:VEVENT
DTSTART;TZID=Europe/Paris:20211211T100000
DTEND;TZID=Europe/Paris:20211211T120000
DTSTAMP:20260424T005025
CREATED:20211206T190546Z
LAST-MODIFIED:20211206T190546Z
UID:13488-1639216800-1639224000@eglise-montargis.fr
SUMMARY:Éveil à la foi
DESCRIPTION:
URL:https://eglise-montargis.fr/evenement/eveil-a-la-foi-23/
LOCATION:presbytère de Corbeilles
END:VEVENT
END:VCALENDAR