BEGIN:VCALENDAR
VERSION:2.0
PRODID:-//Paroisses catholiques du Montargois - ECPv6.15.20//NONSGML v1.0//EN
CALSCALE:GREGORIAN
METHOD:PUBLISH
X-ORIGINAL-URL:https://eglise-montargis.fr
X-WR-CALDESC:Évènements pour Paroisses catholiques du Montargois
REFRESH-INTERVAL;VALUE=DURATION:PT1H
X-Robots-Tag:noindex
X-PUBLISHED-TTL:PT1H
BEGIN:VTIMEZONE
TZID:Europe/Paris
BEGIN:DAYLIGHT
TZOFFSETFROM:+0100
TZOFFSETTO:+0200
TZNAME:CEST
DTSTART:20210328T010000
END:DAYLIGHT
BEGIN:STANDARD
TZOFFSETFROM:+0200
TZOFFSETTO:+0100
TZNAME:CET
DTSTART:20211031T010000
END:STANDARD
BEGIN:DAYLIGHT
TZOFFSETFROM:+0100
TZOFFSETTO:+0200
TZNAME:CEST
DTSTART:20220327T010000
END:DAYLIGHT
BEGIN:STANDARD
TZOFFSETFROM:+0200
TZOFFSETTO:+0100
TZNAME:CET
DTSTART:20221030T010000
END:STANDARD
BEGIN:DAYLIGHT
TZOFFSETFROM:+0100
TZOFFSETTO:+0200
TZNAME:CEST
DTSTART:20230326T010000
END:DAYLIGHT
BEGIN:STANDARD
TZOFFSETFROM:+0200
TZOFFSETTO:+0100
TZNAME:CET
DTSTART:20231029T010000
END:STANDARD
END:VTIMEZONE
BEGIN:VEVENT
DTSTART;TZID=Europe/Paris:20220109T140000
DTEND;TZID=Europe/Paris:20220109T170000
DTSTAMP:20260423T234330
CREATED:20211227T114103Z
LAST-MODIFIED:20220105T083106Z
UID:13614-1641736800-1641747600@eglise-montargis.fr
SUMMARY:Rencontre autour d'un message de Noël
DESCRIPTION:Attention changement d’horaires ! \n  \nLes précautions sanitaires nous ont amenés à changer les horaires de notre rencontre du 9 janvier \n \nLa célébration de Noël en mission ouvrière aura bien lieu à la Salle Suzanne Dress mais de 14 h à 17 h  (sans repas donc et sans pass mais avec masque !)
URL:https://eglise-montargis.fr/evenement/rencontre-autour-dun-message-de-noel/
LOCATION:salle Suzanne Dress ( derrière l’église de Chalette)
END:VEVENT
END:VCALENDAR