BEGIN:VCALENDAR
VERSION:2.0
PRODID:-//Paroisses catholiques du Montargois - ECPv6.15.20//NONSGML v1.0//EN
CALSCALE:GREGORIAN
METHOD:PUBLISH
X-ORIGINAL-URL:https://eglise-montargis.fr
X-WR-CALDESC:Évènements pour Paroisses catholiques du Montargois
REFRESH-INTERVAL;VALUE=DURATION:PT1H
X-Robots-Tag:noindex
X-PUBLISHED-TTL:PT1H
BEGIN:VTIMEZONE
TZID:Europe/Paris
BEGIN:DAYLIGHT
TZOFFSETFROM:+0100
TZOFFSETTO:+0200
TZNAME:CEST
DTSTART:20210328T010000
END:DAYLIGHT
BEGIN:STANDARD
TZOFFSETFROM:+0200
TZOFFSETTO:+0100
TZNAME:CET
DTSTART:20211031T010000
END:STANDARD
BEGIN:DAYLIGHT
TZOFFSETFROM:+0100
TZOFFSETTO:+0200
TZNAME:CEST
DTSTART:20220327T010000
END:DAYLIGHT
BEGIN:STANDARD
TZOFFSETFROM:+0200
TZOFFSETTO:+0100
TZNAME:CET
DTSTART:20221030T010000
END:STANDARD
BEGIN:DAYLIGHT
TZOFFSETFROM:+0100
TZOFFSETTO:+0200
TZNAME:CEST
DTSTART:20230326T010000
END:DAYLIGHT
BEGIN:STANDARD
TZOFFSETFROM:+0200
TZOFFSETTO:+0100
TZNAME:CET
DTSTART:20231029T010000
END:STANDARD
END:VTIMEZONE
BEGIN:VEVENT
DTSTART;VALUE=DATE:20220305
DTEND;VALUE=DATE:20220306
DTSTAMP:20260423T211539
CREATED:20220202T160818Z
LAST-MODIFIED:20220202T160818Z
UID:13822-1646438400-1646524799@eglise-montargis.fr
SUMMARY:Journée diocésaine des animateurs de chants
DESCRIPTION:
URL:https://eglise-montargis.fr/evenement/journee-diocesaine-des-animateurs-de-chants/
LOCATION:collège la Providence à Olivet
END:VEVENT
BEGIN:VEVENT
DTSTART;VALUE=DATE:20220305
DTEND;VALUE=DATE:20220306
DTSTAMP:20260423T211539
CREATED:20220228T130706Z
LAST-MODIFIED:20220228T130706Z
UID:13952-1646438400-1646524799@eglise-montargis.fr
SUMMARY:Journée diocésaine des animateurs de chants
DESCRIPTION:
URL:https://eglise-montargis.fr/evenement/journee-diocesaine-des-animateurs-de-chants-2/
LOCATION:collège la Providence à Olivet
END:VEVENT
BEGIN:VEVENT
DTSTART;TZID=Europe/Paris:20220305T140000
DTEND;TZID=Europe/Paris:20220305T163000
DTSTAMP:20260423T211539
CREATED:20220228T125024Z
LAST-MODIFIED:20220228T125024Z
UID:13931-1646488800-1646497800@eglise-montargis.fr
SUMMARY:journée CCFD
DESCRIPTION:Pour tous les enfants du Montargois
URL:https://eglise-montargis.fr/evenement/journee-ccfd/
LOCATION:église des Cités
END:VEVENT
END:VCALENDAR