BEGIN:VCALENDAR
VERSION:2.0
PRODID:-//Paroisses catholiques du Montargois - ECPv6.15.20//NONSGML v1.0//EN
CALSCALE:GREGORIAN
METHOD:PUBLISH
X-WR-CALNAME:Paroisses catholiques du Montargois
X-ORIGINAL-URL:https://eglise-montargis.fr
X-WR-CALDESC:Évènements pour Paroisses catholiques du Montargois
REFRESH-INTERVAL;VALUE=DURATION:PT1H
X-Robots-Tag:noindex
X-PUBLISHED-TTL:PT1H
BEGIN:VTIMEZONE
TZID:Europe/Paris
BEGIN:DAYLIGHT
TZOFFSETFROM:+0100
TZOFFSETTO:+0200
TZNAME:CEST
DTSTART:20210328T010000
END:DAYLIGHT
BEGIN:STANDARD
TZOFFSETFROM:+0200
TZOFFSETTO:+0100
TZNAME:CET
DTSTART:20211031T010000
END:STANDARD
BEGIN:DAYLIGHT
TZOFFSETFROM:+0100
TZOFFSETTO:+0200
TZNAME:CEST
DTSTART:20220327T010000
END:DAYLIGHT
BEGIN:STANDARD
TZOFFSETFROM:+0200
TZOFFSETTO:+0100
TZNAME:CET
DTSTART:20221030T010000
END:STANDARD
BEGIN:DAYLIGHT
TZOFFSETFROM:+0100
TZOFFSETTO:+0200
TZNAME:CEST
DTSTART:20230326T010000
END:DAYLIGHT
BEGIN:STANDARD
TZOFFSETFROM:+0200
TZOFFSETTO:+0100
TZNAME:CET
DTSTART:20231029T010000
END:STANDARD
END:VTIMEZONE
BEGIN:VEVENT
DTSTART;VALUE=DATE:20220306
DTEND;VALUE=DATE:20220307
DTSTAMP:20260423T211042
CREATED:20220228T125718Z
LAST-MODIFIED:20220228T125718Z
UID:13942-1646524800-1646611199@eglise-montargis.fr
SUMMARY:Appel décisif des catéchumènes
DESCRIPTION:
URL:https://eglise-montargis.fr/evenement/appel-decisif-des-catechumenes-2/
LOCATION:Orléans
END:VEVENT
BEGIN:VEVENT
DTSTART;TZID=Europe/Paris:20220306T150000
DTEND;TZID=Europe/Paris:20220306T150000
DTSTAMP:20260423T211042
CREATED:20220304T091217Z
LAST-MODIFIED:20220304T091217Z
UID:13981-1646578800-1646578800@eglise-montargis.fr
SUMMARY:Veillée inter-religieuse pour la Paix en Ukraine
DESCRIPTION:
URL:https://eglise-montargis.fr/evenement/veillee-inter-religieuse-pour-la-paix-en-ukraine/
LOCATION:église ukrainienne St André\, 16 rue Gaston Jaillon\, Châlette/Loing\, 45120\, France
END:VEVENT
BEGIN:VEVENT
DTSTART;TZID=Europe/Paris:20220306T153000
DTEND;TZID=Europe/Paris:20220306T153000
DTSTAMP:20260423T211042
CREATED:20220228T125851Z
LAST-MODIFIED:20220228T125851Z
UID:13944-1646580600-1646580600@eglise-montargis.fr
SUMMARY:Concert
DESCRIPTION:Concert violon et violoncelle Glière\, Bach\, Kodaly et Haendel
URL:https://eglise-montargis.fr/evenement/concert-2/
LOCATION:église de Montcresson
END:VEVENT
END:VCALENDAR