BEGIN:VCALENDAR
VERSION:2.0
PRODID:-//Paroisses catholiques du Montargois - ECPv6.15.20//NONSGML v1.0//EN
CALSCALE:GREGORIAN
METHOD:PUBLISH
X-WR-CALNAME:Paroisses catholiques du Montargois
X-ORIGINAL-URL:https://eglise-montargis.fr
X-WR-CALDESC:Évènements pour Paroisses catholiques du Montargois
REFRESH-INTERVAL;VALUE=DURATION:PT1H
X-Robots-Tag:noindex
X-PUBLISHED-TTL:PT1H
BEGIN:VTIMEZONE
TZID:Europe/Paris
BEGIN:DAYLIGHT
TZOFFSETFROM:+0100
TZOFFSETTO:+0200
TZNAME:CEST
DTSTART:20210328T010000
END:DAYLIGHT
BEGIN:STANDARD
TZOFFSETFROM:+0200
TZOFFSETTO:+0100
TZNAME:CET
DTSTART:20211031T010000
END:STANDARD
BEGIN:DAYLIGHT
TZOFFSETFROM:+0100
TZOFFSETTO:+0200
TZNAME:CEST
DTSTART:20220327T010000
END:DAYLIGHT
BEGIN:STANDARD
TZOFFSETFROM:+0200
TZOFFSETTO:+0100
TZNAME:CET
DTSTART:20221030T010000
END:STANDARD
BEGIN:DAYLIGHT
TZOFFSETFROM:+0100
TZOFFSETTO:+0200
TZNAME:CEST
DTSTART:20230326T010000
END:DAYLIGHT
BEGIN:STANDARD
TZOFFSETFROM:+0200
TZOFFSETTO:+0100
TZNAME:CET
DTSTART:20231029T010000
END:STANDARD
END:VTIMEZONE
BEGIN:VEVENT
DTSTART;TZID=Europe/Paris:20220401T080000
DTEND;TZID=Europe/Paris:20220401T170000
DTSTAMP:20260423T200132
CREATED:20220221T201634Z
LAST-MODIFIED:20220221T202147Z
UID:13905-1648800000-1648832400@eglise-montargis.fr
SUMMARY:soirée CCFD à Gien ou Briare
DESCRIPTION:lieu et horaire à déterminer \n+ d’infos
URL:https://eglise-montargis.fr/evenement/soiree-ccfd-a-gien-ou-briare/
END:VEVENT
BEGIN:VEVENT
DTSTART;TZID=Europe/Paris:20220401T200000
DTEND;TZID=Europe/Paris:20220401T220000
DTSTAMP:20260423T200132
CREATED:20220221T201740Z
LAST-MODIFIED:20220221T202226Z
UID:13907-1648843200-1648850400@eglise-montargis.fr
SUMMARY:soirée CCFD à Lorris
DESCRIPTION:+ d’infos
URL:https://eglise-montargis.fr/evenement/soiree-ccfd-a-lorris/
LOCATION:salle st Louis à coté de l’église de Lorris
END:VEVENT
END:VCALENDAR