BEGIN:VCALENDAR
VERSION:2.0
PRODID:-//Paroisses catholiques du Montargois - ECPv6.15.20//NONSGML v1.0//EN
CALSCALE:GREGORIAN
METHOD:PUBLISH
X-WR-CALNAME:Paroisses catholiques du Montargois
X-ORIGINAL-URL:https://eglise-montargis.fr
X-WR-CALDESC:Évènements pour Paroisses catholiques du Montargois
REFRESH-INTERVAL;VALUE=DURATION:PT1H
X-Robots-Tag:noindex
X-PUBLISHED-TTL:PT1H
BEGIN:VTIMEZONE
TZID:Europe/Paris
BEGIN:DAYLIGHT
TZOFFSETFROM:+0100
TZOFFSETTO:+0200
TZNAME:CEST
DTSTART:20210328T010000
END:DAYLIGHT
BEGIN:STANDARD
TZOFFSETFROM:+0200
TZOFFSETTO:+0100
TZNAME:CET
DTSTART:20211031T010000
END:STANDARD
BEGIN:DAYLIGHT
TZOFFSETFROM:+0100
TZOFFSETTO:+0200
TZNAME:CEST
DTSTART:20220327T010000
END:DAYLIGHT
BEGIN:STANDARD
TZOFFSETFROM:+0200
TZOFFSETTO:+0100
TZNAME:CET
DTSTART:20221030T010000
END:STANDARD
BEGIN:DAYLIGHT
TZOFFSETFROM:+0100
TZOFFSETTO:+0200
TZNAME:CEST
DTSTART:20230326T010000
END:DAYLIGHT
BEGIN:STANDARD
TZOFFSETFROM:+0200
TZOFFSETTO:+0100
TZNAME:CET
DTSTART:20231029T010000
END:STANDARD
END:VTIMEZONE
BEGIN:VEVENT
DTSTART;TZID=Europe/Paris:20220710T080000
DTEND;TZID=Europe/Paris:20220720T170000
DTSTAMP:20260423T162227
CREATED:20220530T193032Z
LAST-MODIFIED:20220530T193032Z
UID:14348-1657440000-1658336400@eglise-montargis.fr
SUMMARY:Camp collégiens
DESCRIPTION:Dans la Creuse \nOrganisé par le Loir et Cher \, camp sous tente dans la forêt de Belleville\, lieu associatif d’animation porté sur les enjeux agricoles \nContact: Michèle Doublier animatrice permanente de l’Indre indre@mrjc.org
URL:https://eglise-montargis.fr/evenement/camp-collegiens/
END:VEVENT
BEGIN:VEVENT
DTSTART;TZID=Europe/Paris:20220717T080000
DTEND;TZID=Europe/Paris:20220724T170000
DTSTAMP:20260423T162227
CREATED:20220530T194151Z
LAST-MODIFIED:20220530T194356Z
UID:14354-1658044800-1658682000@eglise-montargis.fr
SUMMARY:École de prière des jeunes
DESCRIPTION:Pour les jeunes de 8 à 16 ans \n7 jours pour grandir à la rencontre du Christ\, de soi et des autres \n2 camps à Montargis au lycée St Louis\, chacun d’eux accueillant une soixantaine de jeunes\, filles et garçons et une vingtaine d’animateurs et responsables \n1er camp du 10 au 17 juillet \n2ème camp du 17 au 24 Juillet \ninscriptions sur le site : https://ecolesdepriere.com \nTrouver une école et sélectionner EPJ Orléans avant le 15 juin \nTracts disponibles dans les églises
URL:https://eglise-montargis.fr/evenement/ecole-de-priere-des-jeunes-2/
LOCATION:Ecole Saint Louis Montargis
END:VEVENT
BEGIN:VEVENT
DTSTART;TZID=Europe/Paris:20220717T080000
DTEND;TZID=Europe/Paris:20220731T170000
DTSTAMP:20260423T162227
CREATED:20220530T193544Z
LAST-MODIFIED:20220530T193544Z
UID:14350-1658044800-1659286800@eglise-montargis.fr
SUMMARY:Camp lycéens
DESCRIPTION:En Normandie \, départ en bus pour tout le groupe de Montargis \nCe camp sous tente de 2 semaines\, rassemble près de 300 jeunes . ruraux et du MRJC de toute la France. Les thématiques phares de ce séjour sont le vivre ensemble et la solidarité\, les et projets alternatifs autonomes et l’écologie \nContact: Nina Leroy directrice :loiret@mrjc.org
URL:https://eglise-montargis.fr/evenement/camp-lyceens/
END:VEVENT
END:VCALENDAR