BEGIN:VCALENDAR
VERSION:2.0
PRODID:-//Paroisses catholiques du Montargois - ECPv6.15.20//NONSGML v1.0//EN
CALSCALE:GREGORIAN
METHOD:PUBLISH
X-ORIGINAL-URL:https://eglise-montargis.fr
X-WR-CALDESC:Évènements pour Paroisses catholiques du Montargois
REFRESH-INTERVAL;VALUE=DURATION:PT1H
X-Robots-Tag:noindex
X-PUBLISHED-TTL:PT1H
BEGIN:VTIMEZONE
TZID:Europe/Paris
BEGIN:DAYLIGHT
TZOFFSETFROM:+0100
TZOFFSETTO:+0200
TZNAME:CEST
DTSTART:20210328T010000
END:DAYLIGHT
BEGIN:STANDARD
TZOFFSETFROM:+0200
TZOFFSETTO:+0100
TZNAME:CET
DTSTART:20211031T010000
END:STANDARD
BEGIN:DAYLIGHT
TZOFFSETFROM:+0100
TZOFFSETTO:+0200
TZNAME:CEST
DTSTART:20220327T010000
END:DAYLIGHT
BEGIN:STANDARD
TZOFFSETFROM:+0200
TZOFFSETTO:+0100
TZNAME:CET
DTSTART:20221030T010000
END:STANDARD
BEGIN:DAYLIGHT
TZOFFSETFROM:+0100
TZOFFSETTO:+0200
TZNAME:CEST
DTSTART:20230326T010000
END:DAYLIGHT
BEGIN:STANDARD
TZOFFSETFROM:+0200
TZOFFSETTO:+0100
TZNAME:CET
DTSTART:20231029T010000
END:STANDARD
END:VTIMEZONE
BEGIN:VEVENT
DTSTART;TZID=Europe/Paris:20221001T080000
DTEND;TZID=Europe/Paris:20221002T170000
DTSTAMP:20260423T140030
CREATED:20220915T144808Z
LAST-MODIFIED:20220915T144808Z
UID:14750-1664611200-1664730000@eglise-montargis.fr
SUMMARY:Journée de la création
DESCRIPTION:Écoutez la voix de la création 
URL:https://eglise-montargis.fr/evenement/journee-de-la-creation-2/
LOCATION:Lors des célébrations
ATTACH;FMTTYPE=image/jpeg:https://eglise-montargis.fr/wp-content/uploads/2022/09/écoutez-la-voix-de-la-création-2022.jpeg
END:VEVENT
BEGIN:VEVENT
DTSTART;TZID=Europe/Paris:20221001T090000
DTEND;TZID=Europe/Paris:20221001T180000
DTSTAMP:20260423T140030
CREATED:20220915T143940Z
LAST-MODIFIED:20220915T144352Z
UID:14743-1664614800-1664647200@eglise-montargis.fr
SUMMARY:Congrès mission
DESCRIPTION:Aller retour en train : faites-vous connaître au presbytère de Montargis \n+ d’infos
URL:https://eglise-montargis.fr/evenement/congres-mission/
LOCATION:Paris
END:VEVENT
BEGIN:VEVENT
DTSTART;TZID=Europe/Paris:20221001T100000
DTEND;TZID=Europe/Paris:20221001T120000
DTSTAMP:20260423T140030
CREATED:20220915T143223Z
LAST-MODIFIED:20220915T143223Z
UID:14734-1664618400-1664625600@eglise-montargis.fr
SUMMARY:Éveil à la foi
DESCRIPTION:
URL:https://eglise-montargis.fr/evenement/eveil-a-la-foi-27/
LOCATION:salle St Martin à Amilly\, Amilly
END:VEVENT
BEGIN:VEVENT
DTSTART;TZID=Europe/Paris:20221001T100000
DTEND;TZID=Europe/Paris:20221001T120000
DTSTAMP:20260423T140030
CREATED:20220915T143259Z
LAST-MODIFIED:20220915T143259Z
UID:14736-1664618400-1664625600@eglise-montargis.fr
SUMMARY:Éveil à la foi
DESCRIPTION:
URL:https://eglise-montargis.fr/evenement/eveil-a-la-foi-28/
LOCATION:Lombreuil
END:VEVENT
END:VCALENDAR