BEGIN:VCALENDAR
VERSION:2.0
PRODID:-//Paroisses catholiques du Montargois - ECPv6.15.20//NONSGML v1.0//EN
CALSCALE:GREGORIAN
METHOD:PUBLISH
X-ORIGINAL-URL:https://eglise-montargis.fr
X-WR-CALDESC:Évènements pour Paroisses catholiques du Montargois
REFRESH-INTERVAL;VALUE=DURATION:PT1H
X-Robots-Tag:noindex
X-PUBLISHED-TTL:PT1H
BEGIN:VTIMEZONE
TZID:Europe/Paris
BEGIN:DAYLIGHT
TZOFFSETFROM:+0100
TZOFFSETTO:+0200
TZNAME:CEST
DTSTART:20210328T010000
END:DAYLIGHT
BEGIN:STANDARD
TZOFFSETFROM:+0200
TZOFFSETTO:+0100
TZNAME:CET
DTSTART:20211031T010000
END:STANDARD
BEGIN:DAYLIGHT
TZOFFSETFROM:+0100
TZOFFSETTO:+0200
TZNAME:CEST
DTSTART:20220327T010000
END:DAYLIGHT
BEGIN:STANDARD
TZOFFSETFROM:+0200
TZOFFSETTO:+0100
TZNAME:CET
DTSTART:20221030T010000
END:STANDARD
BEGIN:DAYLIGHT
TZOFFSETFROM:+0100
TZOFFSETTO:+0200
TZNAME:CEST
DTSTART:20230326T010000
END:DAYLIGHT
BEGIN:STANDARD
TZOFFSETFROM:+0200
TZOFFSETTO:+0100
TZNAME:CET
DTSTART:20231029T010000
END:STANDARD
END:VTIMEZONE
BEGIN:VEVENT
DTSTART;TZID=Europe/Paris:20221008T203000
DTEND;TZID=Europe/Paris:20221008T203000
DTSTAMP:20260423T125251
CREATED:20220915T143011Z
LAST-MODIFIED:20220915T143035Z
UID:14731-1665261000-1665261000@eglise-montargis.fr
SUMMARY:concert du choeur Chantecléry
DESCRIPTION:Ferrières en Gâtinais \nSamedi 8 octobre à 20 h 30 \nEglise Notre Dame de Bethléem \nCONCERT du CHOEUR CHANTECLERY \nAu profit de la restauration du chœur de l’église \nPour la réouverture de la basilique\, Chantecléry\, sous la direction de Jean-Marie PERROTIN\, proposera un programme de musique sacrée (œuvres en accord avec le lieu) et profane (polyphonies évoquant le printemps). \nUne partie instrumentale sera proposée par : Hélène AUBRY (flûte traversière) et Christian DONNEFORT (orgue) \, Jacques FRANTZ (traverso) et Claire de KERMEl (clavecin). \nEntrée libre – Un quête sera faite pendant l’entracte \nLa totalité des sommes récoltées sera attribuées au financement du nouvel autel\, du nouvel ambon\, de la nouvette sonorisation qui sont entièrement à la charge de la paroisse.
URL:https://eglise-montargis.fr/evenement/concert-du-choeur-chanteclery/
LOCATION:Eglise ND de Bethléem à Ferrières
END:VEVENT
END:VCALENDAR