BEGIN:VCALENDAR
VERSION:2.0
PRODID:-//Paroisses catholiques du Montargois - ECPv6.15.20//NONSGML v1.0//EN
CALSCALE:GREGORIAN
METHOD:PUBLISH
X-WR-CALNAME:Paroisses catholiques du Montargois
X-ORIGINAL-URL:https://eglise-montargis.fr
X-WR-CALDESC:Évènements pour Paroisses catholiques du Montargois
REFRESH-INTERVAL;VALUE=DURATION:PT1H
X-Robots-Tag:noindex
X-PUBLISHED-TTL:PT1H
BEGIN:VTIMEZONE
TZID:Europe/Paris
BEGIN:DAYLIGHT
TZOFFSETFROM:+0100
TZOFFSETTO:+0200
TZNAME:CEST
DTSTART:20210328T010000
END:DAYLIGHT
BEGIN:STANDARD
TZOFFSETFROM:+0200
TZOFFSETTO:+0100
TZNAME:CET
DTSTART:20211031T010000
END:STANDARD
BEGIN:DAYLIGHT
TZOFFSETFROM:+0100
TZOFFSETTO:+0200
TZNAME:CEST
DTSTART:20220327T010000
END:DAYLIGHT
BEGIN:STANDARD
TZOFFSETFROM:+0200
TZOFFSETTO:+0100
TZNAME:CET
DTSTART:20221030T010000
END:STANDARD
BEGIN:DAYLIGHT
TZOFFSETFROM:+0100
TZOFFSETTO:+0200
TZNAME:CEST
DTSTART:20230326T010000
END:DAYLIGHT
BEGIN:STANDARD
TZOFFSETFROM:+0200
TZOFFSETTO:+0100
TZNAME:CET
DTSTART:20231029T010000
END:STANDARD
END:VTIMEZONE
BEGIN:VEVENT
DTSTART;TZID=Europe/Paris:20221119T080000
DTEND;TZID=Europe/Paris:20221120T200000
DTSTAMP:20260423T114422
CREATED:20221104T180037Z
LAST-MODIFIED:20221104T180037Z
UID:15023-1668844800-1668974400@eglise-montargis.fr
SUMMARY:Journée nationale du secours catholique
DESCRIPTION:Collecte des dons les 19 et 20 novembre \n75 % des ressources de l’association proviennent de la générosité du public.C’est aussi pour nous l’occasion de parles des actions que nous menons grâce et principalement au soutien des donateurs et l’engagement de nos 67 500 bénévoles \nDes enveloppes sont dans toutes les églises pour vos dons
URL:https://eglise-montargis.fr/evenement/journee-nationale-du-secours-catholique/
ATTACH;FMTTYPE=image/png:https://eglise-montargis.fr/wp-content/uploads/2018/09/secourscath-logo-fb.png
END:VEVENT
BEGIN:VEVENT
DTSTART;TZID=Europe/Paris:20221119T140000
DTEND;TZID=Europe/Paris:20221119T140000
DTSTAMP:20260423T114422
CREATED:20221028T201931Z
LAST-MODIFIED:20221028T202232Z
UID:14968-1668866400-1668866400@eglise-montargis.fr
SUMMARY:JMJ en diocèse à Orléans
DESCRIPTION:Lycéens\, étudiants\, jeunes professionnels\, nous vous attendons le Samedi 19 novembre 2022 : \nTemps de rencontre pour préparer les JMJ qui auront lieu au Portugal du 24/07 au 08/08/2023. \n\nRDV à 14H au collège Sainte Croix Saint Euverte à Orléans\nAprès-midi au collège suivi du concert d’Hopen à l’église Saint Paterne.\n\n  \n+ d’infos \nLien pour l’inscription
URL:https://eglise-montargis.fr/evenement/jmj-en-diocese-a-orleans/
LOCATION:Collège Ste Croix St Euverte à Orléans
ATTACH;FMTTYPE=image/jpeg:https://eglise-montargis.fr/wp-content/uploads/2022/10/2022-11-19-visuel-jmj.jpeg
END:VEVENT
BEGIN:VEVENT
DTSTART;TZID=Europe/Paris:20221119T143000
DTEND;TZID=Europe/Paris:20221119T143000
DTSTAMP:20260423T114422
CREATED:20221008T084130Z
LAST-MODIFIED:20221008T084130Z
UID:14843-1668868200-1668868200@eglise-montargis.fr
SUMMARY:Conférence à Champignelles(89)
DESCRIPTION:Deux lieux d’églises : le Puits d’hiver dans l’Yonne à Chichery et l’association Partage au pont de Pierre 45230 Ste Geneviève des Bois se sont associés pour préparer ensemble cette conférence  du samedi 19 novembre 2022 avec Marie- Christine BERNARD.Théologienne et  Auteure du livre : « la laicité ça repose Dieu » au centre de rencontre de Champignelles (89) à partir de 14 h 30. \nUne belle occasion d’échanger sur ce que nous vivons en Eglise et son avenir.\n 2022 11 19 inv Marie Christine Bernard
URL:https://eglise-montargis.fr/evenement/conference-a-champignelles89/
LOCATION:Champignelles (89)
END:VEVENT
BEGIN:VEVENT
DTSTART;TZID=Europe/Paris:20221119T160000
DTEND;TZID=Europe/Paris:20221119T180000
DTSTAMP:20260423T114422
CREATED:20220826T122540Z
LAST-MODIFIED:20220826T124225Z
UID:12655-1668873600-1668880800@eglise-montargis.fr
SUMMARY:Rencontre Jésus au Cœur de nos Vies
DESCRIPTION:Votre rendez-vous mensuel de prière pour booster votre vie spirituelle et fraternelle. Convivialité et bienveillance garanties 🙂 \n\n16h-17h : accueil – louange – adoration – Parole – prière des frères et sœurs\n17h-17h45 : groupes fraternels (groupes de parole\, de partage ou d’adoration)\n17h45-18h : action de grâce – Notre Père
URL:https://eglise-montargis.fr/evenement/rencontre-jesus-au-coeur-de-nos-vies-2/
LOCATION:Eglise Ste Madeleine\, 22 rue Triqueti\, Montargis\, 45200
CATEGORIES:agenda
ORGANIZER;CN="Jesus au Coeur de nos Vies":MAILTO:jesusaucoeurdenosvies@gmail.com
END:VEVENT
END:VCALENDAR