BEGIN:VCALENDAR
VERSION:2.0
PRODID:-//Paroisses catholiques du Montargois - ECPv6.15.20//NONSGML v1.0//EN
CALSCALE:GREGORIAN
METHOD:PUBLISH
X-WR-CALNAME:Paroisses catholiques du Montargois
X-ORIGINAL-URL:https://eglise-montargis.fr
X-WR-CALDESC:Évènements pour Paroisses catholiques du Montargois
REFRESH-INTERVAL;VALUE=DURATION:PT1H
X-Robots-Tag:noindex
X-PUBLISHED-TTL:PT1H
BEGIN:VTIMEZONE
TZID:Europe/Paris
BEGIN:DAYLIGHT
TZOFFSETFROM:+0100
TZOFFSETTO:+0200
TZNAME:CEST
DTSTART:20210328T010000
END:DAYLIGHT
BEGIN:STANDARD
TZOFFSETFROM:+0200
TZOFFSETTO:+0100
TZNAME:CET
DTSTART:20211031T010000
END:STANDARD
BEGIN:DAYLIGHT
TZOFFSETFROM:+0100
TZOFFSETTO:+0200
TZNAME:CEST
DTSTART:20220327T010000
END:DAYLIGHT
BEGIN:STANDARD
TZOFFSETFROM:+0200
TZOFFSETTO:+0100
TZNAME:CET
DTSTART:20221030T010000
END:STANDARD
BEGIN:DAYLIGHT
TZOFFSETFROM:+0100
TZOFFSETTO:+0200
TZNAME:CEST
DTSTART:20230326T010000
END:DAYLIGHT
BEGIN:STANDARD
TZOFFSETFROM:+0200
TZOFFSETTO:+0100
TZNAME:CET
DTSTART:20231029T010000
END:STANDARD
END:VTIMEZONE
BEGIN:VEVENT
DTSTART;TZID=Europe/Paris:20221211T150000
DTEND;TZID=Europe/Paris:20221211T150000
DTSTAMP:20260423T102827
CREATED:20221107T110503Z
LAST-MODIFIED:20221107T110503Z
UID:15041-1670770800-1670770800@eglise-montargis.fr
SUMMARY:Théâtre  " Un tango pour Louis"
DESCRIPTION:L’association Assopark présente en collaboration avec  » En compagnie des Oliviers » un spectacle théâtral et musical original  \nAssopark est heureuse de vous inviter au spectacle  » Un tango pour Louis » qui aborde la relation de l’aidant familial auprès d’un malade de Parkinson  . Au plaisir de partager ce moment avec vous 
URL:https://eglise-montargis.fr/evenement/theatre-un-tango-pour-louis/
LOCATION:Tivoli\, 2 rue Franklin Roosevelt\, Montargis\, 45200\, France
ATTACH;FMTTYPE=image/png:https://eglise-montargis.fr/wp-content/uploads/2022/11/Flyer-A5-ASSOPARK.png
ORGANIZER;CN="Assopark":MAILTO:secretariat@assoparkfrance.org
END:VEVENT
BEGIN:VEVENT
DTSTART;TZID=Europe/Paris:20221211T160000
DTEND;TZID=Europe/Paris:20221211T160000
DTSTAMP:20260423T102827
CREATED:20221130T141247Z
LAST-MODIFIED:20221130T141247Z
UID:15133-1670774400-1670774400@eglise-montargis.fr
SUMMARY:Lumière de Béthléem
DESCRIPTION:Les Scouts et Guides de France\, les éclaireurs et éclaireuses unionistes de France\,  vous invitent à recevoir et transmettre la lumière de la Paix ! Répandons la Lumière pour que la Paix soit encore plus visible !
URL:https://eglise-montargis.fr/evenement/lumiere-de-bethleem-5/
LOCATION:église sainte Madeleine
END:VEVENT
BEGIN:VEVENT
DTSTART;TZID=Europe/Paris:20221211T170000
DTEND;TZID=Europe/Paris:20221211T170000
DTSTAMP:20260423T102827
CREATED:20221130T141607Z
LAST-MODIFIED:20221130T141607Z
UID:15137-1670778000-1670778000@eglise-montargis.fr
SUMMARY:concert de Noël proposé par les mairies
DESCRIPTION:Chorale musique au Loing
URL:https://eglise-montargis.fr/evenement/concert-de-noel-propose-par-les-mairies-2/
LOCATION:église d’Amilly\, Amilly
END:VEVENT
END:VCALENDAR