BEGIN:VCALENDAR
VERSION:2.0
PRODID:-//Paroisses catholiques du Montargois - ECPv6.15.20//NONSGML v1.0//EN
CALSCALE:GREGORIAN
METHOD:PUBLISH
X-ORIGINAL-URL:https://eglise-montargis.fr
X-WR-CALDESC:Évènements pour Paroisses catholiques du Montargois
REFRESH-INTERVAL;VALUE=DURATION:PT1H
X-Robots-Tag:noindex
X-PUBLISHED-TTL:PT1H
BEGIN:VTIMEZONE
TZID:Europe/Paris
BEGIN:DAYLIGHT
TZOFFSETFROM:+0100
TZOFFSETTO:+0200
TZNAME:CEST
DTSTART:20210328T010000
END:DAYLIGHT
BEGIN:STANDARD
TZOFFSETFROM:+0200
TZOFFSETTO:+0100
TZNAME:CET
DTSTART:20211031T010000
END:STANDARD
BEGIN:DAYLIGHT
TZOFFSETFROM:+0100
TZOFFSETTO:+0200
TZNAME:CEST
DTSTART:20220327T010000
END:DAYLIGHT
BEGIN:STANDARD
TZOFFSETFROM:+0200
TZOFFSETTO:+0100
TZNAME:CET
DTSTART:20221030T010000
END:STANDARD
BEGIN:DAYLIGHT
TZOFFSETFROM:+0100
TZOFFSETTO:+0200
TZNAME:CEST
DTSTART:20230326T010000
END:DAYLIGHT
BEGIN:STANDARD
TZOFFSETFROM:+0200
TZOFFSETTO:+0100
TZNAME:CET
DTSTART:20231029T010000
END:STANDARD
END:VTIMEZONE
BEGIN:VEVENT
DTSTART;TZID=Europe/Paris:20221224T110000
DTEND;TZID=Europe/Paris:20221224T110000
DTSTAMP:20260423T103119
CREATED:20221130T140832Z
LAST-MODIFIED:20221130T141003Z
UID:15128-1671879600-1671879600@eglise-montargis.fr
SUMMARY:Confessions à Ste Madeleine\, Châlette et Ladon
DESCRIPTION:à Ste Madeleine\, Châlette et Ladon 
URL:https://eglise-montargis.fr/evenement/confessions-3/
END:VEVENT
BEGIN:VEVENT
DTSTART;TZID=Europe/Paris:20221224T143000
DTEND;TZID=Europe/Paris:20221224T143000
DTSTAMP:20260423T103119
CREATED:20221130T140914Z
LAST-MODIFIED:20221130T140914Z
UID:15130-1671892200-1671892200@eglise-montargis.fr
SUMMARY:Confessions à Montcresson
DESCRIPTION:
URL:https://eglise-montargis.fr/evenement/confessions-a-montcresson/
END:VEVENT
END:VCALENDAR