BEGIN:VCALENDAR
VERSION:2.0
PRODID:-//Paroisses catholiques du Montargois - ECPv6.15.20//NONSGML v1.0//EN
CALSCALE:GREGORIAN
METHOD:PUBLISH
X-WR-CALNAME:Paroisses catholiques du Montargois
X-ORIGINAL-URL:https://eglise-montargis.fr
X-WR-CALDESC:Évènements pour Paroisses catholiques du Montargois
REFRESH-INTERVAL;VALUE=DURATION:PT1H
X-Robots-Tag:noindex
X-PUBLISHED-TTL:PT1H
BEGIN:VTIMEZONE
TZID:Europe/Paris
BEGIN:DAYLIGHT
TZOFFSETFROM:+0100
TZOFFSETTO:+0200
TZNAME:CEST
DTSTART:20220327T010000
END:DAYLIGHT
BEGIN:STANDARD
TZOFFSETFROM:+0200
TZOFFSETTO:+0100
TZNAME:CET
DTSTART:20221030T010000
END:STANDARD
BEGIN:DAYLIGHT
TZOFFSETFROM:+0100
TZOFFSETTO:+0200
TZNAME:CEST
DTSTART:20230326T010000
END:DAYLIGHT
BEGIN:STANDARD
TZOFFSETFROM:+0200
TZOFFSETTO:+0100
TZNAME:CET
DTSTART:20231029T010000
END:STANDARD
BEGIN:DAYLIGHT
TZOFFSETFROM:+0100
TZOFFSETTO:+0200
TZNAME:CEST
DTSTART:20240331T010000
END:DAYLIGHT
BEGIN:STANDARD
TZOFFSETFROM:+0200
TZOFFSETTO:+0100
TZNAME:CET
DTSTART:20241027T010000
END:STANDARD
END:VTIMEZONE
BEGIN:VEVENT
DTSTART;TZID=Europe/Paris:20230120T183000
DTEND;TZID=Europe/Paris:20230120T220000
DTSTAMP:20260423T092529
CREATED:20230111T084429Z
LAST-MODIFIED:20230111T084429Z
UID:15287-1674239400-1674252000@eglise-montargis.fr
SUMMARY:Voeux et conférence de l'ADIM
DESCRIPTION:Une conférence sur le thème de la fraternité réelle se tiendra à Villemandeur en présence d’un conférencier catholique ( le P. Jean-Marie Richard ) et d’un conférencier musulman ( Professeur Ahmed Tidjani Pam)  \nUn pot de l’amitié clôturera la soirée
URL:https://eglise-montargis.fr/evenement/voeux-et-conference-de-ladim/
LOCATION:chateau de Lisledon Villemandeur\, rue de la surandière\, Villemandeur\, 45700
ATTACH;FMTTYPE=image/png:https://eglise-montargis.fr/wp-content/uploads/2023/01/adim-voeux-2023.png
END:VEVENT
END:VCALENDAR