BEGIN:VCALENDAR
VERSION:2.0
PRODID:-//Paroisses catholiques du Montargois - ECPv6.15.20//NONSGML v1.0//EN
CALSCALE:GREGORIAN
METHOD:PUBLISH
X-ORIGINAL-URL:https://eglise-montargis.fr
X-WR-CALDESC:Évènements pour Paroisses catholiques du Montargois
REFRESH-INTERVAL;VALUE=DURATION:PT1H
X-Robots-Tag:noindex
X-PUBLISHED-TTL:PT1H
BEGIN:VTIMEZONE
TZID:Europe/Paris
BEGIN:DAYLIGHT
TZOFFSETFROM:+0100
TZOFFSETTO:+0200
TZNAME:CEST
DTSTART:20220327T010000
END:DAYLIGHT
BEGIN:STANDARD
TZOFFSETFROM:+0200
TZOFFSETTO:+0100
TZNAME:CET
DTSTART:20221030T010000
END:STANDARD
BEGIN:DAYLIGHT
TZOFFSETFROM:+0100
TZOFFSETTO:+0200
TZNAME:CEST
DTSTART:20230326T010000
END:DAYLIGHT
BEGIN:STANDARD
TZOFFSETFROM:+0200
TZOFFSETTO:+0100
TZNAME:CET
DTSTART:20231029T010000
END:STANDARD
BEGIN:DAYLIGHT
TZOFFSETFROM:+0100
TZOFFSETTO:+0200
TZNAME:CEST
DTSTART:20240331T010000
END:DAYLIGHT
BEGIN:STANDARD
TZOFFSETFROM:+0200
TZOFFSETTO:+0100
TZNAME:CET
DTSTART:20241027T010000
END:STANDARD
END:VTIMEZONE
BEGIN:VEVENT
DTSTART;TZID=Europe/Paris:20230121T160000
DTEND;TZID=Europe/Paris:20230121T160000
DTSTAMP:20260423T091941
CREATED:20230104T160722Z
LAST-MODIFIED:20230104T160722Z
UID:15256-1674316800-1674316800@eglise-montargis.fr
SUMMARY:Jésus au coeur de nos vies
DESCRIPTION:
URL:https://eglise-montargis.fr/evenement/jesus-au-coeur-de-nos-vies-9/
LOCATION:église d’Amilly\, Amilly
END:VEVENT
BEGIN:VEVENT
DTSTART;TZID=Europe/Paris:20230121T180000
DTEND;TZID=Europe/Paris:20230121T180000
DTSTAMP:20260423T091941
CREATED:20230104T141715Z
LAST-MODIFIED:20230104T141715Z
UID:15234-1674324000-1674324000@eglise-montargis.fr
SUMMARY:Semaine de prière pour l'unité des chrétiens
DESCRIPTION:Temps de prière pour l’unité des chrétiens animé par les jeunes de nos Églises\, suivi d’un apéritif et repas partagé au 24 rue Triqueti
URL:https://eglise-montargis.fr/evenement/semaine-de-priere-pour-lunite-des-chretiens-9/
LOCATION:Eglise Sainte-Madeleine\, Rue Triqueti\, Montargis\, 45200\, France
END:VEVENT
END:VCALENDAR