BEGIN:VCALENDAR
VERSION:2.0
PRODID:-//Paroisses catholiques du Montargois - ECPv6.15.20//NONSGML v1.0//EN
CALSCALE:GREGORIAN
METHOD:PUBLISH
X-ORIGINAL-URL:https://eglise-montargis.fr
X-WR-CALDESC:Évènements pour Paroisses catholiques du Montargois
REFRESH-INTERVAL;VALUE=DURATION:PT1H
X-Robots-Tag:noindex
X-PUBLISHED-TTL:PT1H
BEGIN:VTIMEZONE
TZID:Europe/Paris
BEGIN:DAYLIGHT
TZOFFSETFROM:+0100
TZOFFSETTO:+0200
TZNAME:CEST
DTSTART:20220327T010000
END:DAYLIGHT
BEGIN:STANDARD
TZOFFSETFROM:+0200
TZOFFSETTO:+0100
TZNAME:CET
DTSTART:20221030T010000
END:STANDARD
BEGIN:DAYLIGHT
TZOFFSETFROM:+0100
TZOFFSETTO:+0200
TZNAME:CEST
DTSTART:20230326T010000
END:DAYLIGHT
BEGIN:STANDARD
TZOFFSETFROM:+0200
TZOFFSETTO:+0100
TZNAME:CET
DTSTART:20231029T010000
END:STANDARD
BEGIN:DAYLIGHT
TZOFFSETFROM:+0100
TZOFFSETTO:+0200
TZNAME:CEST
DTSTART:20240331T010000
END:DAYLIGHT
BEGIN:STANDARD
TZOFFSETFROM:+0200
TZOFFSETTO:+0100
TZNAME:CET
DTSTART:20241027T010000
END:STANDARD
END:VTIMEZONE
BEGIN:VEVENT
DTSTART;TZID=Europe/Paris:20230513T160000
DTEND;TZID=Europe/Paris:20230513T180000
DTSTAMP:20260423T051142
CREATED:20220827T151650Z
LAST-MODIFIED:20220827T152429Z
UID:12672-1683993600-1684000800@eglise-montargis.fr
SUMMARY:Rencontre Jésus au Cœur de nos Vies
DESCRIPTION:Prions ensemble\, en cénacle autour de Jésus et de Marie\, en cette fête de Notre Dame de Fatima. \n\n16h-17h : accueil – louange – adoration – Parole – prière des frères et sœurs\n17h-17h45 : groupes fraternels (groupes de parole\, de partage ou d’adoration)\n17h45-18h : action de grâce – Notre Père
URL:https://eglise-montargis.fr/evenement/rencontre-jesus-au-coeur-de-nos-vies-9/
LOCATION:Eglise Ste Madeleine\, 22 rue Triqueti\, Montargis\, 45200
CATEGORIES:agenda
ORGANIZER;CN="Jesus au Coeur de nos Vies":MAILTO:jesusaucoeurdenosvies@gmail.com
END:VEVENT
END:VCALENDAR