BEGIN:VCALENDAR
VERSION:2.0
PRODID:-//Paroisses catholiques du Montargois - ECPv6.15.20//NONSGML v1.0//EN
CALSCALE:GREGORIAN
METHOD:PUBLISH
X-WR-CALNAME:Paroisses catholiques du Montargois
X-ORIGINAL-URL:https://eglise-montargis.fr
X-WR-CALDESC:Évènements pour Paroisses catholiques du Montargois
REFRESH-INTERVAL;VALUE=DURATION:PT1H
X-Robots-Tag:noindex
X-PUBLISHED-TTL:PT1H
BEGIN:VTIMEZONE
TZID:Europe/Paris
BEGIN:DAYLIGHT
TZOFFSETFROM:+0100
TZOFFSETTO:+0200
TZNAME:CEST
DTSTART:20220327T010000
END:DAYLIGHT
BEGIN:STANDARD
TZOFFSETFROM:+0200
TZOFFSETTO:+0100
TZNAME:CET
DTSTART:20221030T010000
END:STANDARD
BEGIN:DAYLIGHT
TZOFFSETFROM:+0100
TZOFFSETTO:+0200
TZNAME:CEST
DTSTART:20230326T010000
END:DAYLIGHT
BEGIN:STANDARD
TZOFFSETFROM:+0200
TZOFFSETTO:+0100
TZNAME:CET
DTSTART:20231029T010000
END:STANDARD
BEGIN:DAYLIGHT
TZOFFSETFROM:+0100
TZOFFSETTO:+0200
TZNAME:CEST
DTSTART:20240331T010000
END:DAYLIGHT
BEGIN:STANDARD
TZOFFSETFROM:+0200
TZOFFSETTO:+0100
TZNAME:CET
DTSTART:20241027T010000
END:STANDARD
END:VTIMEZONE
BEGIN:VEVENT
DTSTART;TZID=Europe/Paris:20230616T180000
DTEND;TZID=Europe/Paris:20230616T180000
DTSTAMP:20260423T035332
CREATED:20230613T094207Z
LAST-MODIFIED:20230613T094207Z
UID:15727-1686938400-1686938400@eglise-montargis.fr
SUMMARY:Assemblée générale des 2 associations paroissiales de Pannes et Villemandeur
DESCRIPTION:En vue de la fusion de ces 2 associations  \n  \nPot de l’amitié et repas partagé pour clôturer cette soirée 
URL:https://eglise-montargis.fr/evenement/assemblee-generale-des-2-associations-paroissiales-de-pannes-et-villemandeur/
LOCATION:salle paroissiale de Villemandeur\, 13 avenue de la Libération
END:VEVENT
END:VCALENDAR