BEGIN:VCALENDAR
VERSION:2.0
PRODID:-//Paroisses catholiques du Montargois - ECPv6.15.20//NONSGML v1.0//EN
CALSCALE:GREGORIAN
METHOD:PUBLISH
X-ORIGINAL-URL:https://eglise-montargis.fr
X-WR-CALDESC:Évènements pour Paroisses catholiques du Montargois
REFRESH-INTERVAL;VALUE=DURATION:PT1H
X-Robots-Tag:noindex
X-PUBLISHED-TTL:PT1H
BEGIN:VTIMEZONE
TZID:Europe/Paris
BEGIN:DAYLIGHT
TZOFFSETFROM:+0100
TZOFFSETTO:+0200
TZNAME:CEST
DTSTART:20220327T010000
END:DAYLIGHT
BEGIN:STANDARD
TZOFFSETFROM:+0200
TZOFFSETTO:+0100
TZNAME:CET
DTSTART:20221030T010000
END:STANDARD
BEGIN:DAYLIGHT
TZOFFSETFROM:+0100
TZOFFSETTO:+0200
TZNAME:CEST
DTSTART:20230326T010000
END:DAYLIGHT
BEGIN:STANDARD
TZOFFSETFROM:+0200
TZOFFSETTO:+0100
TZNAME:CET
DTSTART:20231029T010000
END:STANDARD
BEGIN:DAYLIGHT
TZOFFSETFROM:+0100
TZOFFSETTO:+0200
TZNAME:CEST
DTSTART:20240331T010000
END:DAYLIGHT
BEGIN:STANDARD
TZOFFSETFROM:+0200
TZOFFSETTO:+0100
TZNAME:CET
DTSTART:20241027T010000
END:STANDARD
END:VTIMEZONE
BEGIN:VEVENT
DTSTART;TZID=Europe/Paris:20230702T103000
DTEND;TZID=Europe/Paris:20230702T120000
DTSTAMP:20260423T035820
CREATED:20230613T092416Z
LAST-MODIFIED:20230613T092416Z
UID:15717-1688293800-1688299200@eglise-montargis.fr
SUMMARY:confirmations en présence de notre évêque
DESCRIPTION:
URL:https://eglise-montargis.fr/evenement/confirmations-en-presence-de-notre-eveque/
LOCATION:ND des Cités
END:VEVENT
BEGIN:VEVENT
DTSTART;TZID=Europe/Paris:20230702T120000
DTEND;TZID=Europe/Paris:20230702T170000
DTSTAMP:20260423T035820
CREATED:20230613T092957Z
LAST-MODIFIED:20230613T092957Z
UID:15719-1688299200-1688317200@eglise-montargis.fr
SUMMARY:Jubilé des Pères Didier Mavoka et Jean-Marie Richard
DESCRIPTION:60 ans de sacerdoce du P.Jean-Marie et 25 ans du P. Didier  \nNous fêterons ce bel évènement à la suite des confirmations du même jour en présence du P. Blaquart \, notre évêque . Rendez-vous sous la halle de Villemandeur ( à côté de l’église) . Venir avec un repas à partager \, ses couverts et son éco cup . Une cagnotte est collectée \, merci de remettre sous enveloppe avec la mention pour le jubilé \, soit à la quête soit à la personne référente de votre secteur 
URL:https://eglise-montargis.fr/evenement/jubile-des-peres-didier-mavoka-et-jean-marie-richard/
LOCATION:Halle de Villemandeur
END:VEVENT
END:VCALENDAR