BEGIN:VCALENDAR
VERSION:2.0
PRODID:-//Paroisses catholiques du Montargois - ECPv6.15.20//NONSGML v1.0//EN
CALSCALE:GREGORIAN
METHOD:PUBLISH
X-WR-CALNAME:Paroisses catholiques du Montargois
X-ORIGINAL-URL:https://eglise-montargis.fr
X-WR-CALDESC:Évènements pour Paroisses catholiques du Montargois
REFRESH-INTERVAL;VALUE=DURATION:PT1H
X-Robots-Tag:noindex
X-PUBLISHED-TTL:PT1H
BEGIN:VTIMEZONE
TZID:Europe/Paris
BEGIN:DAYLIGHT
TZOFFSETFROM:+0100
TZOFFSETTO:+0200
TZNAME:CEST
DTSTART:20220327T010000
END:DAYLIGHT
BEGIN:STANDARD
TZOFFSETFROM:+0200
TZOFFSETTO:+0100
TZNAME:CET
DTSTART:20221030T010000
END:STANDARD
BEGIN:DAYLIGHT
TZOFFSETFROM:+0100
TZOFFSETTO:+0200
TZNAME:CEST
DTSTART:20230326T010000
END:DAYLIGHT
BEGIN:STANDARD
TZOFFSETFROM:+0200
TZOFFSETTO:+0100
TZNAME:CET
DTSTART:20231029T010000
END:STANDARD
BEGIN:DAYLIGHT
TZOFFSETFROM:+0100
TZOFFSETTO:+0200
TZNAME:CEST
DTSTART:20240331T010000
END:DAYLIGHT
BEGIN:STANDARD
TZOFFSETFROM:+0200
TZOFFSETTO:+0100
TZNAME:CET
DTSTART:20241027T010000
END:STANDARD
END:VTIMEZONE
BEGIN:VEVENT
DTSTART;TZID=Europe/Paris:20231019T121500
DTEND;TZID=Europe/Paris:20231019T121500
DTSTAMP:20260422T230835
CREATED:20231009T080452Z
LAST-MODIFIED:20231009T080452Z
UID:16062-1697717700-1697717700@eglise-montargis.fr
SUMMARY:Messe pour St Isaac Jogues
DESCRIPTION:
URL:https://eglise-montargis.fr/evenement/messe-pour-st-isaac-jogues/
LOCATION:Eglise Sainte-Madeleine\, Rue Triqueti\, Montargis\, 45200\, France
END:VEVENT
BEGIN:VEVENT
DTSTART;TZID=Europe/Paris:20231019T183000
DTEND;TZID=Europe/Paris:20231019T183000
DTSTAMP:20260422T230835
CREATED:20231009T075811Z
LAST-MODIFIED:20231009T075811Z
UID:16052-1697740200-1697740200@eglise-montargis.fr
SUMMARY:Évangile de St Marc
DESCRIPTION:1 fois/mois
URL:https://eglise-montargis.fr/evenement/evangile-de-st-marc/
LOCATION:Chapelle des Closiers
END:VEVENT
END:VCALENDAR