BEGIN:VCALENDAR
VERSION:2.0
PRODID:-//Paroisses catholiques du Montargois - ECPv6.15.20//NONSGML v1.0//EN
CALSCALE:GREGORIAN
METHOD:PUBLISH
X-ORIGINAL-URL:https://eglise-montargis.fr
X-WR-CALDESC:Évènements pour Paroisses catholiques du Montargois
REFRESH-INTERVAL;VALUE=DURATION:PT1H
X-Robots-Tag:noindex
X-PUBLISHED-TTL:PT1H
BEGIN:VTIMEZONE
TZID:Europe/Paris
BEGIN:DAYLIGHT
TZOFFSETFROM:+0100
TZOFFSETTO:+0200
TZNAME:CEST
DTSTART:20220327T010000
END:DAYLIGHT
BEGIN:STANDARD
TZOFFSETFROM:+0200
TZOFFSETTO:+0100
TZNAME:CET
DTSTART:20221030T010000
END:STANDARD
BEGIN:DAYLIGHT
TZOFFSETFROM:+0100
TZOFFSETTO:+0200
TZNAME:CEST
DTSTART:20230326T010000
END:DAYLIGHT
BEGIN:STANDARD
TZOFFSETFROM:+0200
TZOFFSETTO:+0100
TZNAME:CET
DTSTART:20231029T010000
END:STANDARD
BEGIN:DAYLIGHT
TZOFFSETFROM:+0100
TZOFFSETTO:+0200
TZNAME:CEST
DTSTART:20240331T010000
END:DAYLIGHT
BEGIN:STANDARD
TZOFFSETFROM:+0200
TZOFFSETTO:+0100
TZNAME:CET
DTSTART:20241027T010000
END:STANDARD
END:VTIMEZONE
BEGIN:VEVENT
DTSTART;TZID=Europe/Paris:20231026T080000
DTEND;TZID=Europe/Paris:20231029T170000
DTSTAMP:20260422T231232
CREATED:20231007T075930Z
LAST-MODIFIED:20231007T075930Z
UID:16045-1698307200-1698598800@eglise-montargis.fr
SUMMARY:Camp musique et liturgie
DESCRIPTION:4 jours pour les jeunes de 12 à 17 ans . Préparer\, animer et vivre la liturgie eucharistique et la liturgie des heures et depuis 3 ans \, animer une veillée de louange. 4 jours pour rencontrer le Seigneur\, se mettre à l’écoute de l’Esprit Saint \, vivre en enfants du même Père. Inscriptions: 06 72 48 40 27 ou campmusiqueliturgie@gmail.com
URL:https://eglise-montargis.fr/evenement/camp-musique-et-liturgie-4/
LOCATION:Beaugency
END:VEVENT
END:VCALENDAR