BEGIN:VCALENDAR
VERSION:2.0
PRODID:-//Paroisses catholiques du Montargois - ECPv6.15.20//NONSGML v1.0//EN
CALSCALE:GREGORIAN
METHOD:PUBLISH
X-ORIGINAL-URL:https://eglise-montargis.fr
X-WR-CALDESC:Évènements pour Paroisses catholiques du Montargois
REFRESH-INTERVAL;VALUE=DURATION:PT1H
X-Robots-Tag:noindex
X-PUBLISHED-TTL:PT1H
BEGIN:VTIMEZONE
TZID:Europe/Paris
BEGIN:DAYLIGHT
TZOFFSETFROM:+0100
TZOFFSETTO:+0200
TZNAME:CEST
DTSTART:20220327T010000
END:DAYLIGHT
BEGIN:STANDARD
TZOFFSETFROM:+0200
TZOFFSETTO:+0100
TZNAME:CET
DTSTART:20221030T010000
END:STANDARD
BEGIN:DAYLIGHT
TZOFFSETFROM:+0100
TZOFFSETTO:+0200
TZNAME:CEST
DTSTART:20230326T010000
END:DAYLIGHT
BEGIN:STANDARD
TZOFFSETFROM:+0200
TZOFFSETTO:+0100
TZNAME:CET
DTSTART:20231029T010000
END:STANDARD
BEGIN:DAYLIGHT
TZOFFSETFROM:+0100
TZOFFSETTO:+0200
TZNAME:CEST
DTSTART:20240331T010000
END:DAYLIGHT
BEGIN:STANDARD
TZOFFSETFROM:+0200
TZOFFSETTO:+0100
TZNAME:CET
DTSTART:20241027T010000
END:STANDARD
END:VTIMEZONE
BEGIN:VEVENT
DTSTART;TZID=Europe/Paris:20231217T150000
DTEND;TZID=Europe/Paris:20231217T150000
DTSTAMP:20260422T203817
CREATED:20231204T125447Z
LAST-MODIFIED:20231204T125447Z
UID:16216-1702825200-1702825200@eglise-montargis.fr
SUMMARY:Chantons Noël ensemble !
DESCRIPTION:Avec la chorale du groupement paroissial Cepoy-Corquilleroy-Girolles  \nEntrée gratuite et l’église sera chauffée ! 
URL:https://eglise-montargis.fr/evenement/chantons-noel-ensemble-4/
LOCATION:église de Cepoy
END:VEVENT
BEGIN:VEVENT
DTSTART;TZID=Europe/Paris:20231217T160000
DTEND;TZID=Europe/Paris:20231217T160000
DTSTAMP:20260422T203817
CREATED:20231204T125042Z
LAST-MODIFIED:20231204T125042Z
UID:16211-1702828800-1702828800@eglise-montargis.fr
SUMMARY:Concert de Noël
DESCRIPTION:Proposé par les mairies 
URL:https://eglise-montargis.fr/evenement/concert-de-noel-3/
LOCATION:église de Chevillon
END:VEVENT
END:VCALENDAR