BEGIN:VCALENDAR
VERSION:2.0
PRODID:-//Paroisses catholiques du Montargois - ECPv6.15.20//NONSGML v1.0//EN
CALSCALE:GREGORIAN
METHOD:PUBLISH
X-WR-CALNAME:Paroisses catholiques du Montargois
X-ORIGINAL-URL:https://eglise-montargis.fr
X-WR-CALDESC:Évènements pour Paroisses catholiques du Montargois
REFRESH-INTERVAL;VALUE=DURATION:PT1H
X-Robots-Tag:noindex
X-PUBLISHED-TTL:PT1H
BEGIN:VTIMEZONE
TZID:Europe/Paris
BEGIN:DAYLIGHT
TZOFFSETFROM:+0100
TZOFFSETTO:+0200
TZNAME:CEST
DTSTART:20230326T010000
END:DAYLIGHT
BEGIN:STANDARD
TZOFFSETFROM:+0200
TZOFFSETTO:+0100
TZNAME:CET
DTSTART:20231029T010000
END:STANDARD
BEGIN:DAYLIGHT
TZOFFSETFROM:+0100
TZOFFSETTO:+0200
TZNAME:CEST
DTSTART:20240331T010000
END:DAYLIGHT
BEGIN:STANDARD
TZOFFSETFROM:+0200
TZOFFSETTO:+0100
TZNAME:CET
DTSTART:20241027T010000
END:STANDARD
BEGIN:DAYLIGHT
TZOFFSETFROM:+0100
TZOFFSETTO:+0200
TZNAME:CEST
DTSTART:20250330T010000
END:DAYLIGHT
BEGIN:STANDARD
TZOFFSETFROM:+0200
TZOFFSETTO:+0100
TZNAME:CET
DTSTART:20251026T010000
END:STANDARD
END:VTIMEZONE
BEGIN:VEVENT
DTSTART;TZID=Europe/Paris:20240315T183000
DTEND;TZID=Europe/Paris:20240315T183000
DTSTAMP:20260422T164114
CREATED:20240303T180625Z
LAST-MODIFIED:20240303T180625Z
UID:16568-1710527400-1710527400@eglise-montargis.fr
SUMMARY:Chemin de croix
DESCRIPTION:
URL:https://eglise-montargis.fr/evenement/chemin-de-croix-11/
LOCATION:Eglise de Châlette bourg
END:VEVENT
BEGIN:VEVENT
DTSTART;TZID=Europe/Paris:20240315T200000
DTEND;TZID=Europe/Paris:20240315T220000
DTSTAMP:20260422T164114
CREATED:20240303T182259Z
LAST-MODIFIED:20240303T182259Z
UID:16602-1710532800-1710540000@eglise-montargis.fr
SUMMARY:CCFD: Temps de Carême fraternel
DESCRIPTION:
URL:https://eglise-montargis.fr/evenement/ccfd-temps-de-careme-fraternel/
LOCATION:Lombreuil
ATTACH;FMTTYPE=image/png:https://eglise-montargis.fr/wp-content/uploads/2024/03/Capture-décran-2024-03-03-à-19.20.14.png
END:VEVENT
END:VCALENDAR