BEGIN:VCALENDAR
VERSION:2.0
PRODID:-//Paroisses catholiques du Montargois - ECPv6.15.20//NONSGML v1.0//EN
CALSCALE:GREGORIAN
METHOD:PUBLISH
X-WR-CALNAME:Paroisses catholiques du Montargois
X-ORIGINAL-URL:https://eglise-montargis.fr
X-WR-CALDESC:Évènements pour Paroisses catholiques du Montargois
REFRESH-INTERVAL;VALUE=DURATION:PT1H
X-Robots-Tag:noindex
X-PUBLISHED-TTL:PT1H
BEGIN:VTIMEZONE
TZID:Europe/Paris
BEGIN:DAYLIGHT
TZOFFSETFROM:+0100
TZOFFSETTO:+0200
TZNAME:CEST
DTSTART:20230326T010000
END:DAYLIGHT
BEGIN:STANDARD
TZOFFSETFROM:+0200
TZOFFSETTO:+0100
TZNAME:CET
DTSTART:20231029T010000
END:STANDARD
BEGIN:DAYLIGHT
TZOFFSETFROM:+0100
TZOFFSETTO:+0200
TZNAME:CEST
DTSTART:20240331T010000
END:DAYLIGHT
BEGIN:STANDARD
TZOFFSETFROM:+0200
TZOFFSETTO:+0100
TZNAME:CET
DTSTART:20241027T010000
END:STANDARD
BEGIN:DAYLIGHT
TZOFFSETFROM:+0100
TZOFFSETTO:+0200
TZNAME:CEST
DTSTART:20250330T010000
END:DAYLIGHT
BEGIN:STANDARD
TZOFFSETFROM:+0200
TZOFFSETTO:+0100
TZNAME:CET
DTSTART:20251026T010000
END:STANDARD
END:VTIMEZONE
BEGIN:VEVENT
DTSTART;TZID=Europe/Paris:20240316T140000
DTEND;TZID=Europe/Paris:20240316T140000
DTSTAMP:20260422T164022
CREATED:20240303T182442Z
LAST-MODIFIED:20240303T182442Z
UID:16605-1710597600-1710597600@eglise-montargis.fr
SUMMARY:Témoignage de Lucienne Dangreville
DESCRIPTION:
URL:https://eglise-montargis.fr/evenement/temoignage-de-lucienne-dangreville/
LOCATION:à l’aumonerie  \, presbytère de Montargis
ATTACH;FMTTYPE=image/png:https://eglise-montargis.fr/wp-content/uploads/2024/03/Capture-décran-2024-03-03-à-19.20.26.png
END:VEVENT
BEGIN:VEVENT
DTSTART;TZID=Europe/Paris:20240316T160000
DTEND;TZID=Europe/Paris:20240316T180000
DTSTAMP:20260422T164022
CREATED:20240216T191649Z
LAST-MODIFIED:20240219T182306Z
UID:16479-1710604800-1710612000@eglise-montargis.fr
SUMMARY:Jésus au Cœur de nos Vies
DESCRIPTION:Groupe de prière \nAu programme : louange-adoration\, parole et temps fraternel. \nCeux qui veulent ensuite se rendre à une messe de 18h30 ont largement le temps. \n 
URL:https://eglise-montargis.fr/evenement/jesus-au-coeur-de-nos-vies-13/
LOCATION:Eglise Sainte-Madeleine\, Rue Triqueti\, Montargis\, 45200\, France
CATEGORIES:agenda
ORGANIZER;CN="Jesus au Coeur de nos Vies":MAILTO:jesusaucoeurdenosvies@gmail.com
END:VEVENT
END:VCALENDAR