BEGIN:VCALENDAR
VERSION:2.0
PRODID:-//Paroisses catholiques du Montargois - ECPv6.15.20//NONSGML v1.0//EN
CALSCALE:GREGORIAN
METHOD:PUBLISH
X-ORIGINAL-URL:https://eglise-montargis.fr
X-WR-CALDESC:Évènements pour Paroisses catholiques du Montargois
REFRESH-INTERVAL;VALUE=DURATION:PT1H
X-Robots-Tag:noindex
X-PUBLISHED-TTL:PT1H
BEGIN:VTIMEZONE
TZID:Europe/Paris
BEGIN:DAYLIGHT
TZOFFSETFROM:+0100
TZOFFSETTO:+0200
TZNAME:CEST
DTSTART:20230326T010000
END:DAYLIGHT
BEGIN:STANDARD
TZOFFSETFROM:+0200
TZOFFSETTO:+0100
TZNAME:CET
DTSTART:20231029T010000
END:STANDARD
BEGIN:DAYLIGHT
TZOFFSETFROM:+0100
TZOFFSETTO:+0200
TZNAME:CEST
DTSTART:20240331T010000
END:DAYLIGHT
BEGIN:STANDARD
TZOFFSETFROM:+0200
TZOFFSETTO:+0100
TZNAME:CET
DTSTART:20241027T010000
END:STANDARD
BEGIN:DAYLIGHT
TZOFFSETFROM:+0100
TZOFFSETTO:+0200
TZNAME:CEST
DTSTART:20250330T010000
END:DAYLIGHT
BEGIN:STANDARD
TZOFFSETFROM:+0200
TZOFFSETTO:+0100
TZNAME:CET
DTSTART:20251026T010000
END:STANDARD
END:VTIMEZONE
BEGIN:VEVENT
DTSTART;VALUE=DATE:20240602
DTEND;VALUE=DATE:20240603
DTSTAMP:20260422T124426
CREATED:20240213T142823Z
LAST-MODIFIED:20240213T142823Z
UID:16385-1717286400-1717372799@eglise-montargis.fr
SUMMARY:Clôture du synode
DESCRIPTION:3 cars sont prévus pour nous emmener à Orléans pour clôturer le synode diocésain 
URL:https://eglise-montargis.fr/evenement/cloture-du-synode-2/
LOCATION:Orléans
END:VEVENT
BEGIN:VEVENT
DTSTART;TZID=Europe/Paris:20240602T073000
DTEND;TZID=Europe/Paris:20240602T200000
DTSTAMP:20260422T124426
CREATED:20240407T103702Z
LAST-MODIFIED:20240407T103742Z
UID:16727-1717313400-1717358400@eglise-montargis.fr
SUMMARY:synode en action : envoi missionnaire
DESCRIPTION:
URL:https://eglise-montargis.fr/evenement/synode-en-action-envoi-missionnaire/
LOCATION:Centre ville Orléans
ATTACH;FMTTYPE=image/png:https://eglise-montargis.fr/wp-content/uploads/2024/04/Capture-décran-2024-04-07-à-12.32.12.png
END:VEVENT
END:VCALENDAR