BEGIN:VCALENDAR
VERSION:2.0
PRODID:-//Paroisses catholiques du Montargois - ECPv6.15.20//NONSGML v1.0//EN
CALSCALE:GREGORIAN
METHOD:PUBLISH
X-ORIGINAL-URL:https://eglise-montargis.fr
X-WR-CALDESC:Évènements pour Paroisses catholiques du Montargois
REFRESH-INTERVAL;VALUE=DURATION:PT1H
X-Robots-Tag:noindex
X-PUBLISHED-TTL:PT1H
BEGIN:VTIMEZONE
TZID:Europe/Paris
BEGIN:DAYLIGHT
TZOFFSETFROM:+0100
TZOFFSETTO:+0200
TZNAME:CEST
DTSTART:20230326T010000
END:DAYLIGHT
BEGIN:STANDARD
TZOFFSETFROM:+0200
TZOFFSETTO:+0100
TZNAME:CET
DTSTART:20231029T010000
END:STANDARD
BEGIN:DAYLIGHT
TZOFFSETFROM:+0100
TZOFFSETTO:+0200
TZNAME:CEST
DTSTART:20240331T010000
END:DAYLIGHT
BEGIN:STANDARD
TZOFFSETFROM:+0200
TZOFFSETTO:+0100
TZNAME:CET
DTSTART:20241027T010000
END:STANDARD
BEGIN:DAYLIGHT
TZOFFSETFROM:+0100
TZOFFSETTO:+0200
TZNAME:CEST
DTSTART:20250330T010000
END:DAYLIGHT
BEGIN:STANDARD
TZOFFSETFROM:+0200
TZOFFSETTO:+0100
TZNAME:CET
DTSTART:20251026T010000
END:STANDARD
END:VTIMEZONE
BEGIN:VEVENT
DTSTART;VALUE=DATE:20240928
DTEND;VALUE=DATE:20240929
DTSTAMP:20260422T082643
CREATED:20240706T132637Z
LAST-MODIFIED:20240706T132637Z
UID:16977-1727481600-1727567999@eglise-montargis.fr
SUMMARY:rentrée paroissiale Montargis rural
DESCRIPTION:rallye des clochers en vélo ou voiture autour de Lombreuil le matin\, repas partagé et inscription l’après-midi.
URL:https://eglise-montargis.fr/evenement/rentree-paroissiale-montargis-rural/
END:VEVENT
BEGIN:VEVENT
DTSTART;VALUE=DATE:20240928
DTEND;VALUE=DATE:20240929
DTSTAMP:20260422T082643
CREATED:20240901T153334Z
LAST-MODIFIED:20240901T153334Z
UID:17089-1727481600-1727567999@eglise-montargis.fr
SUMMARY:Circuit des clochers
DESCRIPTION:Accueil des participants à 9h00 au prieuré de Lombreuil  \n3 parcours au choix : enfants accompagnés vélo 8 kms \n                                      Adultes vélo 24 kms \n                                      Voitures 35 kms  \n12h30/13h accueil pour tous et repas partagé  \n14h -16h30 Congrès mission / projets de l’année à venir/ Jeux de société \n17h messe en plein air au prieuré \ncontact: Marie-Thérèse 06 32 63 90 53
URL:https://eglise-montargis.fr/evenement/circuit-des-clochers/
LOCATION:Lombreuil
END:VEVENT
BEGIN:VEVENT
DTSTART;TZID=Europe/Paris:20240928T160000
DTEND;TZID=Europe/Paris:20240928T220000
DTSTAMP:20260422T082643
CREATED:20240901T152039Z
LAST-MODIFIED:20240901T152405Z
UID:17076-1727539200-1727560800@eglise-montargis.fr
SUMMARY:Journée "mission"
DESCRIPTION: Lieu : MONTARGIS\, établissement scolaire SAINT LOUIS\, place du château (puis église Ste Madeleine Montargis)  \nAu programme : Des ateliers mission Avec en vrac : le père Précieux et les réseaux sociaux\, former des disciples missionnaires\, la série The Chosen\, le retour du patronage\, un jeu qui s’appelle « kérygme »\, etc.  \n Pépinière Découvrez la richesse de toutes les petites pousses semées et cultivées dans les paroisses\, les communautés\, les mouvements\, les associations… aux quatre coins de la France.  \nApéro et repas partagé à l’école Saint LOUIS  \nEt à 20h30 : LOUANGE – ADORATION – INTERCESSION avec le groupe SITIO à l’église Ste Madeleine de Montargis Avec possibilité sacrement réconciliation et prière des frères
URL:https://eglise-montargis.fr/evenement/journee-mission/
LOCATION:Ecole Saint Louis Montargis
END:VEVENT
END:VCALENDAR