BEGIN:VCALENDAR
VERSION:2.0
PRODID:-//Paroisses catholiques du Montargois - ECPv6.15.20//NONSGML v1.0//EN
CALSCALE:GREGORIAN
METHOD:PUBLISH
X-ORIGINAL-URL:https://eglise-montargis.fr
X-WR-CALDESC:Évènements pour Paroisses catholiques du Montargois
REFRESH-INTERVAL;VALUE=DURATION:PT1H
X-Robots-Tag:noindex
X-PUBLISHED-TTL:PT1H
BEGIN:VTIMEZONE
TZID:Europe/Paris
BEGIN:DAYLIGHT
TZOFFSETFROM:+0100
TZOFFSETTO:+0200
TZNAME:CEST
DTSTART:20230326T010000
END:DAYLIGHT
BEGIN:STANDARD
TZOFFSETFROM:+0200
TZOFFSETTO:+0100
TZNAME:CET
DTSTART:20231029T010000
END:STANDARD
BEGIN:DAYLIGHT
TZOFFSETFROM:+0100
TZOFFSETTO:+0200
TZNAME:CEST
DTSTART:20240331T010000
END:DAYLIGHT
BEGIN:STANDARD
TZOFFSETFROM:+0200
TZOFFSETTO:+0100
TZNAME:CET
DTSTART:20241027T010000
END:STANDARD
BEGIN:DAYLIGHT
TZOFFSETFROM:+0100
TZOFFSETTO:+0200
TZNAME:CEST
DTSTART:20250330T010000
END:DAYLIGHT
BEGIN:STANDARD
TZOFFSETFROM:+0200
TZOFFSETTO:+0100
TZNAME:CET
DTSTART:20251026T010000
END:STANDARD
END:VTIMEZONE
BEGIN:VEVENT
DTSTART;VALUE=DATE:20241011
DTEND;VALUE=DATE:20241013
DTSTAMP:20260422T070452
CREATED:20241009T133740Z
LAST-MODIFIED:20241009T134237Z
UID:17231-1728604800-1728777599@eglise-montargis.fr
SUMMARY:Collecte du secours catholique   "la boîte en plus"
DESCRIPTION:Dans tous les grands magasins
URL:https://eglise-montargis.fr/evenement/collecte-du-secours-catholique-la-boite-en-plus/
END:VEVENT
BEGIN:VEVENT
DTSTART;TZID=Europe/Paris:20241012T100000
DTEND;TZID=Europe/Paris:20241012T113000
DTSTAMP:20260422T070452
CREATED:20240904T114538Z
LAST-MODIFIED:20240904T114538Z
UID:17102-1728727200-1728732600@eglise-montargis.fr
SUMMARY:Eveil à la foi (3/7 ans)
DESCRIPTION:Pour le montargois rural 
URL:https://eglise-montargis.fr/evenement/eveil-a-la-foi-3-7-ans-2/
LOCATION:Lombreuil
ATTACH;FMTTYPE=image/png:https://eglise-montargis.fr/wp-content/uploads/2024/09/Capture-décran-2024-09-04-à-09.55.24.png
END:VEVENT
END:VCALENDAR