BEGIN:VCALENDAR
VERSION:2.0
PRODID:-//Paroisses catholiques du Montargois - ECPv6.15.20//NONSGML v1.0//EN
CALSCALE:GREGORIAN
METHOD:PUBLISH
X-WR-CALNAME:Paroisses catholiques du Montargois
X-ORIGINAL-URL:https://eglise-montargis.fr
X-WR-CALDESC:Évènements pour Paroisses catholiques du Montargois
REFRESH-INTERVAL;VALUE=DURATION:PT1H
X-Robots-Tag:noindex
X-PUBLISHED-TTL:PT1H
BEGIN:VTIMEZONE
TZID:Europe/Paris
BEGIN:DAYLIGHT
TZOFFSETFROM:+0100
TZOFFSETTO:+0200
TZNAME:CEST
DTSTART:20240331T010000
END:DAYLIGHT
BEGIN:STANDARD
TZOFFSETFROM:+0200
TZOFFSETTO:+0100
TZNAME:CET
DTSTART:20241027T010000
END:STANDARD
BEGIN:DAYLIGHT
TZOFFSETFROM:+0100
TZOFFSETTO:+0200
TZNAME:CEST
DTSTART:20250330T010000
END:DAYLIGHT
BEGIN:STANDARD
TZOFFSETFROM:+0200
TZOFFSETTO:+0100
TZNAME:CET
DTSTART:20251026T010000
END:STANDARD
BEGIN:DAYLIGHT
TZOFFSETFROM:+0100
TZOFFSETTO:+0200
TZNAME:CEST
DTSTART:20260329T010000
END:DAYLIGHT
BEGIN:STANDARD
TZOFFSETFROM:+0200
TZOFFSETTO:+0100
TZNAME:CET
DTSTART:20261025T010000
END:STANDARD
END:VTIMEZONE
BEGIN:VEVENT
DTSTART;TZID=Europe/Paris:20250319T100000
DTEND;TZID=Europe/Paris:20250319T133000
DTSTAMP:20260421T235123
CREATED:20250307T190902Z
LAST-MODIFIED:20250307T190902Z
UID:17523-1742378400-1742391000@eglise-montargis.fr
SUMMARY:Fête de St Joseph
DESCRIPTION:Chapelet à l’église de Pannes à 10h \nMesse à 12h15 à l’église Ste Madeleine 
URL:https://eglise-montargis.fr/evenement/fete-de-st-joseph-2/
END:VEVENT
BEGIN:VEVENT
DTSTART;TZID=Europe/Paris:20250319T200000
DTEND;TZID=Europe/Paris:20250319T200000
DTSTAMP:20260421T235123
CREATED:20250309T153753Z
LAST-MODIFIED:20250309T153822Z
UID:17531-1742414400-1742414400@eglise-montargis.fr
SUMMARY:Partage d'évangile
DESCRIPTION:É vangile de Luc 13\, 1-9
URL:https://eglise-montargis.fr/evenement/partage-devangile-2/
LOCATION:salle paroissiale de Villemandeur\, 13 avenue de la Libération
END:VEVENT
END:VCALENDAR