BEGIN:VCALENDAR
VERSION:2.0
PRODID:-//Paroisses catholiques du Montargois - ECPv6.15.20//NONSGML v1.0//EN
CALSCALE:GREGORIAN
METHOD:PUBLISH
X-ORIGINAL-URL:https://eglise-montargis.fr
X-WR-CALDESC:Évènements pour Paroisses catholiques du Montargois
REFRESH-INTERVAL;VALUE=DURATION:PT1H
X-Robots-Tag:noindex
X-PUBLISHED-TTL:PT1H
BEGIN:VTIMEZONE
TZID:Europe/Paris
BEGIN:DAYLIGHT
TZOFFSETFROM:+0100
TZOFFSETTO:+0200
TZNAME:CEST
DTSTART:20240331T010000
END:DAYLIGHT
BEGIN:STANDARD
TZOFFSETFROM:+0200
TZOFFSETTO:+0100
TZNAME:CET
DTSTART:20241027T010000
END:STANDARD
BEGIN:DAYLIGHT
TZOFFSETFROM:+0100
TZOFFSETTO:+0200
TZNAME:CEST
DTSTART:20250330T010000
END:DAYLIGHT
BEGIN:STANDARD
TZOFFSETFROM:+0200
TZOFFSETTO:+0100
TZNAME:CET
DTSTART:20251026T010000
END:STANDARD
BEGIN:DAYLIGHT
TZOFFSETFROM:+0100
TZOFFSETTO:+0200
TZNAME:CEST
DTSTART:20260329T010000
END:DAYLIGHT
BEGIN:STANDARD
TZOFFSETFROM:+0200
TZOFFSETTO:+0100
TZNAME:CET
DTSTART:20261025T010000
END:STANDARD
END:VTIMEZONE
BEGIN:VEVENT
DTSTART;TZID=Europe/Paris:20250607T160000
DTEND;TZID=Europe/Paris:20250607T180000
DTSTAMP:20260421T191426
CREATED:20250501T184206Z
LAST-MODIFIED:20250501T184301Z
UID:16818-1749312000-1749319200@eglise-montargis.fr
SUMMARY:Jésus au Cœur de nos Vies
DESCRIPTION:Groupe de prière \nAu programme dès 16h : accueil\,  louange-adoration\, échanges. \nParticipation à la messe de 18h30 sur place pour ceux qui le souhaitent. \nCovoiturage possible sur demande.
URL:https://eglise-montargis.fr/evenement/jesus-au-coeur-de-nos-vies-14/
LOCATION:Eglise Saint-Martin d’Amilly bourg\, Place de l'église\, Amilly\, 45200\, France
CATEGORIES:agenda
ORGANIZER;CN="Jesus au Coeur de nos Vies":MAILTO:jesusaucoeurdenosvies@gmail.com
END:VEVENT
END:VCALENDAR