BEGIN:VCALENDAR
VERSION:2.0
PRODID:-//Paroisses catholiques du Montargois - ECPv6.15.20//NONSGML v1.0//EN
CALSCALE:GREGORIAN
METHOD:PUBLISH
X-ORIGINAL-URL:https://eglise-montargis.fr
X-WR-CALDESC:Évènements pour Paroisses catholiques du Montargois
REFRESH-INTERVAL;VALUE=DURATION:PT1H
X-Robots-Tag:noindex
X-PUBLISHED-TTL:PT1H
BEGIN:VTIMEZONE
TZID:Europe/Paris
BEGIN:DAYLIGHT
TZOFFSETFROM:+0100
TZOFFSETTO:+0200
TZNAME:CEST
DTSTART:20240331T010000
END:DAYLIGHT
BEGIN:STANDARD
TZOFFSETFROM:+0200
TZOFFSETTO:+0100
TZNAME:CET
DTSTART:20241027T010000
END:STANDARD
BEGIN:DAYLIGHT
TZOFFSETFROM:+0100
TZOFFSETTO:+0200
TZNAME:CEST
DTSTART:20250330T010000
END:DAYLIGHT
BEGIN:STANDARD
TZOFFSETFROM:+0200
TZOFFSETTO:+0100
TZNAME:CET
DTSTART:20251026T010000
END:STANDARD
BEGIN:DAYLIGHT
TZOFFSETFROM:+0100
TZOFFSETTO:+0200
TZNAME:CEST
DTSTART:20260329T010000
END:DAYLIGHT
BEGIN:STANDARD
TZOFFSETFROM:+0200
TZOFFSETTO:+0100
TZNAME:CET
DTSTART:20261025T010000
END:STANDARD
END:VTIMEZONE
BEGIN:VEVENT
DTSTART;VALUE=DATE:20250628
DTEND;VALUE=DATE:20250629
DTSTAMP:20260421T191605
CREATED:20250611T132803Z
LAST-MODIFIED:20250611T132803Z
UID:17683-1751068800-1751155199@eglise-montargis.fr
SUMMARY:Consécration du diocèse au coeur immaculé de Marie
DESCRIPTION:
URL:https://eglise-montargis.fr/evenement/consecration-du-diocese-au-coeur-immacule-de-marie/
LOCATION:cathédrale Ste Croix d’Orléans
END:VEVENT
BEGIN:VEVENT
DTSTART;TZID=Europe/Paris:20250628T110000
DTEND;TZID=Europe/Paris:20250628T120000
DTSTAMP:20260421T191605
CREATED:20250611T133504Z
LAST-MODIFIED:20250611T133504Z
UID:17689-1751108400-1751112000@eglise-montargis.fr
SUMMARY:Inscription KT Pannes Villemandeur
DESCRIPTION:
URL:https://eglise-montargis.fr/evenement/inscription-kt-pannes-villemandeur/
END:VEVENT
BEGIN:VEVENT
DTSTART;TZID=Europe/Paris:20250628T183000
DTEND;TZID=Europe/Paris:20250628T183000
DTSTAMP:20260421T191605
CREATED:20250611T133303Z
LAST-MODIFIED:20250611T133355Z
UID:17687-1751135400-1751135400@eglise-montargis.fr
SUMMARY:repas  paroissial
DESCRIPTION:L’EAP de Pannes Villemandeur et l’association paroissiale invitent les paroissiens à venir partager un pot de l’amitié suivi d’un repas partagé tiré du sac à l’issue de la messe du 28 juin à 18h30. Un barbecue sera à votre disposition ! 
URL:https://eglise-montargis.fr/evenement/repas-paroissial/
LOCATION:presbytère de Villemandeur
END:VEVENT
END:VCALENDAR