BEGIN:VCALENDAR
VERSION:2.0
PRODID:-//Paroisses catholiques du Montargois - ECPv6.15.20//NONSGML v1.0//EN
CALSCALE:GREGORIAN
METHOD:PUBLISH
X-WR-CALNAME:Paroisses catholiques du Montargois
X-ORIGINAL-URL:https://eglise-montargis.fr
X-WR-CALDESC:Évènements pour Paroisses catholiques du Montargois
REFRESH-INTERVAL;VALUE=DURATION:PT1H
X-Robots-Tag:noindex
X-PUBLISHED-TTL:PT1H
BEGIN:VTIMEZONE
TZID:Europe/Paris
BEGIN:DAYLIGHT
TZOFFSETFROM:+0100
TZOFFSETTO:+0200
TZNAME:CEST
DTSTART:20240331T010000
END:DAYLIGHT
BEGIN:STANDARD
TZOFFSETFROM:+0200
TZOFFSETTO:+0100
TZNAME:CET
DTSTART:20241027T010000
END:STANDARD
BEGIN:DAYLIGHT
TZOFFSETFROM:+0100
TZOFFSETTO:+0200
TZNAME:CEST
DTSTART:20250330T010000
END:DAYLIGHT
BEGIN:STANDARD
TZOFFSETFROM:+0200
TZOFFSETTO:+0100
TZNAME:CET
DTSTART:20251026T010000
END:STANDARD
BEGIN:DAYLIGHT
TZOFFSETFROM:+0100
TZOFFSETTO:+0200
TZNAME:CEST
DTSTART:20260329T010000
END:DAYLIGHT
BEGIN:STANDARD
TZOFFSETFROM:+0200
TZOFFSETTO:+0100
TZNAME:CET
DTSTART:20261025T010000
END:STANDARD
END:VTIMEZONE
BEGIN:VEVENT
DTSTART;VALUE=DATE:20250920
DTEND;VALUE=DATE:20250921
DTSTAMP:20260421T150013
CREATED:20250908T132901Z
LAST-MODIFIED:20250908T152709Z
UID:18160-1758326400-1758412799@eglise-montargis.fr
SUMMARY:Brocante du secours Catholique
DESCRIPTION:à côté de l’église de Vésines
URL:https://eglise-montargis.fr/evenement/brocante-du-secours-catholique-11/
CATEGORIES:agenda
ATTACH;FMTTYPE=image/png:https://eglise-montargis.fr/wp-content/uploads/2018/09/secourscath-logo-fb.png
END:VEVENT
BEGIN:VEVENT
DTSTART;TZID=Europe/Paris:20250920T140000
DTEND;TZID=Europe/Paris:20250921T180000
DTSTAMP:20260421T150013
CREATED:20250915T084501Z
LAST-MODIFIED:20250915T090616Z
UID:18680-1758376800-1758477600@eglise-montargis.fr
SUMMARY:Visites guidées de l’église Sainte-Madeleine
DESCRIPTION:A l’occasion des Journées européennes du Patrimoine 2025\, l’Association des Amis de l’Eglise Sainte-Madeleine de Montargis vous propose des visites guidées de l’église Sainte Madeleine : \n\nle samedi 20 septembre de 14h à 18h\nle dimanche 21 septembre de 14h à 18h
URL:https://eglise-montargis.fr/evenement/visites-guidees-de-leglise-sainte-madeleine/
LOCATION:Eglise Sainte-Madeleine\, Rue Triqueti\, Montargis\, 45200\, France
CATEGORIES:agenda
END:VEVENT
BEGIN:VEVENT
DTSTART;TZID=Europe/Paris:20250920T160000
DTEND;TZID=Europe/Paris:20250920T180000
DTSTAMP:20260421T150013
CREATED:20250908T154156Z
LAST-MODIFIED:20250915T105457Z
UID:18361-1758384000-1758391200@eglise-montargis.fr
SUMMARY:Jésus au Cœur de nos Vies
DESCRIPTION:
URL:https://eglise-montargis.fr/evenement/jesus-au-coeur-de-nos-vies-23/
LOCATION:Eglise Sainte-Madeleine\, Rue Triqueti\, Montargis\, 45200\, France
CATEGORIES:agenda
ORGANIZER;CN="Jesus au Coeur de nos Vies":MAILTO:jesusaucoeurdenosvies@gmail.com
END:VEVENT
END:VCALENDAR