BEGIN:VCALENDAR
VERSION:2.0
PRODID:-//Paroisses catholiques du Montargois - ECPv6.15.20//NONSGML v1.0//EN
CALSCALE:GREGORIAN
METHOD:PUBLISH
X-WR-CALNAME:Paroisses catholiques du Montargois
X-ORIGINAL-URL:https://eglise-montargis.fr
X-WR-CALDESC:Évènements pour Paroisses catholiques du Montargois
REFRESH-INTERVAL;VALUE=DURATION:PT1H
X-Robots-Tag:noindex
X-PUBLISHED-TTL:PT1H
BEGIN:VTIMEZONE
TZID:Europe/Paris
BEGIN:DAYLIGHT
TZOFFSETFROM:+0100
TZOFFSETTO:+0200
TZNAME:CEST
DTSTART:20240331T010000
END:DAYLIGHT
BEGIN:STANDARD
TZOFFSETFROM:+0200
TZOFFSETTO:+0100
TZNAME:CET
DTSTART:20241027T010000
END:STANDARD
BEGIN:DAYLIGHT
TZOFFSETFROM:+0100
TZOFFSETTO:+0200
TZNAME:CEST
DTSTART:20250330T010000
END:DAYLIGHT
BEGIN:STANDARD
TZOFFSETFROM:+0200
TZOFFSETTO:+0100
TZNAME:CET
DTSTART:20251026T010000
END:STANDARD
BEGIN:DAYLIGHT
TZOFFSETFROM:+0100
TZOFFSETTO:+0200
TZNAME:CEST
DTSTART:20260329T010000
END:DAYLIGHT
BEGIN:STANDARD
TZOFFSETFROM:+0200
TZOFFSETTO:+0100
TZNAME:CET
DTSTART:20261025T010000
END:STANDARD
END:VTIMEZONE
BEGIN:VEVENT
DTSTART;TZID=Europe/Paris:20250927T080000
DTEND;TZID=Europe/Paris:20250927T183000
DTSTAMP:20260421T150034
CREATED:20250911T110258Z
LAST-MODIFIED:20250911T110258Z
UID:18391-1758960000-1758997800@eglise-montargis.fr
SUMMARY:Pèlerinage de l'Espérance
DESCRIPTION:Les paroisses du Montargois et de Ferrières-en-Gâtinais vous proposent de vivre le pèlerinage de l’Espérance en allant ensemble à la Cathédrale d’Orléans le 27 septembre. \nEn savoir plus : Pèlerinage de l’Espérance 2025 – Paroisses catholiques du Montargois \n 
URL:https://eglise-montargis.fr/evenement/pelerinage-de-lesperance/
LOCATION:cathédrale Ste Croix d’Orléans
CATEGORIES:agenda
ATTACH;FMTTYPE=image/jpeg:https://eglise-montargis.fr/wp-content/uploads/2025/09/2025-pelerinage-cathedrale-visuel.jpg
ORGANIZER;CN="Paroisses du Montargois":MAILTO:paroisse.montargis@gmail.com
END:VEVENT
END:VCALENDAR