BEGIN:VCALENDAR
VERSION:2.0
PRODID:-//Paroisses catholiques du Montargois - ECPv6.15.20//NONSGML v1.0//EN
CALSCALE:GREGORIAN
METHOD:PUBLISH
X-ORIGINAL-URL:https://eglise-montargis.fr
X-WR-CALDESC:Évènements pour Paroisses catholiques du Montargois
REFRESH-INTERVAL;VALUE=DURATION:PT1H
X-Robots-Tag:noindex
X-PUBLISHED-TTL:PT1H
BEGIN:VTIMEZONE
TZID:Europe/Paris
BEGIN:DAYLIGHT
TZOFFSETFROM:+0100
TZOFFSETTO:+0200
TZNAME:CEST
DTSTART:20240331T010000
END:DAYLIGHT
BEGIN:STANDARD
TZOFFSETFROM:+0200
TZOFFSETTO:+0100
TZNAME:CET
DTSTART:20241027T010000
END:STANDARD
BEGIN:DAYLIGHT
TZOFFSETFROM:+0100
TZOFFSETTO:+0200
TZNAME:CEST
DTSTART:20250330T010000
END:DAYLIGHT
BEGIN:STANDARD
TZOFFSETFROM:+0200
TZOFFSETTO:+0100
TZNAME:CET
DTSTART:20251026T010000
END:STANDARD
BEGIN:DAYLIGHT
TZOFFSETFROM:+0100
TZOFFSETTO:+0200
TZNAME:CEST
DTSTART:20260329T010000
END:DAYLIGHT
BEGIN:STANDARD
TZOFFSETFROM:+0200
TZOFFSETTO:+0100
TZNAME:CET
DTSTART:20261025T010000
END:STANDARD
END:VTIMEZONE
BEGIN:VEVENT
DTSTART;TZID=Europe/Paris:20251107T194500
DTEND;TZID=Europe/Paris:20251107T194500
DTSTAMP:20260421T122246
CREATED:20251103T211214Z
LAST-MODIFIED:20251103T212548Z
UID:18923-1762544700-1762544700@eglise-montargis.fr
SUMMARY:Café Biblique
DESCRIPTION:
URL:https://eglise-montargis.fr/evenement/cafe-biblique-2/
LOCATION:Châlette
ATTACH;FMTTYPE=image/png:https://eglise-montargis.fr/wp-content/uploads/2025/11/Capture-decran-2025-11-03-a-21.41.13.png
END:VEVENT
BEGIN:VEVENT
DTSTART;TZID=Europe/Paris:20251107T203000
DTEND;TZID=Europe/Paris:20251107T203000
DTSTAMP:20260421T122246
CREATED:20251103T211700Z
LAST-MODIFIED:20251103T212747Z
UID:18925-1762547400-1762547400@eglise-montargis.fr
SUMMARY:concert SITIO
DESCRIPTION:
URL:https://eglise-montargis.fr/evenement/concert-sitio/
LOCATION:Eglise Ste Madeleine\, 22 rue Triqueti\, Montargis\, 45200
END:VEVENT
END:VCALENDAR