BEGIN:VCALENDAR
VERSION:2.0
PRODID:-//Paroisses catholiques du Montargois - ECPv6.15.20//NONSGML v1.0//EN
CALSCALE:GREGORIAN
METHOD:PUBLISH
X-ORIGINAL-URL:https://eglise-montargis.fr
X-WR-CALDESC:Évènements pour Paroisses catholiques du Montargois
REFRESH-INTERVAL;VALUE=DURATION:PT1H
X-Robots-Tag:noindex
X-PUBLISHED-TTL:PT1H
BEGIN:VTIMEZONE
TZID:Europe/Paris
BEGIN:DAYLIGHT
TZOFFSETFROM:+0100
TZOFFSETTO:+0200
TZNAME:CEST
DTSTART:20250330T010000
END:DAYLIGHT
BEGIN:STANDARD
TZOFFSETFROM:+0200
TZOFFSETTO:+0100
TZNAME:CET
DTSTART:20251026T010000
END:STANDARD
BEGIN:DAYLIGHT
TZOFFSETFROM:+0100
TZOFFSETTO:+0200
TZNAME:CEST
DTSTART:20260329T010000
END:DAYLIGHT
BEGIN:STANDARD
TZOFFSETFROM:+0200
TZOFFSETTO:+0100
TZNAME:CET
DTSTART:20261025T010000
END:STANDARD
BEGIN:DAYLIGHT
TZOFFSETFROM:+0100
TZOFFSETTO:+0200
TZNAME:CEST
DTSTART:20270328T010000
END:DAYLIGHT
BEGIN:STANDARD
TZOFFSETFROM:+0200
TZOFFSETTO:+0100
TZNAME:CET
DTSTART:20271031T010000
END:STANDARD
END:VTIMEZONE
BEGIN:VEVENT
DTSTART;TZID=Europe/Paris:20260124T093000
DTEND;TZID=Europe/Paris:20260124T163000
DTSTAMP:20260421T093216
CREATED:20251228T163718Z
LAST-MODIFIED:20251228T163718Z
UID:19106-1769247000-1769272200@eglise-montargis.fr
SUMMARY:Découvrir la liturgie
DESCRIPTION:L’équipe Pilote liturgique vous invite à participer à une journée pour découvrir la liturgie  \nVous pouvez venir soit le matin \, soit l’après-midi\, soit toute la journée\, avec un repas partagé le midi pour ceux qui le souhaitent.  \n15h30 : temps de célébration oecuménique à Montargis  \nCélébration pour les 1700 ans du credo de Nicée 
URL:https://eglise-montargis.fr/evenement/decouvrir-la-liturgie/
LOCATION:Centre paroissial Magdala salle R.Crespin
END:VEVENT
END:VCALENDAR