BEGIN:VCALENDAR
VERSION:2.0
PRODID:-//Paroisses catholiques du Montargois - ECPv6.15.20//NONSGML v1.0//EN
CALSCALE:GREGORIAN
METHOD:PUBLISH
X-WR-CALNAME:Paroisses catholiques du Montargois
X-ORIGINAL-URL:https://eglise-montargis.fr
X-WR-CALDESC:Évènements pour Paroisses catholiques du Montargois
REFRESH-INTERVAL;VALUE=DURATION:PT1H
X-Robots-Tag:noindex
X-PUBLISHED-TTL:PT1H
BEGIN:VTIMEZONE
TZID:Europe/Paris
BEGIN:DAYLIGHT
TZOFFSETFROM:+0100
TZOFFSETTO:+0200
TZNAME:CEST
DTSTART:20250330T010000
END:DAYLIGHT
BEGIN:STANDARD
TZOFFSETFROM:+0200
TZOFFSETTO:+0100
TZNAME:CET
DTSTART:20251026T010000
END:STANDARD
BEGIN:DAYLIGHT
TZOFFSETFROM:+0100
TZOFFSETTO:+0200
TZNAME:CEST
DTSTART:20260329T010000
END:DAYLIGHT
BEGIN:STANDARD
TZOFFSETFROM:+0200
TZOFFSETTO:+0100
TZNAME:CET
DTSTART:20261025T010000
END:STANDARD
BEGIN:DAYLIGHT
TZOFFSETFROM:+0100
TZOFFSETTO:+0200
TZNAME:CEST
DTSTART:20270328T010000
END:DAYLIGHT
BEGIN:STANDARD
TZOFFSETFROM:+0200
TZOFFSETTO:+0100
TZNAME:CET
DTSTART:20271031T010000
END:STANDARD
END:VTIMEZONE
BEGIN:VEVENT
DTSTART;TZID=Europe/Paris:20260313T090000
DTEND;TZID=Europe/Paris:20260313T090000
DTSTAMP:20260421T062450
CREATED:20260305T180322Z
LAST-MODIFIED:20260305T180924Z
UID:19190-1773392400-1773392400@eglise-montargis.fr
SUMMARY:messe en mémoire des victimes de l'église
DESCRIPTION:
URL:https://eglise-montargis.fr/evenement/messe-en-memoire-des-victimes-de-leglise/
LOCATION:Eglise Ste Madeleine\, 22 rue Triqueti\, Montargis\, 45200
END:VEVENT
BEGIN:VEVENT
DTSTART;TZID=Europe/Paris:20260313T180000
DTEND;TZID=Europe/Paris:20260313T180000
DTSTAMP:20260421T062450
CREATED:20260305T181713Z
LAST-MODIFIED:20260305T181723Z
UID:19196-1773424800-1773424800@eglise-montargis.fr
SUMMARY:Chemin de croix
DESCRIPTION:
URL:https://eglise-montargis.fr/evenement/chemin-de-croix-17/
LOCATION:Châlette
END:VEVENT
END:VCALENDAR