BEGIN:VCALENDAR
VERSION:2.0
PRODID:-//Paroisses catholiques du Montargois - ECPv6.15.20//NONSGML v1.0//EN
CALSCALE:GREGORIAN
METHOD:PUBLISH
X-ORIGINAL-URL:https://eglise-montargis.fr
X-WR-CALDESC:Évènements pour Paroisses catholiques du Montargois
REFRESH-INTERVAL;VALUE=DURATION:PT1H
X-Robots-Tag:noindex
X-PUBLISHED-TTL:PT1H
BEGIN:VTIMEZONE
TZID:Europe/Paris
BEGIN:DAYLIGHT
TZOFFSETFROM:+0100
TZOFFSETTO:+0200
TZNAME:CEST
DTSTART:20250330T010000
END:DAYLIGHT
BEGIN:STANDARD
TZOFFSETFROM:+0200
TZOFFSETTO:+0100
TZNAME:CET
DTSTART:20251026T010000
END:STANDARD
BEGIN:DAYLIGHT
TZOFFSETFROM:+0100
TZOFFSETTO:+0200
TZNAME:CEST
DTSTART:20260329T010000
END:DAYLIGHT
BEGIN:STANDARD
TZOFFSETFROM:+0200
TZOFFSETTO:+0100
TZNAME:CET
DTSTART:20261025T010000
END:STANDARD
BEGIN:DAYLIGHT
TZOFFSETFROM:+0100
TZOFFSETTO:+0200
TZNAME:CEST
DTSTART:20270328T010000
END:DAYLIGHT
BEGIN:STANDARD
TZOFFSETFROM:+0200
TZOFFSETTO:+0100
TZNAME:CET
DTSTART:20271031T010000
END:STANDARD
END:VTIMEZONE
BEGIN:VEVENT
DTSTART;VALUE=DATE:20260314
DTEND;VALUE=DATE:20260316
DTSTAMP:20260421T063922
CREATED:20260202T202949Z
LAST-MODIFIED:20260202T202949Z
UID:19144-1773446400-1773619199@eglise-montargis.fr
SUMMARY:2è we de ressourcement spirituel de l'année
DESCRIPTION:4è dimanche de Carême  \n2 jours pour respirer Dieu \, se recentrer et repartir fortifiés ! Prières \, enseignements\, adoration\, confessions\, louange ….dans une atmosphère fraternelle avec des chrétiens d’ici et d’ailleurs  \nInscriptions au secrétariat paroissial de Montargis  \nViens comme tu es \, repars renouvelé !
URL:https://eglise-montargis.fr/evenement/2e-we-de-ressourcement-spirituel-de-lannee/
LOCATION:St Louis
END:VEVENT
BEGIN:VEVENT
DTSTART;TZID=Europe/Paris:20260314T203000
DTEND;TZID=Europe/Paris:20260314T203000
DTSTAMP:20260421T063922
CREATED:20260305T180510Z
LAST-MODIFIED:20260305T180826Z
UID:19192-1773520200-1773520200@eglise-montargis.fr
SUMMARY:concert louange avec SITIO
DESCRIPTION:
URL:https://eglise-montargis.fr/evenement/concert-louange-avec-sitio/
LOCATION:église sainte Madeleine
END:VEVENT
END:VCALENDAR