BEGIN:VCALENDAR
VERSION:2.0
PRODID:-//Paroisses catholiques du Montargois - ECPv6.15.20//NONSGML v1.0//EN
CALSCALE:GREGORIAN
METHOD:PUBLISH
X-ORIGINAL-URL:https://eglise-montargis.fr
X-WR-CALDESC:Évènements pour Paroisses catholiques du Montargois
REFRESH-INTERVAL;VALUE=DURATION:PT1H
X-Robots-Tag:noindex
X-PUBLISHED-TTL:PT1H
BEGIN:VTIMEZONE
TZID:Europe/Paris
BEGIN:DAYLIGHT
TZOFFSETFROM:+0100
TZOFFSETTO:+0200
TZNAME:CEST
DTSTART:20250330T010000
END:DAYLIGHT
BEGIN:STANDARD
TZOFFSETFROM:+0200
TZOFFSETTO:+0100
TZNAME:CET
DTSTART:20251026T010000
END:STANDARD
BEGIN:DAYLIGHT
TZOFFSETFROM:+0100
TZOFFSETTO:+0200
TZNAME:CEST
DTSTART:20260329T010000
END:DAYLIGHT
BEGIN:STANDARD
TZOFFSETFROM:+0200
TZOFFSETTO:+0100
TZNAME:CET
DTSTART:20261025T010000
END:STANDARD
BEGIN:DAYLIGHT
TZOFFSETFROM:+0100
TZOFFSETTO:+0200
TZNAME:CEST
DTSTART:20270328T010000
END:DAYLIGHT
BEGIN:STANDARD
TZOFFSETFROM:+0200
TZOFFSETTO:+0100
TZNAME:CET
DTSTART:20271031T010000
END:STANDARD
END:VTIMEZONE
BEGIN:VEVENT
DTSTART;TZID=Europe/Paris:20260103T160000
DTEND;TZID=Europe/Paris:20260103T180000
DTSTAMP:20260421T081524
CREATED:20251116T213827Z
LAST-MODIFIED:20251116T213827Z
UID:18997-1767456000-1767463200@eglise-montargis.fr
SUMMARY:Jésus au Cœur de nos Vies
DESCRIPTION:Rencontres Jésus au Cœur de nos Vies
URL:https://eglise-montargis.fr/evenement/jesus-au-coeur-de-nos-vies-29/
LOCATION:Eglise Saint Firmin\, rue Francis Prieur\, Amilly\, 45200\, France
CATEGORIES:agenda
ORGANIZER;CN="Jesus au Coeur de nos Vies":MAILTO:jesusaucoeurdenosvies@gmail.com
END:VEVENT
BEGIN:VEVENT
DTSTART;TZID=Europe/Paris:20260117T160000
DTEND;TZID=Europe/Paris:20260117T180000
DTSTAMP:20260421T081524
CREATED:20251116T214017Z
LAST-MODIFIED:20251116T214017Z
UID:18999-1768665600-1768672800@eglise-montargis.fr
SUMMARY:Jésus au Cœur de nos Vies
DESCRIPTION:Rencontres Jésus au Cœur de nos Vies
URL:https://eglise-montargis.fr/evenement/jesus-au-coeur-de-nos-vies-30/
LOCATION:Eglise Saint-Martin d’Amilly bourg\, Place de l'église\, Amilly\, 45200\, France
CATEGORIES:agenda
ORGANIZER;CN="Jesus au Coeur de nos Vies":MAILTO:jesusaucoeurdenosvies@gmail.com
END:VEVENT
END:VCALENDAR