BEGIN:VCALENDAR
VERSION:2.0
PRODID:-//Paroisses catholiques du Montargois - ECPv6.15.20//NONSGML v1.0//EN
CALSCALE:GREGORIAN
METHOD:PUBLISH
X-ORIGINAL-URL:https://eglise-montargis.fr
X-WR-CALDESC:Évènements pour Paroisses catholiques du Montargois
REFRESH-INTERVAL;VALUE=DURATION:PT1H
X-Robots-Tag:noindex
X-PUBLISHED-TTL:PT1H
BEGIN:VTIMEZONE
TZID:Europe/Paris
BEGIN:DAYLIGHT
TZOFFSETFROM:+0100
TZOFFSETTO:+0200
TZNAME:CEST
DTSTART:20200329T010000
END:DAYLIGHT
BEGIN:STANDARD
TZOFFSETFROM:+0200
TZOFFSETTO:+0100
TZNAME:CET
DTSTART:20201025T010000
END:STANDARD
BEGIN:DAYLIGHT
TZOFFSETFROM:+0100
TZOFFSETTO:+0200
TZNAME:CEST
DTSTART:20210328T010000
END:DAYLIGHT
BEGIN:STANDARD
TZOFFSETFROM:+0200
TZOFFSETTO:+0100
TZNAME:CET
DTSTART:20211031T010000
END:STANDARD
BEGIN:DAYLIGHT
TZOFFSETFROM:+0100
TZOFFSETTO:+0200
TZNAME:CEST
DTSTART:20220327T010000
END:DAYLIGHT
BEGIN:STANDARD
TZOFFSETFROM:+0200
TZOFFSETTO:+0100
TZNAME:CET
DTSTART:20221030T010000
END:STANDARD
END:VTIMEZONE
BEGIN:VEVENT
DTSTART;TZID=Europe/Paris:20210703T100000
DTEND;TZID=Europe/Paris:20210703T113000
DTSTAMP:20260424T051030
CREATED:20210628T195112Z
LAST-MODIFIED:20210628T195112Z
UID:12382-1625306400-1625311800@eglise-montargis.fr
SUMMARY:matinée de louange et d'intercession
DESCRIPTION:Samedi 3 juillet de 10h à 11h30 aura lieu un temps de louange et d’intercession à l’église Sainte Madeleine.\nCe temps est ouvert à tous pour rendre grâce à Dieu\, lui confier nos difficultés et celles de nos proches\, retrouver l’unité en nous et entre nous grâce à la louange\, l’adoration eucharistique et le sacrement de réconciliation.\nAprès ce temps d’isolement\, de communication entravée\, de peur\, je vous invite à nous rejoindre si vous êtes disponible et à inviter largement autour de vous\, notamment les personnes en souffrance.\nEnfin\, je vous propose\, si vous ne pouvez ou ne souhaitez pas venir\, de confier vos intentions de prière au Père Précieux ou à moi-même. Elles seront présentées à la prière du groupe en respectant les règles de confidentialité (pas de nom de famille\, juste le prénom).\nDernière demande\, nous cherchons des chanteurs et musiciens pour étoffer le groupe.\nMerci de votre attention et de votre soutien\,\nBien cordialement\,\nMyriam Document-1.sla ADORATION
URL:https://eglise-montargis.fr/evenement/matinee-de-louange-et-dintercession/
LOCATION:Eglise Sainte-Madeleine\, Rue Triqueti\, Montargis\, 45200\, France
END:VEVENT
BEGIN:VEVENT
DTSTART;TZID=Europe/Paris:20210704T080000
DTEND;TZID=Europe/Paris:20210708T170000
DTSTAMP:20260424T051030
CREATED:20210504T155005Z
LAST-MODIFIED:20210504T155005Z
UID:12051-1625385600-1625763600@eglise-montargis.fr
SUMMARY:Pèlerinage VTT pour les collégiens
DESCRIPTION:5 Jours pour pédaler\, cheminer dans la foi\, partager l’amitié ! \nwww.pele-vtt.fr \ns’inscrire via le site du diocèse 
URL:https://eglise-montargis.fr/evenement/pelerinage-vtt-pour-les-collegiens/
END:VEVENT
BEGIN:VEVENT
DTSTART;TZID=Europe/Paris:20210704T093000
DTEND;TZID=Europe/Paris:20210704T170000
DTSTAMP:20260424T051030
CREATED:20210531T205317Z
LAST-MODIFIED:20210531T205317Z
UID:12226-1625391000-1625418000@eglise-montargis.fr
SUMMARY:Fête du KT à Chalette
DESCRIPTION:Avec les familles et la communauté paroissiale
URL:https://eglise-montargis.fr/evenement/fete-du-kt-a-chalette/
END:VEVENT
BEGIN:VEVENT
DTSTART;TZID=Europe/Paris:20210711T080000
DTEND;TZID=Europe/Paris:20210725T170000
DTSTAMP:20260424T051030
CREATED:20210504T154141Z
LAST-MODIFIED:20210504T154141Z
UID:12048-1625990400-1627232400@eglise-montargis.fr
SUMMARY:École de prière
DESCRIPTION:Pour les jeunes de 8 à 16 ans  \ninscriptions : epj45orleans@gmail.com ou sur le site du diocèse 
URL:https://eglise-montargis.fr/evenement/ecole-de-priere/
LOCATION:Lycée St Louis Montargis
END:VEVENT
END:VCALENDAR