BEGIN:VCALENDAR
VERSION:2.0
PRODID:-//Paroisses catholiques du Montargois - ECPv6.15.20//NONSGML v1.0//EN
CALSCALE:GREGORIAN
METHOD:PUBLISH
X-ORIGINAL-URL:https://eglise-montargis.fr
X-WR-CALDESC:Évènements pour Paroisses catholiques du Montargois
REFRESH-INTERVAL;VALUE=DURATION:PT1H
X-Robots-Tag:noindex
X-PUBLISHED-TTL:PT1H
BEGIN:VTIMEZONE
TZID:Europe/Paris
BEGIN:DAYLIGHT
TZOFFSETFROM:+0100
TZOFFSETTO:+0200
TZNAME:CEST
DTSTART:20200329T010000
END:DAYLIGHT
BEGIN:STANDARD
TZOFFSETFROM:+0200
TZOFFSETTO:+0100
TZNAME:CET
DTSTART:20201025T010000
END:STANDARD
BEGIN:DAYLIGHT
TZOFFSETFROM:+0100
TZOFFSETTO:+0200
TZNAME:CEST
DTSTART:20210328T010000
END:DAYLIGHT
BEGIN:STANDARD
TZOFFSETFROM:+0200
TZOFFSETTO:+0100
TZNAME:CET
DTSTART:20211031T010000
END:STANDARD
BEGIN:DAYLIGHT
TZOFFSETFROM:+0100
TZOFFSETTO:+0200
TZNAME:CEST
DTSTART:20220327T010000
END:DAYLIGHT
BEGIN:STANDARD
TZOFFSETFROM:+0200
TZOFFSETTO:+0100
TZNAME:CET
DTSTART:20221030T010000
END:STANDARD
END:VTIMEZONE
BEGIN:VEVENT
DTSTART;TZID=Europe/Paris:20210802T080000
DTEND;TZID=Europe/Paris:20210808T170000
DTSTAMP:20260424T035657
CREATED:20210504T155814Z
LAST-MODIFIED:20210504T155908Z
UID:12055-1627891200-1628442000@eglise-montargis.fr
SUMMARY:Pèlerinage diocésain à Lourdes
DESCRIPTION:Inscriptions pour les pèlerins qui partent avec le Service Diocésain des Pèlerinages: contact: pelerinagedo@gmail.com ou 02 38 24 28 43 \nInscriptions pour les pèlerins qui partent avec l’Hospitalité Diocésaine d’Orléans: hdo@orange.fr ou 02 38 84 06 36  \nhttp://www.orleans.catholique.fr/actualite/toutes-les-actus/9097-pelerinage-diocesain-2021-a-lourdes
URL:https://eglise-montargis.fr/evenement/pelerinage-diocesain-a-lourdes/
END:VEVENT
BEGIN:VEVENT
DTSTART;TZID=Europe/Paris:20210829T110000
DTEND;TZID=Europe/Paris:20210829T110000
DTSTAMP:20260424T035657
CREATED:20210531T205548Z
LAST-MODIFIED:20210531T205548Z
UID:12228-1630234800-1630234800@eglise-montargis.fr
SUMMARY:Messe d'action de grâce
DESCRIPTION:À l’occasion du départ des pères Xavier Guermonprez\, Julien Tellier et Stanislas de Christen. Pot de l’amitié après la messe 
URL:https://eglise-montargis.fr/evenement/messe-daction-de-grace-2/
LOCATION:église des Cités
END:VEVENT
BEGIN:VEVENT
DTSTART;TZID=Europe/Paris:20210829T110000
DTEND;TZID=Europe/Paris:20210829T160000
DTSTAMP:20260424T035657
CREATED:20210629T113606Z
LAST-MODIFIED:20210629T113606Z
UID:12398-1630234800-1630252800@eglise-montargis.fr
SUMMARY:Messe d'action de grâce
DESCRIPTION:Pour le départ des pères Xavier Guermonprez\, Julien Tellier\, Stanislas de Christen et Jean Sigot \nrepas personnel tiré du sac\, pot de l’amitié desserts partagés jeux intergénérationnels de 14h30 à 16h \nUne urne est à votre disposition au presbytère de Montargis pour accueillir vos remerciements sous forme de mots personnels ou bien vos dons pour un cadeau \nPour les remerciements qui seront lus pendant la messe\, vous pouvez nous envoyer votre texte au presbytère de Montargis\, Véronique Blondeau et Ruben en feront une synthèse
URL:https://eglise-montargis.fr/evenement/messe-daction-de-grace-3/
LOCATION:église des Cités
END:VEVENT
END:VCALENDAR