BEGIN:VCALENDAR
VERSION:2.0
PRODID:-//Paroisses catholiques du Montargois - ECPv6.15.20//NONSGML v1.0//EN
CALSCALE:GREGORIAN
METHOD:PUBLISH
X-WR-CALNAME:Paroisses catholiques du Montargois
X-ORIGINAL-URL:https://eglise-montargis.fr
X-WR-CALDESC:Évènements pour Paroisses catholiques du Montargois
REFRESH-INTERVAL;VALUE=DURATION:PT1H
X-Robots-Tag:noindex
X-PUBLISHED-TTL:PT1H
BEGIN:VTIMEZONE
TZID:Europe/Paris
BEGIN:DAYLIGHT
TZOFFSETFROM:+0100
TZOFFSETTO:+0200
TZNAME:CEST
DTSTART:20200329T010000
END:DAYLIGHT
BEGIN:STANDARD
TZOFFSETFROM:+0200
TZOFFSETTO:+0100
TZNAME:CET
DTSTART:20201025T010000
END:STANDARD
BEGIN:DAYLIGHT
TZOFFSETFROM:+0100
TZOFFSETTO:+0200
TZNAME:CEST
DTSTART:20210328T010000
END:DAYLIGHT
BEGIN:STANDARD
TZOFFSETFROM:+0200
TZOFFSETTO:+0100
TZNAME:CET
DTSTART:20211031T010000
END:STANDARD
BEGIN:DAYLIGHT
TZOFFSETFROM:+0100
TZOFFSETTO:+0200
TZNAME:CEST
DTSTART:20220327T010000
END:DAYLIGHT
BEGIN:STANDARD
TZOFFSETFROM:+0200
TZOFFSETTO:+0100
TZNAME:CET
DTSTART:20221030T010000
END:STANDARD
END:VTIMEZONE
BEGIN:VEVENT
DTSTART;TZID=Europe/Paris:20211102T183000
DTEND;TZID=Europe/Paris:20211102T193000
DTSTAMP:20260424T004017
CREATED:20211005T151828Z
LAST-MODIFIED:20211005T151828Z
UID:13108-1635877800-1635881400@eglise-montargis.fr
SUMMARY:Messe pour les défunts
DESCRIPTION:Pour Villemandeur\, Pannes\, Montargis\, Amilly\, Paucourt
URL:https://eglise-montargis.fr/evenement/messe-pour-les-defunts-2/
LOCATION:église d’Amilly\, Amilly
END:VEVENT
BEGIN:VEVENT
DTSTART;TZID=Europe/Paris:20211107T000000
DTEND;TZID=Europe/Paris:20211107T000000
DTSTAMP:20260424T004017
CREATED:20211005T152140Z
LAST-MODIFIED:20211005T152140Z
UID:13115-1636243200-1636243200@eglise-montargis.fr
SUMMARY:Messe pour les défunts
DESCRIPTION:Lors des messes dominicales de Chalette\, Montcresson\, et Ladon
URL:https://eglise-montargis.fr/evenement/messe-pour-les-defunts-5/
END:VEVENT
BEGIN:VEVENT
DTSTART;TZID=Europe/Paris:20211109T150000
DTEND;TZID=Europe/Paris:20211109T150000
DTSTAMP:20260424T004017
CREATED:20211011T083153Z
LAST-MODIFIED:20211011T083153Z
UID:13143-1636470000-1636470000@eglise-montargis.fr
SUMMARY:Prière du rosaire à Villemandeur
DESCRIPTION:
URL:https://eglise-montargis.fr/evenement/priere-du-rosaire-a-villemandeur-2/
LOCATION:oratoire villemandeur
END:VEVENT
BEGIN:VEVENT
DTSTART;TZID=Europe/Paris:20211110T140000
DTEND;TZID=Europe/Paris:20211110T140000
DTSTAMP:20260424T004017
CREATED:20211107T215142Z
LAST-MODIFIED:20211107T215142Z
UID:13311-1636552800-1636552800@eglise-montargis.fr
SUMMARY:demande d'aide pour débarrasser l'église des Cités !
DESCRIPTION:Rendez-vous devant l’église avec vos voitures et remorques pour aider à débarrasser les Cités de divers objets inutiles 
URL:https://eglise-montargis.fr/evenement/demande-daide-pour-debarrasser-leglise-des-cites/
LOCATION:église des Cités
END:VEVENT
BEGIN:VEVENT
DTSTART;TZID=Europe/Paris:20211114T000000
DTEND;TZID=Europe/Paris:20211114T000000
DTSTAMP:20260424T004017
CREATED:20211005T151926Z
LAST-MODIFIED:20211005T151926Z
UID:13110-1636848000-1636848000@eglise-montargis.fr
SUMMARY:Messe pour les défunts
DESCRIPTION:
URL:https://eglise-montargis.fr/evenement/messe-pour-les-defunts-3/
LOCATION:église de Chevillon
END:VEVENT
BEGIN:VEVENT
DTSTART;TZID=Europe/Paris:20211117T200000
DTEND;TZID=Europe/Paris:20211117T220000
DTSTAMP:20260424T004017
CREATED:20211107T214311Z
LAST-MODIFIED:20211107T214311Z
UID:13303-1637179200-1637186400@eglise-montargis.fr
SUMMARY:Étude biblique
DESCRIPTION:
URL:https://eglise-montargis.fr/evenement/etude-biblique/
LOCATION:Temple Renée de France
END:VEVENT
BEGIN:VEVENT
DTSTART;TZID=Europe/Paris:20211120T000000
DTEND;TZID=Europe/Paris:20211120T000000
DTSTAMP:20260424T004017
CREATED:20211107T215704Z
LAST-MODIFIED:20211107T215737Z
UID:13313-1637366400-1637366400@eglise-montargis.fr
SUMMARY:Top crèche 2021
DESCRIPTION:Des idées ? Une envie de créer seul ou à plusieurs ?\nImaginez votre crèche !\nEt inscrivez -vous pour le concours et l’exposition !\nThème de cette année : La rencontre \nToutes les infos ici 
URL:https://eglise-montargis.fr/evenement/top-creche-2021/
END:VEVENT
BEGIN:VEVENT
DTSTART;TZID=Europe/Paris:20211121T000000
DTEND;TZID=Europe/Paris:20211121T000000
DTSTAMP:20260424T004017
CREATED:20211005T152018Z
LAST-MODIFIED:20211005T152018Z
UID:13112-1637452800-1637452800@eglise-montargis.fr
SUMMARY:Messe pour les défunts
DESCRIPTION:
URL:https://eglise-montargis.fr/evenement/messe-pour-les-defunts-4/
LOCATION:Église de Corbeilles
END:VEVENT
BEGIN:VEVENT
DTSTART;VALUE=DATE:20211121
DTEND;VALUE=DATE:20211122
DTSTAMP:20260424T004017
CREATED:20211107T214459Z
LAST-MODIFIED:20211107T214459Z
UID:13307-1637452800-1637539199@eglise-montargis.fr
SUMMARY:Collecte du secours catholique
DESCRIPTION:
URL:https://eglise-montargis.fr/evenement/collecte-du-secours-catholique/
END:VEVENT
BEGIN:VEVENT
DTSTART;TZID=Europe/Paris:20211125T200000
DTEND;TZID=Europe/Paris:20211125T220000
DTSTAMP:20260424T004017
CREATED:20211107T214418Z
LAST-MODIFIED:20211107T214418Z
UID:13305-1637870400-1637877600@eglise-montargis.fr
SUMMARY:Atelier théologique sur St Augustin
DESCRIPTION:
URL:https://eglise-montargis.fr/evenement/atelier-theologique-sur-st-augustin/
LOCATION:Presbytère de Montargis\, 22 rue Triqueti\, Montargis\, 45200\, France
END:VEVENT
BEGIN:VEVENT
DTSTART;TZID=Europe/Paris:20211127T090000
DTEND;TZID=Europe/Paris:20211127T113000
DTSTAMP:20260424T004017
CREATED:20211107T213109Z
LAST-MODIFIED:20211116T180721Z
UID:13290-1638003600-1638012600@eglise-montargis.fr
SUMMARY:parcours alpha parents (1/5)
DESCRIPTION:5 rencontres le samedi de 9h à 11h30 à Montargis \nS’inscrire sur alphamontargis@gmail.com \nPossibilité de garde d’enfants \ncontact: 06 86 69 70 02
URL:https://eglise-montargis.fr/evenement/parcours-alpha-parents-1/
LOCATION:Montargis
ATTACH;FMTTYPE=image/jpeg:https://eglise-montargis.fr/wp-content/uploads/2021/11/Affiche-Alpha-parents-2021-e1636321078175.jpg
END:VEVENT
END:VCALENDAR