BEGIN:VCALENDAR
VERSION:2.0
PRODID:-//Paroisses catholiques du Montargois - ECPv6.15.20//NONSGML v1.0//EN
CALSCALE:GREGORIAN
METHOD:PUBLISH
X-WR-CALNAME:Paroisses catholiques du Montargois
X-ORIGINAL-URL:https://eglise-montargis.fr
X-WR-CALDESC:Évènements pour Paroisses catholiques du Montargois
REFRESH-INTERVAL;VALUE=DURATION:PT1H
X-Robots-Tag:noindex
X-PUBLISHED-TTL:PT1H
BEGIN:VTIMEZONE
TZID:Europe/Paris
BEGIN:DAYLIGHT
TZOFFSETFROM:+0100
TZOFFSETTO:+0200
TZNAME:CEST
DTSTART:20210328T010000
END:DAYLIGHT
BEGIN:STANDARD
TZOFFSETFROM:+0200
TZOFFSETTO:+0100
TZNAME:CET
DTSTART:20211031T010000
END:STANDARD
BEGIN:DAYLIGHT
TZOFFSETFROM:+0100
TZOFFSETTO:+0200
TZNAME:CEST
DTSTART:20220327T010000
END:DAYLIGHT
BEGIN:STANDARD
TZOFFSETFROM:+0200
TZOFFSETTO:+0100
TZNAME:CET
DTSTART:20221030T010000
END:STANDARD
BEGIN:DAYLIGHT
TZOFFSETFROM:+0100
TZOFFSETTO:+0200
TZNAME:CEST
DTSTART:20230326T010000
END:DAYLIGHT
BEGIN:STANDARD
TZOFFSETFROM:+0200
TZOFFSETTO:+0100
TZNAME:CET
DTSTART:20231029T010000
END:STANDARD
END:VTIMEZONE
BEGIN:VEVENT
DTSTART;TZID=Europe/Paris:20220602T200000
DTEND;TZID=Europe/Paris:20220602T213000
DTSTAMP:20260423T162240
CREATED:20220517T143851Z
LAST-MODIFIED:20220530T141713Z
UID:14260-1654200000-1654205400@eglise-montargis.fr
SUMMARY:Appel chrétien aux candidats pour les législatives
DESCRIPTION:Inspirés par l’appel d’un collectif national de 36 organisations chrétiennes pour un vrai débat démocratique\,* nous avons souhaité connaître  les propositions des candidats et permettre l’échange entre les citoyens de notre circonscription sur 3 défis majeurs pour notre avenir\, notre société et notre planète : \n\nL’attention aux plus vulnérables\,\nL’urgence écologique\nEt notre capacité à vivre ensemble.\n\nVenez nombreux nous rejoindre le 2 juin à Château-Renard ou à Amilly ! \nAu cours de ces réunions\, chacun.e pourra exprimer ses questions\, ses doutes et ses engagements. Nous présenterons ensuite sous forme de vidéo\, les propositions de tous les candidats et nous pourrons en débattre en tentant de discerner ce qui nous semble constituer une politique au service du bien commun. \nDans la diversité de nos engagements\, (Association Partage\, Mouvement Citoyen\, Secours Catholique\, mouvements d’action catholique…) nous affirmons des convictions communes sur ces trois défis : \n\nPour que la démocratie puisse correctement s’exercer\, l’attention aux plus vulnérables doit constituer un axe central de la vie politique. L’augmentation constante des inégalités constitue pour nous une préoccupation majeure.\nPour garantir l’avenir des générations futures\, l’urgence écologique implique des changements immédiats et nécessitent de revoir nos modes de vie.\nDans notre société marquée par la diversité des cultures\, des traditions\, des croyances et des religions\, la peur de l’autre ne doit pas dicter nos choix aux dépens des droits humains. Cette peur peut être surmontée par la rencontre fraternelle et le dialogue. Les personnes migrantes ne doivent plus être considérées comme un danger mais comme des individus dont la rencontre est source d’enrichissement et de progrès.\n\nCes rencontres se veulent un espace de dialogue entre candidats et citoyens et préfigurent un dialogue à poursuivre avec celle ou celui qui sera élu.e \nVenez nous rejoindre et transmettez ce message autour de vous ! \nAmicalement ! \nDaniel Bonneau\, Jean-Christophe Ciceron\, Jeanny Launay\, Sylvain Knittel \, Michel Brosset \n *https://ccfd-terresolidaire.org/36-organisations-chretiennes-appellent-a-un-vrai-debat-democratique-sur-trois-defis-majeurs/
URL:https://eglise-montargis.fr/evenement/appel-chretien-aux-candidats-pour-les-legislatives/
LOCATION:salle des Terres blanches\, Amilly
ORGANIZER;CN="association Partage":MAILTO:associationpartage@orange.fr
END:VEVENT
BEGIN:VEVENT
DTSTART;TZID=Europe/Paris:20220603T193000
DTEND;TZID=Europe/Paris:20220603T193000
DTSTAMP:20260423T162240
CREATED:20220530T140254Z
LAST-MODIFIED:20220530T140254Z
UID:14335-1654284600-1654284600@eglise-montargis.fr
SUMMARY:soirée louange-Adoration
DESCRIPTION:À l’initiative de la paroisse Ste Rose-Ste Alpaix en association avec les groupements de Ferrières et du montargois 
URL:https://eglise-montargis.fr/evenement/soiree-louange-adoration/
LOCATION:église de Chuelles
END:VEVENT
BEGIN:VEVENT
DTSTART;TZID=Europe/Paris:20220603T193000
DTEND;TZID=Europe/Paris:20220603T193000
DTSTAMP:20260423T162240
CREATED:20220530T143313Z
LAST-MODIFIED:20220530T200423Z
UID:14344-1654284600-1654284600@eglise-montargis.fr
SUMMARY:Conférence de l'ADIM
DESCRIPTION:L’Amitié Dialogue Inter-religieux Montargois organise une conférence sur le thème de la place de la femme dans les différentes religions
URL:https://eglise-montargis.fr/evenement/conference-de-ladim/
LOCATION:Maison des associations Chalette\, 32 rue Claude Debussy\, Châlette/Loing\, 45120\, France
END:VEVENT
BEGIN:VEVENT
DTSTART;TZID=Europe/Paris:20220610T203000
DTEND;TZID=Europe/Paris:20220610T203000
DTSTAMP:20260423T162240
CREATED:20220525T083746Z
LAST-MODIFIED:20220525T083833Z
UID:14311-1654893000-1654893000@eglise-montargis.fr
SUMMARY:Concert Chant'Hermoy
DESCRIPTION:affiche concert 2022
URL:https://eglise-montargis.fr/evenement/concert-chanthermoy/
LOCATION:église de Chuelles
END:VEVENT
BEGIN:VEVENT
DTSTART;TZID=Europe/Paris:20220611T100000
DTEND;TZID=Europe/Paris:20220611T170000
DTSTAMP:20260423T162240
CREATED:20220530T192714Z
LAST-MODIFIED:20220530T192714Z
UID:14346-1654941600-1654966800@eglise-montargis.fr
SUMMARY:Éveil à la foi
DESCRIPTION:Les groupes d’Amilly\, Lombreuil et Corbeilles se retrouvent pour la dernière fois de l’année
URL:https://eglise-montargis.fr/evenement/eveil-a-la-foi-26/
LOCATION:Lombreuil
END:VEVENT
BEGIN:VEVENT
DTSTART;TZID=Europe/Paris:20220612T153000
DTEND;TZID=Europe/Paris:20220612T153000
DTSTAMP:20260423T162240
CREATED:20220525T084018Z
LAST-MODIFIED:20220525T084018Z
UID:14315-1655047800-1655047800@eglise-montargis.fr
SUMMARY:Concert Chant'Hermoy
DESCRIPTION:affiche concert 2022
URL:https://eglise-montargis.fr/evenement/concert-chanthermoy-2/
LOCATION:église de Chuelles
END:VEVENT
BEGIN:VEVENT
DTSTART;TZID=Europe/Paris:20220625T200000
DTEND;TZID=Europe/Paris:20220625T200000
DTSTAMP:20260423T162240
CREATED:20220526T171912Z
LAST-MODIFIED:20220526T171912Z
UID:14319-1656187200-1656187200@eglise-montargis.fr
SUMMARY:Nuit des veilleurs 2022
DESCRIPTION:Le thème de cette année est : Discerner la vérité ; trouver le chemin (Jean 14.6).\nVenez prier et chanter avec nous pour les victimes de la Torture et pour leurs bourreaux.
URL:https://eglise-montargis.fr/evenement/nuit-des-veilleurs-2022/
LOCATION:Temple Renée de France
END:VEVENT
END:VCALENDAR