BEGIN:VCALENDAR
VERSION:2.0
PRODID:-//Paroisses catholiques du Montargois - ECPv6.15.20//NONSGML v1.0//EN
CALSCALE:GREGORIAN
METHOD:PUBLISH
X-WR-CALNAME:Paroisses catholiques du Montargois
X-ORIGINAL-URL:https://eglise-montargis.fr
X-WR-CALDESC:Évènements pour Paroisses catholiques du Montargois
REFRESH-INTERVAL;VALUE=DURATION:PT1H
X-Robots-Tag:noindex
X-PUBLISHED-TTL:PT1H
BEGIN:VTIMEZONE
TZID:Europe/Paris
BEGIN:DAYLIGHT
TZOFFSETFROM:+0100
TZOFFSETTO:+0200
TZNAME:CEST
DTSTART:20210328T010000
END:DAYLIGHT
BEGIN:STANDARD
TZOFFSETFROM:+0200
TZOFFSETTO:+0100
TZNAME:CET
DTSTART:20211031T010000
END:STANDARD
BEGIN:DAYLIGHT
TZOFFSETFROM:+0100
TZOFFSETTO:+0200
TZNAME:CEST
DTSTART:20220327T010000
END:DAYLIGHT
BEGIN:STANDARD
TZOFFSETFROM:+0200
TZOFFSETTO:+0100
TZNAME:CET
DTSTART:20221030T010000
END:STANDARD
BEGIN:DAYLIGHT
TZOFFSETFROM:+0100
TZOFFSETTO:+0200
TZNAME:CEST
DTSTART:20230326T010000
END:DAYLIGHT
BEGIN:STANDARD
TZOFFSETFROM:+0200
TZOFFSETTO:+0100
TZNAME:CET
DTSTART:20231029T010000
END:STANDARD
END:VTIMEZONE
BEGIN:VEVENT
DTSTART;TZID=Europe/Paris:20221203T090000
DTEND;TZID=Europe/Paris:20221203T090000
DTSTAMP:20260423T092201
CREATED:20221130T140140Z
LAST-MODIFIED:20221130T140140Z
UID:15123-1670058000-1670058000@eglise-montargis.fr
SUMMARY:Installation de la crèche à Ste Madeleine
DESCRIPTION:Apporter pistolets de colle\, branchages en tous genres \, lichen \, mousses …..
URL:https://eglise-montargis.fr/evenement/installation-de-la-creche-a-ste-madeleine/
LOCATION:Eglise Sainte-Madeleine\, Rue Triqueti\, Montargis\, 45200\, France
END:VEVENT
BEGIN:VEVENT
DTSTART;TZID=Europe/Paris:20221210T100000
DTEND;TZID=Europe/Paris:20221210T120000
DTSTAMP:20260423T092201
CREATED:20221130T141849Z
LAST-MODIFIED:20221130T141849Z
UID:15143-1670666400-1670673600@eglise-montargis.fr
SUMMARY:Éveil à la foi
DESCRIPTION:
URL:https://eglise-montargis.fr/evenement/eveil-a-la-foi-29/
LOCATION:24 rue Triqueti
END:VEVENT
BEGIN:VEVENT
DTSTART;TZID=Europe/Paris:20221210T200000
DTEND;TZID=Europe/Paris:20221210T200000
DTSTAMP:20260423T092201
CREATED:20221130T141513Z
LAST-MODIFIED:20221130T141513Z
UID:15135-1670702400-1670702400@eglise-montargis.fr
SUMMARY:concert de Noël proposé par les mairies
DESCRIPTION:Pastorales de Noël
URL:https://eglise-montargis.fr/evenement/concert-de-noel-propose-par-les-mairies/
LOCATION:église d’Amilly\, Amilly
END:VEVENT
BEGIN:VEVENT
DTSTART;TZID=Europe/Paris:20221211T150000
DTEND;TZID=Europe/Paris:20221211T150000
DTSTAMP:20260423T092201
CREATED:20221107T110503Z
LAST-MODIFIED:20221107T110503Z
UID:15041-1670770800-1670770800@eglise-montargis.fr
SUMMARY:Théâtre  " Un tango pour Louis"
DESCRIPTION:L’association Assopark présente en collaboration avec  » En compagnie des Oliviers » un spectacle théâtral et musical original  \nAssopark est heureuse de vous inviter au spectacle  » Un tango pour Louis » qui aborde la relation de l’aidant familial auprès d’un malade de Parkinson  . Au plaisir de partager ce moment avec vous 
URL:https://eglise-montargis.fr/evenement/theatre-un-tango-pour-louis/
LOCATION:Tivoli\, 2 rue Franklin Roosevelt\, Montargis\, 45200\, France
ATTACH;FMTTYPE=image/png:https://eglise-montargis.fr/wp-content/uploads/2022/11/Flyer-A5-ASSOPARK.png
ORGANIZER;CN="Assopark":MAILTO:secretariat@assoparkfrance.org
END:VEVENT
BEGIN:VEVENT
DTSTART;TZID=Europe/Paris:20221211T160000
DTEND;TZID=Europe/Paris:20221211T160000
DTSTAMP:20260423T092201
CREATED:20221130T141247Z
LAST-MODIFIED:20221130T141247Z
UID:15133-1670774400-1670774400@eglise-montargis.fr
SUMMARY:Lumière de Béthléem
DESCRIPTION:Les Scouts et Guides de France\, les éclaireurs et éclaireuses unionistes de France\,  vous invitent à recevoir et transmettre la lumière de la Paix ! Répandons la Lumière pour que la Paix soit encore plus visible !
URL:https://eglise-montargis.fr/evenement/lumiere-de-bethleem-5/
LOCATION:église sainte Madeleine
END:VEVENT
BEGIN:VEVENT
DTSTART;TZID=Europe/Paris:20221211T170000
DTEND;TZID=Europe/Paris:20221211T170000
DTSTAMP:20260423T092201
CREATED:20221130T141607Z
LAST-MODIFIED:20221130T141607Z
UID:15137-1670778000-1670778000@eglise-montargis.fr
SUMMARY:concert de Noël proposé par les mairies
DESCRIPTION:Chorale musique au Loing
URL:https://eglise-montargis.fr/evenement/concert-de-noel-propose-par-les-mairies-2/
LOCATION:église d’Amilly\, Amilly
END:VEVENT
BEGIN:VEVENT
DTSTART;TZID=Europe/Paris:20221215T183000
DTEND;TZID=Europe/Paris:20221215T183000
DTSTAMP:20260423T092201
CREATED:20221130T142145Z
LAST-MODIFIED:20221130T142145Z
UID:15148-1671129000-1671129000@eglise-montargis.fr
SUMMARY:Évangile selon st Luc
DESCRIPTION:
URL:https://eglise-montargis.fr/evenement/evangile-selon-st-luc/
LOCATION:église des closiers
END:VEVENT
BEGIN:VEVENT
DTSTART;TZID=Europe/Paris:20221217T100000
DTEND;TZID=Europe/Paris:20221217T120000
DTSTAMP:20260423T092201
CREATED:20221130T141932Z
LAST-MODIFIED:20221130T141932Z
UID:15146-1671271200-1671278400@eglise-montargis.fr
SUMMARY:Éveil à la foi
DESCRIPTION:
URL:https://eglise-montargis.fr/evenement/eveil-a-la-foi-30/
LOCATION:Lombreuil
END:VEVENT
BEGIN:VEVENT
DTSTART;TZID=Europe/Paris:20221217T160000
DTEND;TZID=Europe/Paris:20221217T180000
DTSTAMP:20260423T092201
CREATED:20221217T112035Z
LAST-MODIFIED:20221217T112144Z
UID:12657-1671292800-1671300000@eglise-montargis.fr
SUMMARY:Rencontre Jésus au Cœur de nos Vies
DESCRIPTION:Changement de lieu en raison du froid : RDV à l’église d’Amilly (au centre-ville d’Amilly) \nL’abbé Précieux sera présent durant la prière et proposera notamment un temps pour le sacrement de pénitence et réconciliation (confessions). \nVenez prier avec nous auprès de Jésus\, en toute confiance et convivialité 🙂 \nNouveau ! Ceux qui le souhaitent peuvent rester en adoration devant le Saint-Sacrement durant le temps de partage fraternel. \n\n16h-17h : accueil – louange – adoration – Parole – prière des frères et sœurs\n17h-17h45 : groupes fraternels (groupes de parole\, de partage ou d’adoration)\n17h45-18h : action de grâce – Notre Père
URL:https://eglise-montargis.fr/evenement/rencontre-jesus-au-coeur-de-nos-vies-4/
LOCATION:église d’Amilly\, Amilly
CATEGORIES:agenda
ORGANIZER;CN="Jesus au Coeur de nos Vies":MAILTO:jesusaucoeurdenosvies@gmail.com
END:VEVENT
BEGIN:VEVENT
DTSTART;TZID=Europe/Paris:20221217T180000
DTEND;TZID=Europe/Paris:20221217T180000
DTSTAMP:20260423T092201
CREATED:20221130T133400Z
LAST-MODIFIED:20221130T133500Z
UID:15096-1671300000-1671300000@eglise-montargis.fr
SUMMARY:Célébration de Noël du pont de Pierre
DESCRIPTION:
URL:https://eglise-montargis.fr/evenement/celebration-de-noel-du-pont-de-pierre/
LOCATION:Pont de pierre
ATTACH;FMTTYPE=image/jpeg:https://eglise-montargis.fr/wp-content/uploads/2022/11/2022-12-17-Invitation-célé-Noël.jpg
END:VEVENT
BEGIN:VEVENT
DTSTART;TZID=Europe/Paris:20221218T150000
DTEND;TZID=Europe/Paris:20221218T150000
DTSTAMP:20260423T092201
CREATED:20221130T141747Z
LAST-MODIFIED:20221202T101637Z
UID:15141-1671375600-1671375600@eglise-montargis.fr
SUMMARY:Chantons Noël
DESCRIPTION:
URL:https://eglise-montargis.fr/evenement/chantons-noel/
LOCATION:église de Cepoy
ATTACH;FMTTYPE=image/png:https://eglise-montargis.fr/wp-content/uploads/2022/11/chantons-Noël.png
END:VEVENT
BEGIN:VEVENT
DTSTART;TZID=Europe/Paris:20221220T193000
DTEND;TZID=Europe/Paris:20221220T193000
DTSTAMP:20260423T092201
CREATED:20221130T141708Z
LAST-MODIFIED:20221130T141708Z
UID:15139-1671564600-1671564600@eglise-montargis.fr
SUMMARY:concert de Noël proposé par les mairies
DESCRIPTION:Avec le choeur d’Arbonne
URL:https://eglise-montargis.fr/evenement/concert-de-noel-propose-par-les-mairies-3/
LOCATION:église sainte Madeleine
END:VEVENT
BEGIN:VEVENT
DTSTART;TZID=Europe/Paris:20221224T110000
DTEND;TZID=Europe/Paris:20221224T110000
DTSTAMP:20260423T092201
CREATED:20221130T140832Z
LAST-MODIFIED:20221130T141003Z
UID:15128-1671879600-1671879600@eglise-montargis.fr
SUMMARY:Confessions à Ste Madeleine\, Châlette et Ladon
DESCRIPTION:à Ste Madeleine\, Châlette et Ladon 
URL:https://eglise-montargis.fr/evenement/confessions-3/
END:VEVENT
BEGIN:VEVENT
DTSTART;TZID=Europe/Paris:20221224T143000
DTEND;TZID=Europe/Paris:20221224T143000
DTSTAMP:20260423T092201
CREATED:20221130T140914Z
LAST-MODIFIED:20221130T140914Z
UID:15130-1671892200-1671892200@eglise-montargis.fr
SUMMARY:Confessions à Montcresson
DESCRIPTION:
URL:https://eglise-montargis.fr/evenement/confessions-a-montcresson/
END:VEVENT
END:VCALENDAR