BEGIN:VCALENDAR
VERSION:2.0
PRODID:-//Paroisses catholiques du Montargois - ECPv6.15.20//NONSGML v1.0//EN
CALSCALE:GREGORIAN
METHOD:PUBLISH
X-ORIGINAL-URL:https://eglise-montargis.fr
X-WR-CALDESC:Évènements pour Paroisses catholiques du Montargois
REFRESH-INTERVAL;VALUE=DURATION:PT1H
X-Robots-Tag:noindex
X-PUBLISHED-TTL:PT1H
BEGIN:VTIMEZONE
TZID:Europe/Paris
BEGIN:DAYLIGHT
TZOFFSETFROM:+0100
TZOFFSETTO:+0200
TZNAME:CEST
DTSTART:20220327T010000
END:DAYLIGHT
BEGIN:STANDARD
TZOFFSETFROM:+0200
TZOFFSETTO:+0100
TZNAME:CET
DTSTART:20221030T010000
END:STANDARD
BEGIN:DAYLIGHT
TZOFFSETFROM:+0100
TZOFFSETTO:+0200
TZNAME:CEST
DTSTART:20230326T010000
END:DAYLIGHT
BEGIN:STANDARD
TZOFFSETFROM:+0200
TZOFFSETTO:+0100
TZNAME:CET
DTSTART:20231029T010000
END:STANDARD
BEGIN:DAYLIGHT
TZOFFSETFROM:+0100
TZOFFSETTO:+0200
TZNAME:CEST
DTSTART:20240331T010000
END:DAYLIGHT
BEGIN:STANDARD
TZOFFSETFROM:+0200
TZOFFSETTO:+0100
TZNAME:CET
DTSTART:20241027T010000
END:STANDARD
END:VTIMEZONE
BEGIN:VEVENT
DTSTART;TZID=Europe/Paris:20230303T183000
DTEND;TZID=Europe/Paris:20230303T183000
DTSTAMP:20260423T061319
CREATED:20230224T155155Z
LAST-MODIFIED:20230224T155155Z
UID:15440-1677868200-1677868200@eglise-montargis.fr
SUMMARY:Chemin de croix
DESCRIPTION:
URL:https://eglise-montargis.fr/evenement/chemin-de-croix-5/
LOCATION:Eglise de Châlette bourg
END:VEVENT
BEGIN:VEVENT
DTSTART;TZID=Europe/Paris:20230310T183000
DTEND;TZID=Europe/Paris:20230310T183000
DTSTAMP:20260423T061319
CREATED:20230224T155228Z
LAST-MODIFIED:20230224T155228Z
UID:15442-1678473000-1678473000@eglise-montargis.fr
SUMMARY:Chemin de croix
DESCRIPTION:
URL:https://eglise-montargis.fr/evenement/chemin-de-croix-6/
LOCATION:église de chalette
END:VEVENT
BEGIN:VEVENT
DTSTART;TZID=Europe/Paris:20230311T090000
DTEND;TZID=Europe/Paris:20230311T173000
DTSTAMP:20260423T061319
CREATED:20230302T161834Z
LAST-MODIFIED:20230302T161834Z
UID:15504-1678525200-1678555800@eglise-montargis.fr
SUMMARY:Journée diocésaine pour les animateurs de chants
DESCRIPTION:Pour tout chantre-animateur\, du débutant au plus expérimenté ! Pique-nique tiré du sac\, enseignements\, chants \, prière\, relecture de pratiques et 2 ateliers pour chacun
URL:https://eglise-montargis.fr/evenement/journee-diocesaine-pour-les-animateurs-de-chants/
LOCATION:collège la Providence à Olivet
END:VEVENT
BEGIN:VEVENT
DTSTART;TZID=Europe/Paris:20230317T183000
DTEND;TZID=Europe/Paris:20230317T183000
DTSTAMP:20260423T061319
CREATED:20230224T155259Z
LAST-MODIFIED:20230224T155259Z
UID:15444-1679077800-1679077800@eglise-montargis.fr
SUMMARY:Chemin de croix
DESCRIPTION:
URL:https://eglise-montargis.fr/evenement/chemin-de-croix-7/
LOCATION:église de chalette
END:VEVENT
BEGIN:VEVENT
DTSTART;TZID=Europe/Paris:20230317T200000
DTEND;TZID=Europe/Paris:20230317T220000
DTSTAMP:20260423T061319
CREATED:20230211T095756Z
LAST-MODIFIED:20230302T160542Z
UID:15401-1679083200-1679090400@eglise-montargis.fr
SUMMARY:Temps de Carême fraternel
DESCRIPTION:invitation soirée Carême\, 17 mars 2023
URL:https://eglise-montargis.fr/evenement/temps-de-careme-fraternel/
LOCATION:Lombreuil
ATTACH;FMTTYPE=image/png:https://eglise-montargis.fr/wp-content/uploads/2023/02/carême-fraternel-CCFD.png
END:VEVENT
BEGIN:VEVENT
DTSTART;TZID=Europe/Paris:20230318T160000
DTEND;TZID=Europe/Paris:20230318T180000
DTSTAMP:20260423T061319
CREATED:20220827T151104Z
LAST-MODIFIED:20220827T151232Z
UID:12668-1679155200-1679162400@eglise-montargis.fr
SUMMARY:Rencontre Jésus au Cœur de nos Vies
DESCRIPTION:Intensifier notre vie spirituelle et fraternelle au cœur du Carême : \n\n\n\n16h-17h : accueil – louange – adoration – Parole – prière des frères et sœurs\n17h-17h45 : groupes fraternels (groupes de parole\, de partage ou d’adoration)\n17h45-18h : action de grâce – Notre Père
URL:https://eglise-montargis.fr/evenement/rencontre-jesus-au-coeur-de-nos-vies-7/
LOCATION:Eglise Ste Madeleine\, 22 rue Triqueti\, Montargis\, 45200
CATEGORIES:agenda
ORGANIZER;CN="Jesus au Coeur de nos Vies":MAILTO:jesusaucoeurdenosvies@gmail.com
END:VEVENT
BEGIN:VEVENT
DTSTART;TZID=Europe/Paris:20230320T143000
DTEND;TZID=Europe/Paris:20230320T143000
DTSTAMP:20260423T061319
CREATED:20230302T160751Z
LAST-MODIFIED:20230302T160751Z
UID:15492-1679322600-1679322600@eglise-montargis.fr
SUMMARY:Lecture partagée des actes des apôtres
DESCRIPTION:
URL:https://eglise-montargis.fr/evenement/lecture-partagee-des-actes-des-apotres-7/
LOCATION:Presbytère de Ladon
END:VEVENT
BEGIN:VEVENT
DTSTART;TZID=Europe/Paris:20230321T143000
DTEND;TZID=Europe/Paris:20230321T143000
DTSTAMP:20260423T061319
CREATED:20230302T160830Z
LAST-MODIFIED:20230302T160830Z
UID:15494-1679409000-1679409000@eglise-montargis.fr
SUMMARY:Lecture partagée des actes des apôtres
DESCRIPTION:
URL:https://eglise-montargis.fr/evenement/lecture-partagee-des-actes-des-apotres-8/
LOCATION:Presbytère de Ladon
END:VEVENT
BEGIN:VEVENT
DTSTART;TZID=Europe/Paris:20230324T183000
DTEND;TZID=Europe/Paris:20230324T183000
DTSTAMP:20260423T061319
CREATED:20230224T155331Z
LAST-MODIFIED:20230224T155331Z
UID:15446-1679682600-1679682600@eglise-montargis.fr
SUMMARY:Chemin de croix
DESCRIPTION:
URL:https://eglise-montargis.fr/evenement/chemin-de-croix-8/
LOCATION:église de chalette
END:VEVENT
BEGIN:VEVENT
DTSTART;TZID=Europe/Paris:20230325T090000
DTEND;TZID=Europe/Paris:20230325T120000
DTSTAMP:20260423T061319
CREATED:20230224T155047Z
LAST-MODIFIED:20230224T155047Z
UID:15438-1679734800-1679745600@eglise-montargis.fr
SUMMARY:Matinée de réconciliation
DESCRIPTION:
URL:https://eglise-montargis.fr/evenement/matinee-de-reconciliation-2/
LOCATION:Eglise Sainte-Madeleine\, Rue Triqueti\, Montargis\, 45200\, France
END:VEVENT
BEGIN:VEVENT
DTSTART;TZID=Europe/Paris:20230325T100000
DTEND;TZID=Europe/Paris:20230325T120000
DTSTAMP:20260423T061319
CREATED:20230302T161103Z
LAST-MODIFIED:20230302T161103Z
UID:15498-1679738400-1679745600@eglise-montargis.fr
SUMMARY:Éveil à la foi
DESCRIPTION:Pour les enfants de 3 à 7 ans \, groupe de Lombreuil
URL:https://eglise-montargis.fr/evenement/eveil-a-la-foi-31/
LOCATION:Lombreuil
END:VEVENT
BEGIN:VEVENT
DTSTART;TZID=Europe/Paris:20230330T183000
DTEND;TZID=Europe/Paris:20230330T193000
DTSTAMP:20260423T061319
CREATED:20230302T160922Z
LAST-MODIFIED:20230302T160922Z
UID:15496-1680201000-1680204600@eglise-montargis.fr
SUMMARY:Évangile selon St Luc
DESCRIPTION:
URL:https://eglise-montargis.fr/evenement/evangile-selon-st-luc-2/
LOCATION:église des closiers
END:VEVENT
BEGIN:VEVENT
DTSTART;TZID=Europe/Paris:20230331T183000
DTEND;TZID=Europe/Paris:20230331T183000
DTSTAMP:20260423T061319
CREATED:20230224T155359Z
LAST-MODIFIED:20230224T155359Z
UID:15448-1680287400-1680287400@eglise-montargis.fr
SUMMARY:Chemin de croix
DESCRIPTION:
URL:https://eglise-montargis.fr/evenement/chemin-de-croix-9/
LOCATION:église de chalette
END:VEVENT
END:VCALENDAR