BEGIN:VCALENDAR
VERSION:2.0
PRODID:-//Paroisses catholiques du Montargois - ECPv6.15.20//NONSGML v1.0//EN
CALSCALE:GREGORIAN
METHOD:PUBLISH
X-ORIGINAL-URL:https://eglise-montargis.fr
X-WR-CALDESC:Évènements pour Paroisses catholiques du Montargois
REFRESH-INTERVAL;VALUE=DURATION:PT1H
X-Robots-Tag:noindex
X-PUBLISHED-TTL:PT1H
BEGIN:VTIMEZONE
TZID:Europe/Paris
BEGIN:DAYLIGHT
TZOFFSETFROM:+0100
TZOFFSETTO:+0200
TZNAME:CEST
DTSTART:20220327T010000
END:DAYLIGHT
BEGIN:STANDARD
TZOFFSETFROM:+0200
TZOFFSETTO:+0100
TZNAME:CET
DTSTART:20221030T010000
END:STANDARD
BEGIN:DAYLIGHT
TZOFFSETFROM:+0100
TZOFFSETTO:+0200
TZNAME:CEST
DTSTART:20230326T010000
END:DAYLIGHT
BEGIN:STANDARD
TZOFFSETFROM:+0200
TZOFFSETTO:+0100
TZNAME:CET
DTSTART:20231029T010000
END:STANDARD
BEGIN:DAYLIGHT
TZOFFSETFROM:+0100
TZOFFSETTO:+0200
TZNAME:CEST
DTSTART:20240331T010000
END:DAYLIGHT
BEGIN:STANDARD
TZOFFSETFROM:+0200
TZOFFSETTO:+0100
TZNAME:CET
DTSTART:20241027T010000
END:STANDARD
END:VTIMEZONE
BEGIN:VEVENT
DTSTART;TZID=Europe/Paris:20230401T100000
DTEND;TZID=Europe/Paris:20230401T120000
DTSTAMP:20260423T051109
CREATED:20230302T161158Z
LAST-MODIFIED:20230302T161158Z
UID:15500-1680343200-1680350400@eglise-montargis.fr
SUMMARY:É veil à la foi
DESCRIPTION:Pour les enfants de 3 à 7 ans \, groupe de Montargis-Amilly
URL:https://eglise-montargis.fr/evenement/e-veil-a-la-foi/
LOCATION:24 rue Triqueti
END:VEVENT
BEGIN:VEVENT
DTSTART;TZID=Europe/Paris:20230409T040000
DTEND;TZID=Europe/Paris:20230409T091500
DTSTAMP:20260423T051109
CREATED:20230331T152613Z
LAST-MODIFIED:20230331T152613Z
UID:15552-1681012800-1681031700@eglise-montargis.fr
SUMMARY:Marche de Pâques
DESCRIPTION:Marche de Pâques - DIMANCHE 9 AVRIL 2023
URL:https://eglise-montargis.fr/evenement/marche-de-paques-2/
END:VEVENT
BEGIN:VEVENT
DTSTART;TZID=Europe/Paris:20230414T190000
DTEND;TZID=Europe/Paris:20230414T210000
DTSTAMP:20260423T051109
CREATED:20230302T161607Z
LAST-MODIFIED:20230302T161607Z
UID:15502-1681498800-1681506000@eglise-montargis.fr
SUMMARY:Évangile de St Matthieu
DESCRIPTION:Vous habitez dans le montargois ? Vous aimez découvrir les messages de l’Évangile ? L’équipe d’animation pastorale de Chalette vous invite à découvrir l’évangile de St Matthieu ( que nous écoutons cette année A). Nous serons guidés par le P. Marcel Anganga qui fera une présentation et nous aidera pour un temps d’échange fraternel
URL:https://eglise-montargis.fr/evenement/evangile-de-st-matthieu/
LOCATION:Presbytère de Chalette\, 45120
END:VEVENT
BEGIN:VEVENT
DTSTART;TZID=Europe/Paris:20230415T160000
DTEND;TZID=Europe/Paris:20230415T180000
DTSTAMP:20260423T051109
CREATED:20220827T151420Z
LAST-MODIFIED:20220827T154649Z
UID:12670-1681574400-1681581600@eglise-montargis.fr
SUMMARY:Rencontre Jésus au Cœur de nos Vies
DESCRIPTION:Christ est vraiment ressuscité ! Alléluia !!! \nCélébrons la Pâque et la Divine Miséricorde 🙂 \n\n\n\n\n16h-17h : accueil – louange – adoration – Parole – prière des frères et sœurs\n17h-17h45 : groupes fraternels (groupes de parole\, de partage ou d’adoration)\n17h45-18h : action de grâce – Notre Père
URL:https://eglise-montargis.fr/evenement/rencontre-jesus-au-coeur-de-nos-vies-8/
LOCATION:Eglise Ste Madeleine\, 22 rue Triqueti\, Montargis\, 45200
CATEGORIES:agenda
ORGANIZER;CN="Jesus au Coeur de nos Vies":MAILTO:jesusaucoeurdenosvies@gmail.com
END:VEVENT
BEGIN:VEVENT
DTSTART;TZID=Europe/Paris:20230416T153000
DTEND;TZID=Europe/Paris:20230416T153000
DTSTAMP:20260423T051109
CREATED:20230405T130609Z
LAST-MODIFIED:20230405T130609Z
UID:15574-1681659000-1681659000@eglise-montargis.fr
SUMMARY:ordination diaconale
DESCRIPTION:Éric Didieux sera ordonné diacre à Gien 
URL:https://eglise-montargis.fr/evenement/ordination-diaconale-2/
LOCATION:église de Gien
END:VEVENT
BEGIN:VEVENT
DTSTART;VALUE=DATE:20230428
DTEND;VALUE=DATE:20230502
DTSTAMP:20260423T051109
CREATED:20230428T171919Z
LAST-MODIFIED:20230428T171919Z
UID:15640-1682640000-1682985599@eglise-montargis.fr
SUMMARY:Fêtes Johanniques
DESCRIPTION:
URL:https://eglise-montargis.fr/evenement/fetes-johanniques/
LOCATION:Centre ville Orléans
END:VEVENT
BEGIN:VEVENT
DTSTART;TZID=Europe/Paris:20230429T080000
DTEND;TZID=Europe/Paris:20230429T160000
DTSTAMP:20260423T051109
CREATED:20230405T130400Z
LAST-MODIFIED:20230428T163046Z
UID:15571-1682755200-1682784000@eglise-montargis.fr
SUMMARY:Brocante du Secours Catholique et de l'Église Protestante Unie
DESCRIPTION:Annulée
URL:https://eglise-montargis.fr/evenement/brocante-du-secours-catholique-et-de-leglise-protestante-unie/
LOCATION:à côté de l’église de Vésines
END:VEVENT
END:VCALENDAR