BEGIN:VCALENDAR
VERSION:2.0
PRODID:-//Paroisses catholiques du Montargois - ECPv6.15.20//NONSGML v1.0//EN
CALSCALE:GREGORIAN
METHOD:PUBLISH
X-ORIGINAL-URL:https://eglise-montargis.fr
X-WR-CALDESC:Évènements pour Paroisses catholiques du Montargois
REFRESH-INTERVAL;VALUE=DURATION:PT1H
X-Robots-Tag:noindex
X-PUBLISHED-TTL:PT1H
BEGIN:VTIMEZONE
TZID:Europe/Paris
BEGIN:DAYLIGHT
TZOFFSETFROM:+0100
TZOFFSETTO:+0200
TZNAME:CEST
DTSTART:20220327T010000
END:DAYLIGHT
BEGIN:STANDARD
TZOFFSETFROM:+0200
TZOFFSETTO:+0100
TZNAME:CET
DTSTART:20221030T010000
END:STANDARD
BEGIN:DAYLIGHT
TZOFFSETFROM:+0100
TZOFFSETTO:+0200
TZNAME:CEST
DTSTART:20230326T010000
END:DAYLIGHT
BEGIN:STANDARD
TZOFFSETFROM:+0200
TZOFFSETTO:+0100
TZNAME:CET
DTSTART:20231029T010000
END:STANDARD
BEGIN:DAYLIGHT
TZOFFSETFROM:+0100
TZOFFSETTO:+0200
TZNAME:CEST
DTSTART:20240331T010000
END:DAYLIGHT
BEGIN:STANDARD
TZOFFSETFROM:+0200
TZOFFSETTO:+0100
TZNAME:CET
DTSTART:20241027T010000
END:STANDARD
END:VTIMEZONE
BEGIN:VEVENT
DTSTART;VALUE=DATE:20230428
DTEND;VALUE=DATE:20230502
DTSTAMP:20260423T035610
CREATED:20230428T171919Z
LAST-MODIFIED:20230428T171919Z
UID:15640-1682640000-1682985599@eglise-montargis.fr
SUMMARY:Fêtes Johanniques
DESCRIPTION:
URL:https://eglise-montargis.fr/evenement/fetes-johanniques/
LOCATION:Centre ville Orléans
END:VEVENT
BEGIN:VEVENT
DTSTART;TZID=Europe/Paris:20230501T100000
DTEND;TZID=Europe/Paris:20230501T100000
DTSTAMP:20260423T035610
CREATED:20230428T171033Z
LAST-MODIFIED:20230428T171033Z
UID:15628-1682935200-1682935200@eglise-montargis.fr
SUMMARY:Chapelet à St Joseph
DESCRIPTION:
URL:https://eglise-montargis.fr/evenement/chapelet-a-st-joseph/
LOCATION:église de Pannes
END:VEVENT
BEGIN:VEVENT
DTSTART;TZID=Europe/Paris:20230506T203000
DTEND;TZID=Europe/Paris:20230506T203000
DTSTAMP:20260423T035610
CREATED:20230428T171726Z
LAST-MODIFIED:20230428T171726Z
UID:15636-1683405000-1683405000@eglise-montargis.fr
SUMMARY:Concert à Ste Madeleine
DESCRIPTION:chorales de Ferrières\, Dordives et Paucourt Entrée libre\, Quête au profit des œuvres pour la jeunesse montargoise.
URL:https://eglise-montargis.fr/evenement/concert-a-ste-madeleine/
LOCATION:Eglise Sainte-Madeleine\, Rue Triqueti\, Montargis\, 45200\, France
END:VEVENT
BEGIN:VEVENT
DTSTART;TZID=Europe/Paris:20230513T160000
DTEND;TZID=Europe/Paris:20230513T180000
DTSTAMP:20260423T035610
CREATED:20220827T151650Z
LAST-MODIFIED:20220827T152429Z
UID:12672-1683993600-1684000800@eglise-montargis.fr
SUMMARY:Rencontre Jésus au Cœur de nos Vies
DESCRIPTION:Prions ensemble\, en cénacle autour de Jésus et de Marie\, en cette fête de Notre Dame de Fatima. \n\n16h-17h : accueil – louange – adoration – Parole – prière des frères et sœurs\n17h-17h45 : groupes fraternels (groupes de parole\, de partage ou d’adoration)\n17h45-18h : action de grâce – Notre Père
URL:https://eglise-montargis.fr/evenement/rencontre-jesus-au-coeur-de-nos-vies-9/
LOCATION:Eglise Ste Madeleine\, 22 rue Triqueti\, Montargis\, 45200
CATEGORIES:agenda
ORGANIZER;CN="Jesus au Coeur de nos Vies":MAILTO:jesusaucoeurdenosvies@gmail.com
END:VEVENT
BEGIN:VEVENT
DTSTART;TZID=Europe/Paris:20230514T094500
DTEND;TZID=Europe/Paris:20230514T113000
DTSTAMP:20260423T035610
CREATED:20230428T170935Z
LAST-MODIFIED:20230428T170935Z
UID:15626-1684057500-1684063800@eglise-montargis.fr
SUMMARY:Fête de Fatima
DESCRIPTION:9h45 chapelet suivi de la messe à 10h30
URL:https://eglise-montargis.fr/evenement/fete-de-fatima/
LOCATION:église de Vésines
END:VEVENT
BEGIN:VEVENT
DTSTART;TZID=Europe/Paris:20230528T150000
DTEND;TZID=Europe/Paris:20230528T150000
DTSTAMP:20260423T035610
CREATED:20230428T171821Z
LAST-MODIFIED:20230428T171821Z
UID:15638-1685286000-1685286000@eglise-montargis.fr
SUMMARY:Confirmation d'adultes
DESCRIPTION:
URL:https://eglise-montargis.fr/evenement/confirmation-dadultes-2/
LOCATION:Orléans
END:VEVENT
END:VCALENDAR