BEGIN:VCALENDAR
VERSION:2.0
PRODID:-//Paroisses catholiques du Montargois - ECPv6.15.20//NONSGML v1.0//EN
CALSCALE:GREGORIAN
METHOD:PUBLISH
X-ORIGINAL-URL:https://eglise-montargis.fr
X-WR-CALDESC:Évènements pour Paroisses catholiques du Montargois
REFRESH-INTERVAL;VALUE=DURATION:PT1H
X-Robots-Tag:noindex
X-PUBLISHED-TTL:PT1H
BEGIN:VTIMEZONE
TZID:Europe/Paris
BEGIN:DAYLIGHT
TZOFFSETFROM:+0100
TZOFFSETTO:+0200
TZNAME:CEST
DTSTART:20220327T010000
END:DAYLIGHT
BEGIN:STANDARD
TZOFFSETFROM:+0200
TZOFFSETTO:+0100
TZNAME:CET
DTSTART:20221030T010000
END:STANDARD
BEGIN:DAYLIGHT
TZOFFSETFROM:+0100
TZOFFSETTO:+0200
TZNAME:CEST
DTSTART:20230326T010000
END:DAYLIGHT
BEGIN:STANDARD
TZOFFSETFROM:+0200
TZOFFSETTO:+0100
TZNAME:CET
DTSTART:20231029T010000
END:STANDARD
BEGIN:DAYLIGHT
TZOFFSETFROM:+0100
TZOFFSETTO:+0200
TZNAME:CEST
DTSTART:20240331T010000
END:DAYLIGHT
BEGIN:STANDARD
TZOFFSETFROM:+0200
TZOFFSETTO:+0100
TZNAME:CET
DTSTART:20241027T010000
END:STANDARD
END:VTIMEZONE
BEGIN:VEVENT
DTSTART;TZID=Europe/Paris:20230603T100000
DTEND;TZID=Europe/Paris:20230603T120000
DTSTAMP:20260423T024504
CREATED:20230428T171154Z
LAST-MODIFIED:20230428T171154Z
UID:15630-1685786400-1685793600@eglise-montargis.fr
SUMMARY:Éveil à la foi groupe de Lombreuil
DESCRIPTION:
URL:https://eglise-montargis.fr/evenement/eveil-a-la-foi-groupe-de-lombreuil-2/
LOCATION:Lombreuil
END:VEVENT
BEGIN:VEVENT
DTSTART;TZID=Europe/Paris:20230610T100000
DTEND;TZID=Europe/Paris:20230610T120000
DTSTAMP:20260423T024504
CREATED:20230428T171251Z
LAST-MODIFIED:20230428T171251Z
UID:15632-1686391200-1686398400@eglise-montargis.fr
SUMMARY:Éveil à la foi groupe Montargis/Amilly
DESCRIPTION:
URL:https://eglise-montargis.fr/evenement/eveil-a-la-foi-groupe-montargis-amilly/
LOCATION:24 rue Triqueti
END:VEVENT
BEGIN:VEVENT
DTSTART;TZID=Europe/Paris:20230616T180000
DTEND;TZID=Europe/Paris:20230616T180000
DTSTAMP:20260423T024504
CREATED:20230613T094207Z
LAST-MODIFIED:20230613T094207Z
UID:15727-1686938400-1686938400@eglise-montargis.fr
SUMMARY:Assemblée générale des 2 associations paroissiales de Pannes et Villemandeur
DESCRIPTION:En vue de la fusion de ces 2 associations  \n  \nPot de l’amitié et repas partagé pour clôturer cette soirée 
URL:https://eglise-montargis.fr/evenement/assemblee-generale-des-2-associations-paroissiales-de-pannes-et-villemandeur/
LOCATION:salle paroissiale de Villemandeur\, 13 avenue de la Libération
END:VEVENT
BEGIN:VEVENT
DTSTART;TZID=Europe/Paris:20230617T160000
DTEND;TZID=Europe/Paris:20230617T180000
DTSTAMP:20260423T024504
CREATED:20220827T152755Z
LAST-MODIFIED:20220827T155206Z
UID:12674-1687017600-1687024800@eglise-montargis.fr
SUMMARY:Rencontre Jésus au Cœur de nos Vies
DESCRIPTION:Dernière ligne droite avant la trêve estivale ! Venez prier avec nous et faisons aussi connaissance.\nDurant ces rencontres\, nous prions ensemble\, de plusieurs manières différentes et complémentaires : la louange\, l’adoration eucharistique\, la prière des frères et sœurs\, l’accueil de la Parole de Dieu. \nNous accordons également une place centrale à un temps de partage fraternel qui permet de mieux se connaître\, témoigner de son cheminement personnel ou se soutenir mutuellement. \nCeux qui le souhaitent peuvent rester en adoration durant le partage fraternel. \n\n16h-17h : accueil – louange – adoration – Parole – prière des frères et sœurs\n17h-17h45 : groupes fraternels (groupes de parole\, de partage ou d’adoration)\n17h45-18h : action de grâce – Notre Père\n\n 
URL:https://eglise-montargis.fr/evenement/rencontre-jesus-au-coeur-de-nos-vies-10/
LOCATION:Eglise Ste Madeleine\, 22 rue Triqueti\, Montargis\, 45200
CATEGORIES:agenda
ORGANIZER;CN="Jesus au Coeur de nos Vies":MAILTO:jesusaucoeurdenosvies@gmail.com
END:VEVENT
BEGIN:VEVENT
DTSTART;TZID=Europe/Paris:20230624T200000
DTEND;TZID=Europe/Paris:20230624T220000
DTSTAMP:20260423T024504
CREATED:20230621T131242Z
LAST-MODIFIED:20230621T131410Z
UID:15752-1687636800-1687644000@eglise-montargis.fr
SUMMARY:Nuit des veilleurs 2023
DESCRIPTION:+ d’infos
URL:https://eglise-montargis.fr/evenement/nuit-des-veilleurs-2023/
LOCATION:Temple Renée de France
END:VEVENT
END:VCALENDAR