BEGIN:VCALENDAR
VERSION:2.0
PRODID:-//Paroisses catholiques du Montargois - ECPv6.15.20//NONSGML v1.0//EN
CALSCALE:GREGORIAN
METHOD:PUBLISH
X-ORIGINAL-URL:https://eglise-montargis.fr
X-WR-CALDESC:Évènements pour Paroisses catholiques du Montargois
REFRESH-INTERVAL;VALUE=DURATION:PT1H
X-Robots-Tag:noindex
X-PUBLISHED-TTL:PT1H
BEGIN:VTIMEZONE
TZID:Europe/Paris
BEGIN:DAYLIGHT
TZOFFSETFROM:+0100
TZOFFSETTO:+0200
TZNAME:CEST
DTSTART:20220327T010000
END:DAYLIGHT
BEGIN:STANDARD
TZOFFSETFROM:+0200
TZOFFSETTO:+0100
TZNAME:CET
DTSTART:20221030T010000
END:STANDARD
BEGIN:DAYLIGHT
TZOFFSETFROM:+0100
TZOFFSETTO:+0200
TZNAME:CEST
DTSTART:20230326T010000
END:DAYLIGHT
BEGIN:STANDARD
TZOFFSETFROM:+0200
TZOFFSETTO:+0100
TZNAME:CET
DTSTART:20231029T010000
END:STANDARD
BEGIN:DAYLIGHT
TZOFFSETFROM:+0100
TZOFFSETTO:+0200
TZNAME:CEST
DTSTART:20240331T010000
END:DAYLIGHT
BEGIN:STANDARD
TZOFFSETFROM:+0200
TZOFFSETTO:+0100
TZNAME:CET
DTSTART:20241027T010000
END:STANDARD
END:VTIMEZONE
BEGIN:VEVENT
DTSTART;TZID=Europe/Paris:20230826T150000
DTEND;TZID=Europe/Paris:20230826T150000
DTSTAMP:20260423T001754
CREATED:20230714T124356Z
LAST-MODIFIED:20230714T124437Z
UID:15862-1693062000-1693062000@eglise-montargis.fr
SUMMARY:Ciné débat  / Comice agricole
DESCRIPTION:Dans le cadre du Comice Agricole\, l’association Partage avec d’autres partenaires organisent un ciné débat à la salle Humbert Bajout le samedi 26 aout à 15 heures avec comme support le film de Marie -France Barrier “ le temps des arbres”
URL:https://eglise-montargis.fr/evenement/cine-debat-comice-agricole/
LOCATION:salle Humbert Bajout
ATTACH;FMTTYPE=application/pdf:https://eglise-montargis.fr/wp-content/uploads/2023/07/Comice-Affiche-Ciné-débat.pdf
END:VEVENT
END:VCALENDAR