BEGIN:VCALENDAR
VERSION:2.0
PRODID:-//Paroisses catholiques du Montargois - ECPv6.15.20//NONSGML v1.0//EN
CALSCALE:GREGORIAN
METHOD:PUBLISH
X-ORIGINAL-URL:https://eglise-montargis.fr
X-WR-CALDESC:Évènements pour Paroisses catholiques du Montargois
REFRESH-INTERVAL;VALUE=DURATION:PT1H
X-Robots-Tag:noindex
X-PUBLISHED-TTL:PT1H
BEGIN:VTIMEZONE
TZID:Europe/Paris
BEGIN:DAYLIGHT
TZOFFSETFROM:+0100
TZOFFSETTO:+0200
TZNAME:CEST
DTSTART:20220327T010000
END:DAYLIGHT
BEGIN:STANDARD
TZOFFSETFROM:+0200
TZOFFSETTO:+0100
TZNAME:CET
DTSTART:20221030T010000
END:STANDARD
BEGIN:DAYLIGHT
TZOFFSETFROM:+0100
TZOFFSETTO:+0200
TZNAME:CEST
DTSTART:20230326T010000
END:DAYLIGHT
BEGIN:STANDARD
TZOFFSETFROM:+0200
TZOFFSETTO:+0100
TZNAME:CET
DTSTART:20231029T010000
END:STANDARD
BEGIN:DAYLIGHT
TZOFFSETFROM:+0100
TZOFFSETTO:+0200
TZNAME:CEST
DTSTART:20240331T010000
END:DAYLIGHT
BEGIN:STANDARD
TZOFFSETFROM:+0200
TZOFFSETTO:+0100
TZNAME:CET
DTSTART:20241027T010000
END:STANDARD
END:VTIMEZONE
BEGIN:VEVENT
DTSTART;TZID=Europe/Paris:20230905T170000
DTEND;TZID=Europe/Paris:20230905T190000
DTSTAMP:20260422T231128
CREATED:20230704T081206Z
LAST-MODIFIED:20230704T081206Z
UID:15798-1693933200-1693940400@eglise-montargis.fr
SUMMARY:inscriptions KT Villemandeur
DESCRIPTION:
URL:https://eglise-montargis.fr/evenement/inscriptions-kt-villemandeur/
LOCATION:presbytère de Villemandeur
END:VEVENT
BEGIN:VEVENT
DTSTART;TZID=Europe/Paris:20230907T170000
DTEND;TZID=Europe/Paris:20230907T190000
DTSTAMP:20260422T231128
CREATED:20230704T081248Z
LAST-MODIFIED:20230704T081248Z
UID:15800-1694106000-1694113200@eglise-montargis.fr
SUMMARY:inscriptions KT Villemandeur
DESCRIPTION:
URL:https://eglise-montargis.fr/evenement/inscriptions-kt-villemandeur-2/
LOCATION:presbytère de Villemandeur
END:VEVENT
BEGIN:VEVENT
DTSTART;TZID=Europe/Paris:20230909T093000
DTEND;TZID=Europe/Paris:20230909T110000
DTSTAMP:20260422T231128
CREATED:20230704T081334Z
LAST-MODIFIED:20230704T081334Z
UID:15802-1694251800-1694257200@eglise-montargis.fr
SUMMARY:rentrée KT Villemandeur
DESCRIPTION:
URL:https://eglise-montargis.fr/evenement/rentree-kt-villemandeur/
LOCATION:salle paroissiale de Villemandeur\, 13 avenue de la Libération
END:VEVENT
BEGIN:VEVENT
DTSTART;TZID=Europe/Paris:20230909T100000
DTEND;TZID=Europe/Paris:20230909T120000
DTSTAMP:20260422T231128
CREATED:20230704T081714Z
LAST-MODIFIED:20230704T081714Z
UID:15806-1694253600-1694260800@eglise-montargis.fr
SUMMARY:Inscription KT Chalette-Vésines-Cepoy-Corquilleroy-Girolles
DESCRIPTION:
URL:https://eglise-montargis.fr/evenement/inscription-kt-chalette-vesines-cepoy-corquilleroy-girolles/
LOCATION:presbytère de Chalette 21 rue Marceau\, 21 rue Marceau\, Chalette\, 45120
END:VEVENT
BEGIN:VEVENT
DTSTART;TZID=Europe/Paris:20230910T090000
DTEND;TZID=Europe/Paris:20230910T090000
DTSTAMP:20260422T231128
CREATED:20230704T081833Z
LAST-MODIFIED:20230704T081833Z
UID:15809-1694336400-1694336400@eglise-montargis.fr
SUMMARY:Rentrée KT Chalette
DESCRIPTION:
URL:https://eglise-montargis.fr/evenement/rentree-kt-chalette/
LOCATION:Presbytère de Chalette\, 45120
END:VEVENT
BEGIN:VEVENT
DTSTART;TZID=Europe/Paris:20230914T150000
DTEND;TZID=Europe/Paris:20230914T150000
DTSTAMP:20260422T231128
CREATED:20230911T114541Z
LAST-MODIFIED:20230911T114600Z
UID:15962-1694703600-1694703600@eglise-montargis.fr
SUMMARY:Rencontre du groupe Montfortain
DESCRIPTION:ouvert à tous !
URL:https://eglise-montargis.fr/evenement/rencontre-du-groupe-montfortain-3/
LOCATION:presbytère de Villemandeur
END:VEVENT
BEGIN:VEVENT
DTSTART;VALUE=DATE:20230916
DTEND;VALUE=DATE:20230917
DTSTAMP:20260422T231128
CREATED:20230704T072343Z
LAST-MODIFIED:20230704T160420Z
UID:15785-1694822400-1694908799@eglise-montargis.fr
SUMMARY:Journée Marche \, Prières et rentrée paroissiale
DESCRIPTION:marche entre Chevillon et Lombreuil avec arrêts prières\, repas partagé à Lombreuil et jeux l’après-midi pour le secteur Lombreuil -Chevillon et Corbeilles-Ladon  \nProfitez-en pour inscrire vos enfants au catéchisme ou à l’aumônerie  \n  \nVenez nombreux ouvert à tous !
URL:https://eglise-montargis.fr/evenement/journee-marche-prieres-et-rentree-paroissiale/
ATTACH;FMTTYPE=image/png:https://eglise-montargis.fr/wp-content/uploads/2023/07/Capture-décran-2023-07-04-à-18.03.11.png
END:VEVENT
BEGIN:VEVENT
DTSTART;VALUE=DATE:20230916
DTEND;VALUE=DATE:20230917
DTSTAMP:20260422T231128
CREATED:20230704T081859Z
LAST-MODIFIED:20230704T081952Z
UID:15811-1694822400-1694908799@eglise-montargis.fr
SUMMARY:rentrée KT et aumônerie du  rural
DESCRIPTION:
URL:https://eglise-montargis.fr/evenement/rentree-kt-rural/
END:VEVENT
BEGIN:VEVENT
DTSTART;TZID=Europe/Paris:20230916T080000
DTEND;TZID=Europe/Paris:20230916T160000
DTSTAMP:20260422T231128
CREATED:20230911T115259Z
LAST-MODIFIED:20230911T115259Z
UID:15971-1694851200-1694880000@eglise-montargis.fr
SUMMARY:Brocante du secours catholique
DESCRIPTION:
URL:https://eglise-montargis.fr/evenement/brocante-du-secours-catholique-8/
LOCATION:église de Vésines
END:VEVENT
BEGIN:VEVENT
DTSTART;VALUE=DATE:20230923
DTEND;VALUE=DATE:20230924
DTSTAMP:20260422T231128
CREATED:20230428T171555Z
LAST-MODIFIED:20230428T171555Z
UID:15634-1695427200-1695513599@eglise-montargis.fr
SUMMARY:Spectacle Bernadette de Lourdes
DESCRIPTION:Rendez-vous place du patis 11h30 \, retour 18h \nSpectacle organisé par la paroisse de Chalette -Vésines \nenviron 75 euros par personne (trajet + spectacle) inscriptions au 06.33.51.64.89
URL:https://eglise-montargis.fr/evenement/spectacle-bernadette-de-lourdes/
LOCATION:Paris
END:VEVENT
BEGIN:VEVENT
DTSTART;VALUE=DATE:20230923
DTEND;VALUE=DATE:20230925
DTSTAMP:20260422T231128
CREATED:20230714T124713Z
LAST-MODIFIED:20230714T124713Z
UID:15866-1695427200-1695599999@eglise-montargis.fr
SUMMARY:Halte spirituelle
DESCRIPTION:
URL:https://eglise-montargis.fr/evenement/halte-spirituelle-3/
LOCATION:Lombreuil
ATTACH;FMTTYPE=application/pdf:https://eglise-montargis.fr/wp-content/uploads/2023/07/2023-09-inv-halte-spi-lombreuil-.pdf
END:VEVENT
BEGIN:VEVENT
DTSTART;TZID=Europe/Paris:20230924T090000
DTEND;TZID=Europe/Paris:20230924T090000
DTSTAMP:20260422T231128
CREATED:20230704T081447Z
LAST-MODIFIED:20230911T114343Z
UID:15804-1695546000-1695546000@eglise-montargis.fr
SUMMARY:Rentrée KT Montargis-Amilly-Paucourt-St Firmin
DESCRIPTION:rentrée et inscriptions: accueil \, petit déjeuner ( offert) et bénédiction des cartables  pendant la messe de 11h
URL:https://eglise-montargis.fr/evenement/rentree-kt-montargis-amilly-paucourt-st-firmin/
LOCATION:Presbytère de Montargis\, 22 rue Triqueti\, Montargis\, 45200\, France
END:VEVENT
END:VCALENDAR