BEGIN:VCALENDAR
VERSION:2.0
PRODID:-//Paroisses catholiques du Montargois - ECPv6.15.20//NONSGML v1.0//EN
CALSCALE:GREGORIAN
METHOD:PUBLISH
X-WR-CALNAME:Paroisses catholiques du Montargois
X-ORIGINAL-URL:https://eglise-montargis.fr
X-WR-CALDESC:Évènements pour Paroisses catholiques du Montargois
REFRESH-INTERVAL;VALUE=DURATION:PT1H
X-Robots-Tag:noindex
X-PUBLISHED-TTL:PT1H
BEGIN:VTIMEZONE
TZID:Europe/Paris
BEGIN:DAYLIGHT
TZOFFSETFROM:+0100
TZOFFSETTO:+0200
TZNAME:CEST
DTSTART:20220327T010000
END:DAYLIGHT
BEGIN:STANDARD
TZOFFSETFROM:+0200
TZOFFSETTO:+0100
TZNAME:CET
DTSTART:20221030T010000
END:STANDARD
BEGIN:DAYLIGHT
TZOFFSETFROM:+0100
TZOFFSETTO:+0200
TZNAME:CEST
DTSTART:20230326T010000
END:DAYLIGHT
BEGIN:STANDARD
TZOFFSETFROM:+0200
TZOFFSETTO:+0100
TZNAME:CET
DTSTART:20231029T010000
END:STANDARD
BEGIN:DAYLIGHT
TZOFFSETFROM:+0100
TZOFFSETTO:+0200
TZNAME:CEST
DTSTART:20240331T010000
END:DAYLIGHT
BEGIN:STANDARD
TZOFFSETFROM:+0200
TZOFFSETTO:+0100
TZNAME:CET
DTSTART:20241027T010000
END:STANDARD
END:VTIMEZONE
BEGIN:VEVENT
DTSTART;TZID=Europe/Paris:20231105T150000
DTEND;TZID=Europe/Paris:20231105T170000
DTSTAMP:20260422T203519
CREATED:20231104T190236Z
LAST-MODIFIED:20231104T190236Z
UID:16141-1699196400-1699203600@eglise-montargis.fr
SUMMARY:jeux de société de 8 à 108 ans !
DESCRIPTION:
URL:https://eglise-montargis.fr/evenement/jeux-de-societe-de-8-a-108-ans/
LOCATION:aumônerie de Montargis
END:VEVENT
BEGIN:VEVENT
DTSTART;TZID=Europe/Paris:20231109T150000
DTEND;TZID=Europe/Paris:20231109T150000
DTSTAMP:20260422T203519
CREATED:20231104T190356Z
LAST-MODIFIED:20231104T190356Z
UID:16143-1699542000-1699542000@eglise-montargis.fr
SUMMARY:Rencontre du groupe Montfortain
DESCRIPTION:Tous invités
URL:https://eglise-montargis.fr/evenement/rencontre-du-groupe-montfortain-4/
LOCATION:presbytère de Villemandeur
END:VEVENT
BEGIN:VEVENT
DTSTART;TZID=Europe/Paris:20231113T143000
DTEND;TZID=Europe/Paris:20231113T143000
DTSTAMP:20260422T203519
CREATED:20231104T185605Z
LAST-MODIFIED:20231104T185605Z
UID:16133-1699885800-1699885800@eglise-montargis.fr
SUMMARY:Découverte de l'ancien testament
DESCRIPTION:Lundi 13 novembre OU mardi 14 novembre\nrenseignements 02 38 95 63 47
URL:https://eglise-montargis.fr/evenement/decouverte-de-lancien-testament-3/
LOCATION:Presbytère de Ladon
END:VEVENT
BEGIN:VEVENT
DTSTART;TZID=Europe/Paris:20231114T143000
DTEND;TZID=Europe/Paris:20231114T143000
DTSTAMP:20260422T203519
CREATED:20231104T185651Z
LAST-MODIFIED:20231104T185651Z
UID:16135-1699972200-1699972200@eglise-montargis.fr
SUMMARY:Découverte de l'ancien testament
DESCRIPTION:
URL:https://eglise-montargis.fr/evenement/decouverte-de-lancien-testament-4/
LOCATION:Presbytère de Ladon
END:VEVENT
BEGIN:VEVENT
DTSTART;TZID=Europe/Paris:20231116T183000
DTEND;TZID=Europe/Paris:20231116T183000
DTSTAMP:20260422T203519
CREATED:20231104T185839Z
LAST-MODIFIED:20231104T185839Z
UID:16137-1700159400-1700159400@eglise-montargis.fr
SUMMARY:Évangile selon St Marc
DESCRIPTION:
URL:https://eglise-montargis.fr/evenement/evangile-selon-st-marc/
LOCATION:église des closiers
END:VEVENT
BEGIN:VEVENT
DTSTART;TZID=Europe/Paris:20231117T203000
DTEND;TZID=Europe/Paris:20231117T220000
DTSTAMP:20260422T203519
CREATED:20231104T190043Z
LAST-MODIFIED:20231104T190043Z
UID:16139-1700253000-1700258400@eglise-montargis.fr
SUMMARY:Soirée "Merci" action de grâce
DESCRIPTION:Tous les participants des maisonnées sont invités
URL:https://eglise-montargis.fr/evenement/soiree-merci-action-de-grace/
LOCATION:Presbytère de Montargis\, 22 rue Triqueti\, Montargis\, 45200\, France
END:VEVENT
BEGIN:VEVENT
DTSTART;TZID=Europe/Paris:20231118T120000
DTEND;TZID=Europe/Paris:20231118T120000
DTSTAMP:20260422T203519
CREATED:20231105T143845Z
LAST-MODIFIED:20231105T143845Z
UID:16147-1700308800-1700308800@eglise-montargis.fr
SUMMARY:Loto du secours catholique
DESCRIPTION:La Bouti’k vous invite à un repas convivial ouvert à tous . Loto gratuit pour les convives \, tirage après le dessert. Nombreux lots à découvrir sur place  \nRéservation obligatoire avant le 8 novembre à la Bouti’k ( rue des déportés\, route de Bordeaux 06 30 06 36 22) ou Suzanne Bouquet 06 86 06 12 77  \nLes personnes non inscrites ne seront pas acceptées  \nParticipation solidaire libre
URL:https://eglise-montargis.fr/evenement/loto-du-secours-catholique/
LOCATION:salle du gâtinais\, rue du chateau\, Corbeilles
END:VEVENT
END:VCALENDAR