BEGIN:VCALENDAR
VERSION:2.0
PRODID:-//Paroisses catholiques du Montargois - ECPv6.15.20//NONSGML v1.0//EN
CALSCALE:GREGORIAN
METHOD:PUBLISH
X-ORIGINAL-URL:https://eglise-montargis.fr
X-WR-CALDESC:Évènements pour Paroisses catholiques du Montargois
REFRESH-INTERVAL;VALUE=DURATION:PT1H
X-Robots-Tag:noindex
X-PUBLISHED-TTL:PT1H
BEGIN:VTIMEZONE
TZID:Europe/Paris
BEGIN:DAYLIGHT
TZOFFSETFROM:+0100
TZOFFSETTO:+0200
TZNAME:CEST
DTSTART:20230326T010000
END:DAYLIGHT
BEGIN:STANDARD
TZOFFSETFROM:+0200
TZOFFSETTO:+0100
TZNAME:CET
DTSTART:20231029T010000
END:STANDARD
BEGIN:DAYLIGHT
TZOFFSETFROM:+0100
TZOFFSETTO:+0200
TZNAME:CEST
DTSTART:20240331T010000
END:DAYLIGHT
BEGIN:STANDARD
TZOFFSETFROM:+0200
TZOFFSETTO:+0100
TZNAME:CET
DTSTART:20241027T010000
END:STANDARD
BEGIN:DAYLIGHT
TZOFFSETFROM:+0100
TZOFFSETTO:+0200
TZNAME:CEST
DTSTART:20250330T010000
END:DAYLIGHT
BEGIN:STANDARD
TZOFFSETFROM:+0200
TZOFFSETTO:+0100
TZNAME:CET
DTSTART:20251026T010000
END:STANDARD
END:VTIMEZONE
BEGIN:VEVENT
DTSTART;TZID=Europe/Paris:20240203T100000
DTEND;TZID=Europe/Paris:20240203T120000
DTSTAMP:20260422T164308
CREATED:20240122T220359Z
LAST-MODIFIED:20240122T220359Z
UID:16327-1706954400-1706961600@eglise-montargis.fr
SUMMARY:Éveil à la foi
DESCRIPTION:pour les enfants de 3 à 7 ans  \nRenseignements Myriam 06 84 15 59 07 
URL:https://eglise-montargis.fr/evenement/eveil-a-la-foi-35/
LOCATION:salle st Martin ( face à la sacristie d’Amilly)
END:VEVENT
BEGIN:VEVENT
DTSTART;TZID=Europe/Paris:20240209T190000
DTEND;TZID=Europe/Paris:20240209T190000
DTSTAMP:20260422T164308
CREATED:20240122T220147Z
LAST-MODIFIED:20240122T220147Z
UID:16325-1707505200-1707505200@eglise-montargis.fr
SUMMARY:Évangile de Marc
DESCRIPTION:Venez découvrir les particularités de l’évangile de Marc avec le P. Marcel Anganga
URL:https://eglise-montargis.fr/evenement/evangile-de-marc/
LOCATION:Presbytère de Chalette\, 45120
END:VEVENT
BEGIN:VEVENT
DTSTART;TZID=Europe/Paris:20240210T100000
DTEND;TZID=Europe/Paris:20240210T120000
DTSTAMP:20260422T164308
CREATED:20240122T220522Z
LAST-MODIFIED:20240122T220522Z
UID:16329-1707559200-1707566400@eglise-montargis.fr
SUMMARY:Éveil à la foi
DESCRIPTION:pour les enfants de 3 à 7 ans  \nRenseignements Myriam 06 84 15 59 07
URL:https://eglise-montargis.fr/evenement/eveil-a-la-foi-36/
LOCATION:Lombreuil
END:VEVENT
BEGIN:VEVENT
DTSTART;TZID=Europe/Paris:20240211T103000
DTEND;TZID=Europe/Paris:20240211T120000
DTSTAMP:20260422T164308
CREATED:20240213T142500Z
LAST-MODIFIED:20240213T142500Z
UID:16380-1707647400-1707652800@eglise-montargis.fr
SUMMARY:Sacrement des malades
DESCRIPTION:
URL:https://eglise-montargis.fr/evenement/sacrement-des-malades-6/
LOCATION:Eglise de Châlette bourg
END:VEVENT
BEGIN:VEVENT
DTSTART;TZID=Europe/Paris:20240217T160000
DTEND;TZID=Europe/Paris:20240217T180000
DTSTAMP:20260422T164308
CREATED:20240213T145538Z
LAST-MODIFIED:20240213T145538Z
UID:16398-1708185600-1708192800@eglise-montargis.fr
SUMMARY:Jésus au coeur de nos vies
DESCRIPTION:Prière de louanges 
URL:https://eglise-montargis.fr/evenement/jesus-au-coeur-de-nos-vies-10/
LOCATION:église d’Amilly\, Amilly
END:VEVENT
BEGIN:VEVENT
DTSTART;TZID=Europe/Paris:20240218T110000
DTEND;TZID=Europe/Paris:20240218T123000
DTSTAMP:20260422T164308
CREATED:20240213T142607Z
LAST-MODIFIED:20240213T142607Z
UID:16383-1708254000-1708259400@eglise-montargis.fr
SUMMARY:Sacrement des malades
DESCRIPTION:
URL:https://eglise-montargis.fr/evenement/sacrement-des-malades-7/
LOCATION:Eglise Sainte-Madeleine\, Rue Triqueti\, Montargis\, 45200\, France
END:VEVENT
BEGIN:VEVENT
DTSTART;TZID=Europe/Paris:20240218T150000
DTEND;TZID=Europe/Paris:20240218T170000
DTSTAMP:20260422T164308
CREATED:20240213T143334Z
LAST-MODIFIED:20240213T143334Z
UID:16391-1708268400-1708275600@eglise-montargis.fr
SUMMARY:Jeux de société
DESCRIPTION:Pour les 8 à 108 ans 
URL:https://eglise-montargis.fr/evenement/jeux-de-societe/
LOCATION:aumônerie de Montargis
END:VEVENT
BEGIN:VEVENT
DTSTART;TZID=Europe/Paris:20240229T140000
DTEND;TZID=Europe/Paris:20240229T170000
DTSTAMP:20260422T164308
CREATED:20240213T143140Z
LAST-MODIFIED:20240213T143140Z
UID:16387-1709215200-1709226000@eglise-montargis.fr
SUMMARY:Chorale des enfants
DESCRIPTION:Chants\, jeux et goûter  \nInscription préalable par SMS au 06 89 48 07 19 \nContacts: Olivier\, Karine et Julie
URL:https://eglise-montargis.fr/evenement/chorale-des-enfants/
LOCATION:Presbytère de Montargis\, 22 rue Triqueti\, Montargis\, 45200\, France
END:VEVENT
END:VCALENDAR