BEGIN:VCALENDAR
VERSION:2.0
PRODID:-//Paroisses catholiques du Montargois - ECPv6.15.20//NONSGML v1.0//EN
CALSCALE:GREGORIAN
METHOD:PUBLISH
X-ORIGINAL-URL:https://eglise-montargis.fr
X-WR-CALDESC:Évènements pour Paroisses catholiques du Montargois
REFRESH-INTERVAL;VALUE=DURATION:PT1H
X-Robots-Tag:noindex
X-PUBLISHED-TTL:PT1H
BEGIN:VTIMEZONE
TZID:Europe/Paris
BEGIN:DAYLIGHT
TZOFFSETFROM:+0100
TZOFFSETTO:+0200
TZNAME:CEST
DTSTART:20230326T010000
END:DAYLIGHT
BEGIN:STANDARD
TZOFFSETFROM:+0200
TZOFFSETTO:+0100
TZNAME:CET
DTSTART:20231029T010000
END:STANDARD
BEGIN:DAYLIGHT
TZOFFSETFROM:+0100
TZOFFSETTO:+0200
TZNAME:CEST
DTSTART:20240331T010000
END:DAYLIGHT
BEGIN:STANDARD
TZOFFSETFROM:+0200
TZOFFSETTO:+0100
TZNAME:CET
DTSTART:20241027T010000
END:STANDARD
BEGIN:DAYLIGHT
TZOFFSETFROM:+0100
TZOFFSETTO:+0200
TZNAME:CEST
DTSTART:20250330T010000
END:DAYLIGHT
BEGIN:STANDARD
TZOFFSETFROM:+0200
TZOFFSETTO:+0100
TZNAME:CET
DTSTART:20251026T010000
END:STANDARD
END:VTIMEZONE
BEGIN:VEVENT
DTSTART;TZID=Europe/Paris:20240729T080000
DTEND;TZID=Europe/Paris:20240804T170000
DTSTAMP:20260422T082424
CREATED:20240426T092139Z
LAST-MODIFIED:20240426T092139Z
UID:16759-1722240000-1722790800@eglise-montargis.fr
SUMMARY:Pèlerinage à Lourdes de l'HDO
DESCRIPTION:
URL:https://eglise-montargis.fr/evenement/pelerinage-a-lourdes-de-lhdo/
END:VEVENT
BEGIN:VEVENT
DTSTART;TZID=Europe/Paris:20240827T090000
DTEND;TZID=Europe/Paris:20240827T170000
DTSTAMP:20260422T082424
CREATED:20240706T133449Z
LAST-MODIFIED:20240706T133449Z
UID:16983-1724749200-1724778000@eglise-montargis.fr
SUMMARY:inscription catéchisme Chalette -Corquilleroy-Cepoy-Girolles
DESCRIPTION:Selon les horaires d’ouverture du presbytère \, à partir du 27 août
URL:https://eglise-montargis.fr/evenement/inscription-catechisme-chalette-corquilleroy-cepoy-girolles/
LOCATION:Presbytère de Montargis\, 22 rue Triqueti\, Montargis\, 45200\, France
END:VEVENT
END:VCALENDAR