BEGIN:VCALENDAR
VERSION:2.0
PRODID:-//Paroisses catholiques du Montargois - ECPv6.15.20//NONSGML v1.0//EN
CALSCALE:GREGORIAN
METHOD:PUBLISH
X-ORIGINAL-URL:https://eglise-montargis.fr
X-WR-CALDESC:Évènements pour Paroisses catholiques du Montargois
REFRESH-INTERVAL;VALUE=DURATION:PT1H
X-Robots-Tag:noindex
X-PUBLISHED-TTL:PT1H
BEGIN:VTIMEZONE
TZID:Europe/Paris
BEGIN:DAYLIGHT
TZOFFSETFROM:+0100
TZOFFSETTO:+0200
TZNAME:CEST
DTSTART:20230326T010000
END:DAYLIGHT
BEGIN:STANDARD
TZOFFSETFROM:+0200
TZOFFSETTO:+0100
TZNAME:CET
DTSTART:20231029T010000
END:STANDARD
BEGIN:DAYLIGHT
TZOFFSETFROM:+0100
TZOFFSETTO:+0200
TZNAME:CEST
DTSTART:20240331T010000
END:DAYLIGHT
BEGIN:STANDARD
TZOFFSETFROM:+0200
TZOFFSETTO:+0100
TZNAME:CET
DTSTART:20241027T010000
END:STANDARD
BEGIN:DAYLIGHT
TZOFFSETFROM:+0100
TZOFFSETTO:+0200
TZNAME:CEST
DTSTART:20250330T010000
END:DAYLIGHT
BEGIN:STANDARD
TZOFFSETFROM:+0200
TZOFFSETTO:+0100
TZNAME:CET
DTSTART:20251026T010000
END:STANDARD
END:VTIMEZONE
BEGIN:VEVENT
DTSTART;TZID=Europe/Paris:20241207T100000
DTEND;TZID=Europe/Paris:20241207T120000
DTSTAMP:20260422T024609
CREATED:20240904T114855Z
LAST-MODIFIED:20240904T114855Z
UID:17106-1733565600-1733572800@eglise-montargis.fr
SUMMARY:Éveil à la foi (3/7 ans)
DESCRIPTION:pour Montargis agglo
URL:https://eglise-montargis.fr/evenement/eveil-a-la-foi-3-7-ans-4/
LOCATION:Amilly ou Montargis
ATTACH;FMTTYPE=image/png:https://eglise-montargis.fr/wp-content/uploads/2024/09/Capture-décran-2024-09-04-à-09.55.24.png
END:VEVENT
BEGIN:VEVENT
DTSTART;TZID=Europe/Paris:20241207T160000
DTEND;TZID=Europe/Paris:20241207T170000
DTSTAMP:20260422T024609
CREATED:20241205T154138Z
LAST-MODIFIED:20241205T154138Z
UID:17402-1733587200-1733590800@eglise-montargis.fr
SUMMARY:Jésus au coeur de nos vies
DESCRIPTION:Groupe de louange
URL:https://eglise-montargis.fr/evenement/jesus-au-coeur-de-nos-vies-21/
LOCATION:Eglise Sainte-Madeleine\, Rue Triqueti\, Montargis\, 45200\, France
END:VEVENT
BEGIN:VEVENT
DTSTART;TZID=Europe/Paris:20241207T203000
DTEND;TZID=Europe/Paris:20241207T203000
DTSTAMP:20260422T024609
CREATED:20241205T131552Z
LAST-MODIFIED:20241205T153416Z
UID:17391-1733603400-1733603400@eglise-montargis.fr
SUMMARY:concert de Noël
DESCRIPTION:chorale musique au loing
URL:https://eglise-montargis.fr/evenement/concert-de-noel-4/
LOCATION:église d’Amilly
END:VEVENT
BEGIN:VEVENT
DTSTART;TZID=Europe/Paris:20241208T150000
DTEND;TZID=Europe/Paris:20241208T170000
DTSTAMP:20260422T024609
CREATED:20241205T131225Z
LAST-MODIFIED:20241205T131225Z
UID:17389-1733670000-1733677200@eglise-montargis.fr
SUMMARY:Après-midi jeux de société
DESCRIPTION:
URL:https://eglise-montargis.fr/evenement/apres-midi-jeux-de-societe-3/
LOCATION:à l’aumonerie  \, presbytère de Montargis
END:VEVENT
BEGIN:VEVENT
DTSTART;TZID=Europe/Paris:20241208T180000
DTEND;TZID=Europe/Paris:20241208T180000
DTSTAMP:20260422T024609
CREATED:20241205T153507Z
LAST-MODIFIED:20241205T153507Z
UID:17394-1733680800-1733680800@eglise-montargis.fr
SUMMARY:concert de Noël
DESCRIPTION:
URL:https://eglise-montargis.fr/evenement/concert-de-noel-5/
LOCATION:église St Firmin des Vignes
END:VEVENT
BEGIN:VEVENT
DTSTART;TZID=Europe/Paris:20241214T150000
DTEND;TZID=Europe/Paris:20241214T170000
DTSTAMP:20260422T024609
CREATED:20241204T083557Z
LAST-MODIFIED:20241204T083622Z
UID:17377-1734188400-1734195600@eglise-montargis.fr
SUMMARY:Assemblée générale des amis de ste Madeleine
DESCRIPTION:Association des Amis de l’église Sainte Madeleine Assemblée générale ouverte à tous samedi 14 décembre 2023 à 15h\, presbytère de Montargis nos engagements et services : visites guidées de l’église et accueil des visiteurs\, sauvegarde et conservation du mobilier liturgique et mise en valeur du patrimoine suivi des travaux et aménagement. Rejoignez l’association ! laurent.bernard45200@orange.fr ou 02 38 93 86 41
URL:https://eglise-montargis.fr/evenement/assemblee-generale-des-amis-de-ste-madeleine/
LOCATION:Eglise Sainte-Madeleine\, Rue Triqueti\, Montargis\, 45200\, France
END:VEVENT
BEGIN:VEVENT
DTSTART;TZID=Europe/Paris:20241215T150000
DTEND;TZID=Europe/Paris:20241215T150000
DTSTAMP:20260422T024609
CREATED:20241205T153617Z
LAST-MODIFIED:20241205T153617Z
UID:17396-1734274800-1734274800@eglise-montargis.fr
SUMMARY:concert de Noël
DESCRIPTION:Chantons Noël ensemble 
URL:https://eglise-montargis.fr/evenement/concert-de-noel-6/
LOCATION:église de Cepoy
END:VEVENT
BEGIN:VEVENT
DTSTART;TZID=Europe/Paris:20241215T150000
DTEND;TZID=Europe/Paris:20241215T160000
DTSTAMP:20260422T024609
CREATED:20241204T084319Z
LAST-MODIFIED:20241204T084319Z
UID:17387-1734274800-1734278400@eglise-montargis.fr
SUMMARY:Lumière der Bethléem
DESCRIPTION:
URL:https://eglise-montargis.fr/evenement/lumiere-der-bethleem/
LOCATION:Eglise Sainte-Madeleine\, Rue Triqueti\, Montargis\, 45200\, France
END:VEVENT
BEGIN:VEVENT
DTSTART;TZID=Europe/Paris:20241217T200000
DTEND;TZID=Europe/Paris:20241217T200000
DTSTAMP:20260422T024609
CREATED:20241205T153700Z
LAST-MODIFIED:20241205T153700Z
UID:17398-1734465600-1734465600@eglise-montargis.fr
SUMMARY:concert de Noël
DESCRIPTION:
URL:https://eglise-montargis.fr/evenement/concert-de-noel-7/
LOCATION:église sainte Madeleine
END:VEVENT
BEGIN:VEVENT
DTSTART;TZID=Europe/Paris:20241221T100000
DTEND;TZID=Europe/Paris:20241221T120000
DTSTAMP:20260422T024609
CREATED:20241205T153808Z
LAST-MODIFIED:20241205T153808Z
UID:17400-1734775200-1734782400@eglise-montargis.fr
SUMMARY:confessions de Noël
DESCRIPTION:
URL:https://eglise-montargis.fr/evenement/confessions-de-noel-2/
LOCATION:Eglise Sainte-Madeleine\, Rue Triqueti\, Montargis\, 45200\, France
END:VEVENT
BEGIN:VEVENT
DTSTART;TZID=Europe/Paris:20241221T160000
DTEND;TZID=Europe/Paris:20241221T170000
DTSTAMP:20260422T024609
CREATED:20241205T154223Z
LAST-MODIFIED:20241205T154223Z
UID:17404-1734796800-1734800400@eglise-montargis.fr
SUMMARY:Jésus au coeur de nos vies
DESCRIPTION:
URL:https://eglise-montargis.fr/evenement/jesus-au-coeur-de-nos-vies-22/
LOCATION:église St Firmin des Vignes
END:VEVENT
END:VCALENDAR